BEGIN:VCALENDAR
VERSION:2.0
PRODID:-//Cine Universitario del Uruguay - ECPv6.0.9//NONSGML v1.0//EN
CALSCALE:GREGORIAN
METHOD:PUBLISH
X-WR-CALNAME:Cine Universitario del Uruguay
X-ORIGINAL-URL:https://cineuniversitariodeluruguay.org.uy
X-WR-CALDESC:Eventos para Cine Universitario del Uruguay
REFRESH-INTERVAL;VALUE=DURATION:PT1H
X-Robots-Tag:noindex
X-PUBLISHED-TTL:PT1H
BEGIN:VTIMEZONE
TZID:America/Montevideo
BEGIN:STANDARD
TZOFFSETFROM:-0300
TZOFFSETTO:-0300
TZNAME:-03
DTSTART:20260101T000000
END:STANDARD
END:VTIMEZONE
BEGIN:VEVENT
DTSTART;TZID=America/Montevideo:20260421T173000
DTEND;TZID=America/Montevideo:20260421T173000
DTSTAMP:20260421T065939
CREATED:20260331T050750Z
LAST-MODIFIED:20260403T222821Z
UID:10003086-1776792600-1776792600@cineuniversitariodeluruguay.org.uy
SUMMARY:Sed de mal
DESCRIPTION:Un agente de la policía de narcóticos (Heston) llega a la frontera mexicana con su esposa justo en el momento en que explota una bomba. Inmediatamente se hace cargo de la investigación contando con la colaboración de Quinlan (Welles)\, el jefe de la policía local\, muy conocido en la zona por sus métodos expeditivos y poco ortodoxos. Una lucha feroz se desata entre los dos hombres\, pues cada uno de ellos tiene pruebas contra el otro.
URL:https://cineuniversitariodeluruguay.org.uy/actividad/sed-de-mal/
ATTACH;FMTTYPE=image/jpeg:https://cineuniversitariodeluruguay.org.uy/wp-content/uploads/Seddemal_46133.jpeg
END:VEVENT
BEGIN:VEVENT
DTSTART;TZID=America/Montevideo:20260421T174500
DTEND;TZID=America/Montevideo:20260421T174500
DTSTAMP:20260421T065939
CREATED:20260331T050749Z
LAST-MODIFIED:20260403T223022Z
UID:10003085-1776793500-1776793500@cineuniversitariodeluruguay.org.uy
SUMMARY:Trenes rigurosamente vigilados
DESCRIPTION:Ambientada durante la ocupación Nazi de Checoslovaquia\, relata la vida de Milos\, un joven funcionario de los ferrocarriles checos que carga con el karma de una genealogía de perdedores y desgraciados que han escapado heroicamente al modelo de vida de un hombre responsable a base de trampas y otras artimañas. El colaboracionista director de los ferrocarriles del pueblo les encarga la misión de proteger ciertos trenes estratégicos\, indispensables para los planes de dominación del Führer en Europa central. Milos verá ahí la oportunidad de escapar a la maldición de los varones de su familia que no han sido nunca verdaderos hombres. Pero nuestro protagonista tiene un gran problema: no puede satisfacer los deseos de su novia Masa. De este modo\, no se puede concentrar en la misión que le han encargado\, ni podrá convencer al mundo de un valor desconocido hasta el momento en su familia.
URL:https://cineuniversitariodeluruguay.org.uy/actividad/trenes-rigurosamente-vigilados/
ATTACH;FMTTYPE=image/jpeg:https://cineuniversitariodeluruguay.org.uy/wp-content/uploads/Trenesrigurosamentevigilados_46133.jpeg
END:VEVENT
END:VCALENDAR