BEGIN:VCALENDAR
VERSION:2.0
PRODID:-//Cine Universitario del Uruguay - ECPv6.0.9//NONSGML v1.0//EN
CALSCALE:GREGORIAN
METHOD:PUBLISH
X-WR-CALNAME:Cine Universitario del Uruguay
X-ORIGINAL-URL:https://cineuniversitariodeluruguay.org.uy
X-WR-CALDESC:Eventos para Cine Universitario del Uruguay
REFRESH-INTERVAL;VALUE=DURATION:PT1H
X-Robots-Tag:noindex
X-PUBLISHED-TTL:PT1H
BEGIN:VTIMEZONE
TZID:America/Montevideo
BEGIN:STANDARD
TZOFFSETFROM:-0300
TZOFFSETTO:-0300
TZNAME:-03
DTSTART:20260101T000000
END:STANDARD
END:VTIMEZONE
BEGIN:VEVENT
DTSTART;TZID=America/Montevideo:20260422T173000
DTEND;TZID=America/Montevideo:20260422T173000
DTSTAMP:20260422T072821
CREATED:20260415T160543Z
LAST-MODIFIED:20260415T160543Z
UID:10003087-1776879000-1776879000@cineuniversitariodeluruguay.org.uy
SUMMARY:La leyenda del jinete sin cabeza
DESCRIPTION:Durante la Guerra de Secesión Americana\, un policía de Nueva York que utiliza avanzados métodos de investigación es enviado al pueblo de Sleepy Hollow para descubrir qué hay de verdad en la leyenda de un jinete sin cabeza que aterroriza a los habitantes del lugar. Una vez allí adopta la identidad de un profesor de escuela y se enamora de Katrina\, que mantiene relaciones con uno de los hombres más conocidos del pueblo. Realidad y ficción se darán la mano en el momento menos pensado.
URL:https://cineuniversitariodeluruguay.org.uy/actividad/la-leyenda-del-jinete-sin-cabeza-2-2/
ATTACH;FMTTYPE=image/jpeg:https://cineuniversitariodeluruguay.org.uy/wp-content/uploads/Laleyendadeljinetesincabeza_46134.jpeg
END:VEVENT
BEGIN:VEVENT
DTSTART;TZID=America/Montevideo:20260422T174500
DTEND;TZID=America/Montevideo:20260422T174500
DTSTAMP:20260422T072821
CREATED:20260415T160631Z
LAST-MODIFIED:20260415T160631Z
UID:10003089-1776879900-1776879900@cineuniversitariodeluruguay.org.uy
SUMMARY:Boxing Gym
DESCRIPTION:Durante 37 años de trabajo\, Wiseman se ha esforzado en construir una cosmogonía social a partir de las relaciones entre el individuo y las instituciones\, lo que le ha valido el merecido apodo de “el Honoré de Balzac norteamericano”. En esta obra\, analiza el entrenamiento boxístico en todas sus facetas: la respiración\, la danza y los diversos estados físicos\, mentales y espirituales que se cocinan a fuego lento en el gimnasio del Sr. Richard Lord\, en Austin (Texas).
URL:https://cineuniversitariodeluruguay.org.uy/actividad/boxing-gym-2/
ATTACH;FMTTYPE=image/jpeg:https://cineuniversitariodeluruguay.org.uy/wp-content/uploads/BoxingGym_46134.jpeg
END:VEVENT
BEGIN:VEVENT
DTSTART;TZID=America/Montevideo:20260422T200000
DTEND;TZID=America/Montevideo:20260422T200000
DTSTAMP:20260422T072821
CREATED:20260407T121719Z
LAST-MODIFIED:20260413T165759Z
UID:10003088-1776888000-1776888000@cineuniversitariodeluruguay.org.uy
SUMMARY:Buenos Fucking Aires
DESCRIPTION:Ana es una artista de veintitantos: da clases de arte para niñxs\, sale a fiestas\, y evita cruzarse con su ex. Una galerista la invita a hacer su primera muestra individual. Mientras la organiza contrarreloj\, conoce a una nueva chica.
URL:https://cineuniversitariodeluruguay.org.uy/actividad/buenos-fucking-aires-5/
ATTACH;FMTTYPE=image/png:https://cineuniversitariodeluruguay.org.uy/wp-content/uploads/BUENOS-FUCKING-AIRES-01.png
END:VEVENT
END:VCALENDAR