BEGIN:VCALENDAR
VERSION:2.0
PRODID:-//Cine Universitario del Uruguay - ECPv6.0.9//NONSGML v1.0//EN
CALSCALE:GREGORIAN
METHOD:PUBLISH
X-WR-CALNAME:Cine Universitario del Uruguay
X-ORIGINAL-URL:https://cineuniversitariodeluruguay.org.uy
X-WR-CALDESC:Eventos para Cine Universitario del Uruguay
REFRESH-INTERVAL;VALUE=DURATION:PT1H
X-Robots-Tag:noindex
X-PUBLISHED-TTL:PT1H
BEGIN:VTIMEZONE
TZID:America/Montevideo
BEGIN:STANDARD
TZOFFSETFROM:-0300
TZOFFSETTO:-0300
TZNAME:-03
DTSTART:20250101T000000
END:STANDARD
END:VTIMEZONE
BEGIN:VEVENT
DTSTART;TZID=America/Montevideo:20250622T201500
DTEND;TZID=America/Montevideo:20250622T201500
DTSTAMP:20260419T110141
CREATED:20250602T023128Z
LAST-MODIFIED:20250615T170803Z
UID:10002275-1750623300-1750623300@cineuniversitariodeluruguay.org.uy
SUMMARY:Burden of Dreams
DESCRIPTION:La selva amazónica\, 1979. El equipo de filmación de «Fitzcarraldo» (1982)\, película dirigida por el director alemán Werner Herzog\, pronto se topa con problemas relacionados con el casting\, las luchas tribales y varios accidentes\, entre muchos otros contratiempos; pero nada comparado con el arrastre de un enorme barco de vapor por una montaña\, al tiempo que Herzog abraza el camino de una cierta locura con tal de hacer realidad su visión.
URL:https://cineuniversitariodeluruguay.org.uy/actividad/burden-of-dreams/
ATTACH;FMTTYPE=image/jpeg:https://cineuniversitariodeluruguay.org.uy/wp-content/uploads/jun223.jpg
END:VEVENT
BEGIN:VEVENT
DTSTART;TZID=America/Montevideo:20250622T200000
DTEND;TZID=America/Montevideo:20250622T200000
DTSTAMP:20260419T110141
CREATED:20250602T023126Z
LAST-MODIFIED:20250615T170701Z
UID:10002273-1750622400-1750622400@cineuniversitariodeluruguay.org.uy
SUMMARY:Beau Travail
DESCRIPTION:Un sargento de la Legión Extranjera en Djibouti\, África\, siente atracción\, luego celos y\, finalmente\, odio por uno de sus soldados más sobresalientes. El enfrentamiento entre los dos hombres se convierte en la única guerra concreta para ellos\, sumergidos en el tedio del entrenamiento y los rituales cotidianos de los militares en tiempos de paz. Libre adaptación de la novela «Billy Budd»\, de Herman Melville.
URL:https://cineuniversitariodeluruguay.org.uy/actividad/beau-travail/
ATTACH;FMTTYPE=image/jpeg:https://cineuniversitariodeluruguay.org.uy/wp-content/uploads/jun222.jpg
END:VEVENT
BEGIN:VEVENT
DTSTART;TZID=America/Montevideo:20250622T174500
DTEND;TZID=America/Montevideo:20250622T174500
DTSTAMP:20260419T110141
CREATED:20250602T022930Z
LAST-MODIFIED:20250615T170415Z
UID:10002272-1750614300-1750614300@cineuniversitariodeluruguay.org.uy
SUMMARY:Mccullin
DESCRIPTION:Con acceso sin precedentes a los archivos del veterano fotógrafo de guerra del Times Don McCullin\, los directores Jacqui y David Morris entrelazan entrevistas sinceras\, imágenes de archivo de los conflictos que cubrió y una gran variedad de sus devastadoras fotografías.
URL:https://cineuniversitariodeluruguay.org.uy/actividad/mccullin/
ATTACH;FMTTYPE=image/jpeg:https://cineuniversitariodeluruguay.org.uy/wp-content/uploads/jun221.jpg
END:VEVENT
BEGIN:VEVENT
DTSTART;TZID=America/Montevideo:20250622T170000
DTEND;TZID=America/Montevideo:20250622T170000
DTSTAMP:20260419T110141
CREATED:20250602T023127Z
LAST-MODIFIED:20250615T170025Z
UID:10002274-1750611600-1750611600@cineuniversitariodeluruguay.org.uy
SUMMARY:Spartacus
DESCRIPTION:Hacia el año 75 antes de Cristo\, un esclavo llamado Espartaco es vendido a una escuela de gladiadores donde le adiestran para combatir en la arena de los circos romanos. Pronto\, Espartaco lidera una rebelión por el maltrato sufrido.
URL:https://cineuniversitariodeluruguay.org.uy/actividad/spartacus/
ATTACH;FMTTYPE=image/jpeg:https://cineuniversitariodeluruguay.org.uy/wp-content/uploads/jun22.jpg
END:VEVENT
BEGIN:VEVENT
DTSTART;TZID=America/Montevideo:20250621T200000
DTEND;TZID=America/Montevideo:20250621T200000
DTSTAMP:20260419T110141
CREATED:20250602T022928Z
LAST-MODIFIED:20250615T163535Z
UID:10002271-1750536000-1750536000@cineuniversitariodeluruguay.org.uy
SUMMARY:Crónica de un sueño
DESCRIPTION:Mariana vuelve a su país después de tres años. Vuelve a reencontrar su familia y vuelve también a votar. Después de la profunda crisis económica del año 2002\, el Uruguay se encuentra en vísperas de cambios. A través de la realidad cotidiana de una pequeña ciudad del interior y en la intimidad de una familia de militantes\, descubrimos un pueblo latinoamericano durante el mes anterior a un cambio político histórico: el primer triunfo de una fuerza de izquierda en Uruguay.
URL:https://cineuniversitariodeluruguay.org.uy/actividad/cronica-de-un-sueno/
ATTACH;FMTTYPE=image/jpeg:https://cineuniversitariodeluruguay.org.uy/wp-content/uploads/21.6.jpg
END:VEVENT
BEGIN:VEVENT
DTSTART;TZID=America/Montevideo:20250621T191500
DTEND;TZID=America/Montevideo:20250621T191500
DTSTAMP:20260419T110141
CREATED:20250602T022927Z
LAST-MODIFIED:20250610T215613Z
UID:10002270-1750533300-1750533300@cineuniversitariodeluruguay.org.uy
SUMMARY:Barry Lyndon
DESCRIPTION:Siglo XVIII. El joven Redmond Barry\, huérfano de padre\, se ha enamorado de su prima\, a la que también pretende el Capitán John Quin. El asunto se resuelve por medio de un duelo\, del que Redmond resulta vencedor. A continuación se va a Dublín y decide alistarse en el ejército inglés\, donde empieza a desarrollar sus extraordinarias habilidades para sobrevivir. Estando en Alemania\, se le presenta la posibilidad de desertar\, pero es capturado por el Capitán Potzdorf\, un oficial prusiano que le ofrece la posibilidad de unirse a sus tropas o ser colgado por desertor. Una vez en el ejército prusiano\, tiene la fortuna de salvarle la vida a Potzdorf\, lo que le abre las puertas del servicio secreto prusiano.
URL:https://cineuniversitariodeluruguay.org.uy/actividad/barry-lyndon-2/
ATTACH;FMTTYPE=image/jpeg:https://cineuniversitariodeluruguay.org.uy/wp-content/uploads/jun20.2.jpg
END:VEVENT
BEGIN:VEVENT
DTSTART;TZID=America/Montevideo:20250621T170000
DTEND;TZID=America/Montevideo:20250621T170000
DTSTAMP:20260419T110141
CREATED:20250610T145730Z
LAST-MODIFIED:20250610T215946Z
UID:10002291-1750525200-1750525200@cineuniversitariodeluruguay.org.uy
SUMMARY:La huella de las palabras
DESCRIPTION:Notable documental que narra la vida de Luis Pérez Aguirre\, «Perico»\, cura jesuita y defensor incansable de los derechos humanos y de los más desprotegidos. A través de los testimonios de Marianela (39) y Sara (67)\, dos mujeres cercanas a él\, se explora su legado y su pensamiento\, su postura crítica frente a la iglesia católica y los poderes de facto. \nUna película que reivindica el legado de Perico Pérez Aguirre\, su vocación solidaria y popular\, su compromiso ético\, su valentía para enfrentar la dictadura y la impunidad. \nEntrada libre
URL:https://cineuniversitariodeluruguay.org.uy/actividad/la-huella-de-las-palabras-6/
ATTACH;FMTTYPE=image/webp:https://cineuniversitariodeluruguay.org.uy/wp-content/uploads/jun210.webp
END:VEVENT
BEGIN:VEVENT
DTSTART;TZID=America/Montevideo:20250621T170000
DTEND;TZID=America/Montevideo:20250621T170000
DTSTAMP:20260419T110141
CREATED:20250602T022926Z
LAST-MODIFIED:20250610T215645Z
UID:10002269-1750525200-1750525200@cineuniversitariodeluruguay.org.uy
SUMMARY:El sustituto
DESCRIPTION:Christine Collins es una madre que recupera a su hijo\, al que habían secuestrado meses antes. Pero en la locura del muy fotografiado reencuentro\, comienza a sospechar que el niño que le han entregado no es su hijo. A pesar de unas fuerzas del orden corruptas y de una opinión pública más que escéptica\, intenta dilucidar el misterio cueste lo que cueste. Tachada de loca e incapacitada\, por fin encuentra un aliado en el reverendo Briegleb\, que la ayudará en su búsqueda.
URL:https://cineuniversitariodeluruguay.org.uy/actividad/el-sustituto-2/
ATTACH;FMTTYPE=image/jpeg:https://cineuniversitariodeluruguay.org.uy/wp-content/uploads/jun21.jpg
END:VEVENT
BEGIN:VEVENT
DTSTART;TZID=America/Montevideo:20250620T220000
DTEND;TZID=America/Montevideo:20250620T220000
DTSTAMP:20260419T110141
CREATED:20250617T181552Z
LAST-MODIFIED:20250617T181749Z
UID:10002294-1750456800-1750456800@cineuniversitariodeluruguay.org.uy
SUMMARY:Saló\, o los 120 días de Sodoma
DESCRIPTION:Adaptación de la novela del Marqués de Sade. Cuatro fascistas de la Italia de 1944 secuestran a hombres y mujeres jóvenes para someterlos a torturas físicas\, mentales y sexuales. Abyecta\, perversa\, polémica. Una de las obras maestras de Pasolini.
URL:https://cineuniversitariodeluruguay.org.uy/actividad/salo-o-los-120-dias-de-sodoma-2/
ATTACH;FMTTYPE=image/jpeg:https://cineuniversitariodeluruguay.org.uy/wp-content/uploads/jun20-1.jpg
END:VEVENT
BEGIN:VEVENT
DTSTART;TZID=America/Montevideo:20250620T200000
DTEND;TZID=America/Montevideo:20250620T200000
DTSTAMP:20260419T110141
CREATED:20250602T022925Z
LAST-MODIFIED:20250610T215243Z
UID:10002268-1750449600-1750449600@cineuniversitariodeluruguay.org.uy
SUMMARY:The Garbage Pail Kids Movie
DESCRIPTION:Dodger es un chico de catorce años que tiene dos preocupaciones principales\, es el blanco de las fechorías de la banda de Juice y además está enamorado de la novia de éste\, Tangerine. Sin embargo\, esto no es nada comparado con lo que se le viene encima. En la tienda de antigüedades del Capitan Manzini\, donde trabaja después del colegio\, Dodger libera accidentalmente a siete seres de un cubo de basura\, Greg el macarra\, Nerd el oloroso\, Windy Winston\, Nat el lelo\, Tessy la guarra\, Ali Lagarto\, Valerie Vómito y Phil el apestoso. Todos ellos componen la Pandilla Basura.
URL:https://cineuniversitariodeluruguay.org.uy/actividad/the-garbage-pail-kids-movie/
ATTACH;FMTTYPE=image/jpeg:https://cineuniversitariodeluruguay.org.uy/wp-content/uploads/jun20.jpg
END:VEVENT
BEGIN:VEVENT
DTSTART;TZID=America/Montevideo:20250620T174500
DTEND;TZID=America/Montevideo:20250620T174500
DTSTAMP:20260419T110141
CREATED:20250602T022729Z
LAST-MODIFIED:20250610T215207Z
UID:10002267-1750441500-1750441500@cineuniversitariodeluruguay.org.uy
SUMMARY:Las minas del Rey Salomón
DESCRIPTION:Allan Quatermain\, un famoso cazador\, emprende un safari por el corazón de Africa. Al mismo tiempo\, Elizabeth Curtis\, acompañada de su hermano John\, se interna en la zona más inhóspita del continente para buscar a su marido\, desaparecido mientras buscaba las minas del Rey.
URL:https://cineuniversitariodeluruguay.org.uy/actividad/las-minas-del-rey-salomon/
ATTACH;FMTTYPE=image/webp:https://cineuniversitariodeluruguay.org.uy/wp-content/uploads/jun20.webp
END:VEVENT
BEGIN:VEVENT
DTSTART;TZID=America/Montevideo:20250620T173000
DTEND;TZID=America/Montevideo:20250620T173000
DTSTAMP:20260419T110141
CREATED:20250602T022728Z
LAST-MODIFIED:20250610T213056Z
UID:10002266-1750440600-1750440600@cineuniversitariodeluruguay.org.uy
SUMMARY:Jurassic Park 3
DESCRIPTION:Prepare to go deeper into the breathtaking adventures of the Jurassic Park Trilogy! Highlighted by fascinating\, never-seen-before footage from all three Jurassic Park films\, this DVD offers an exclusive look at deleted scenes\, additional footage and other materials not shown on any theater screen.
URL:https://cineuniversitariodeluruguay.org.uy/actividad/jurassic-park-3/
ATTACH;FMTTYPE=image/jpeg:https://cineuniversitariodeluruguay.org.uy/wp-content/uploads/jun20.1.jpg
END:VEVENT
BEGIN:VEVENT
DTSTART;TZID=America/Montevideo:20250619T190000
DTEND;TZID=America/Montevideo:20250619T190000
DTSTAMP:20260419T110141
CREATED:20250602T022726Z
LAST-MODIFIED:20250610T212756Z
UID:10002264-1750359600-1750359600@cineuniversitariodeluruguay.org.uy
SUMMARY:Enter The Void
DESCRIPTION:Oscar y su hermana Linda viven desde hace poco en Tokyo. Él sobrevive traficando con drogas\, ella trabaja como stripper en un club nocturno. Durante un forcejeo con la policía\, Oscar cae herido tras un disparo. Aunque esté agonizando\, su espíritu\, fiel a la promesa de no abandonar a su hermana\, rechaza abandonar el mundo de los vivos. Su espíritu vaga ahora por la ciudad y sus visiones son cada vez más caóticas.
URL:https://cineuniversitariodeluruguay.org.uy/actividad/enter-the-void/
ATTACH;FMTTYPE=image/jpeg:https://cineuniversitariodeluruguay.org.uy/wp-content/uploads/jun191.jpg
END:VEVENT
BEGIN:VEVENT
DTSTART;TZID=America/Montevideo:20250619T171500
DTEND;TZID=America/Montevideo:20250619T171500
DTSTAMP:20260419T110141
CREATED:20250602T022727Z
LAST-MODIFIED:20250610T212716Z
UID:10002265-1750353300-1750353300@cineuniversitariodeluruguay.org.uy
SUMMARY:Lolita
DESCRIPTION:Humbert Humbert\, un profesor cuarentón\, acaba de instalarse en Ramsdale\, New Hampshire. Allí se enamora perdidamente de una niña de once años\, tanto que concibe un plan maestro: se casará con su madre\, Charlotte Haze\, para poder estar siempre cerca del objeto de sus afectos: la alegre adolescente\, la irresistible nínfula de nombre encantador\, lírico y melodioso: Lolita.
URL:https://cineuniversitariodeluruguay.org.uy/actividad/lolita/
ATTACH;FMTTYPE=image/jpeg:https://cineuniversitariodeluruguay.org.uy/wp-content/uploads/jun19.jpg
END:VEVENT
BEGIN:VEVENT
DTSTART;TZID=America/Montevideo:20250618T173000
DTEND;TZID=America/Montevideo:20250618T173000
DTSTAMP:20260419T110141
CREATED:20250602T022725Z
LAST-MODIFIED:20250610T212620Z
UID:10002263-1750267800-1750267800@cineuniversitariodeluruguay.org.uy
SUMMARY:La comunidad
DESCRIPTION:En un viejo edificio del centro de Madrid\, Julia\, una avispada vendedora de pisos\, encuentra 300 millones de pesetas bajo una baldosa en la casa de un vecino fallecido. Sin embargo a Julia no le quedará más remedio que sortear la ira de toda una comunidad de vecinos dispuestos a repartirse el codiciado botín.
URL:https://cineuniversitariodeluruguay.org.uy/actividad/la-comunidad/
ATTACH;FMTTYPE=image/jpeg:https://cineuniversitariodeluruguay.org.uy/wp-content/uploads/jun181.jpg
END:VEVENT
BEGIN:VEVENT
DTSTART;TZID=America/Montevideo:20250618T170000
DTEND;TZID=America/Montevideo:20250618T170000
DTSTAMP:20260419T110141
CREATED:20250602T022620Z
LAST-MODIFIED:20250610T212348Z
UID:10002262-1750266000-1750266000@cineuniversitariodeluruguay.org.uy
SUMMARY:Ojos bien cerrados
DESCRIPTION:William Harford es un respetable médico neoyorquino cuya vida parece ir muy bien: está casado con una preciosa mujer\, tiene una hija y tiene un trabajo que le gusta. Pero\, al día siguiente de asistir a una fiesta\, su esposa Alice le habla de unas fantasías eróticas y de cómo estuvo a punto de romper su matrimonio por un desconocido. Abrumado por esta confesión\, acaba entrando en un local\, donde un antiguo compañero le habla de una congregación secreta dedicada al hedonismo y al placer sin límites. A partir de entonces un mundo dominado por el sexo y el erotismo se abre ante él.
URL:https://cineuniversitariodeluruguay.org.uy/actividad/ojos-bien-cerrados/
ATTACH;FMTTYPE=image/jpeg:https://cineuniversitariodeluruguay.org.uy/wp-content/uploads/jun18.jpg
END:VEVENT
BEGIN:VEVENT
DTSTART;TZID=America/Montevideo:20250617T174500
DTEND;TZID=America/Montevideo:20250617T174500
DTSTAMP:20260419T110141
CREATED:20250602T022618Z
LAST-MODIFIED:20250610T212142Z
UID:10002260-1750182300-1750182300@cineuniversitariodeluruguay.org.uy
SUMMARY:La última vez que me suicidé
DESCRIPTION:Relato de las peripecias de un grupo de amigos que aun hoy son conocidos como la generación «beat»\, unos jóvenes inconformistas que renunciaron a todo lo establecido\, el consumismo y los convencionalismos\, creando un nuevo estilo de vida. Una generación venerada por su excentricidad y su obra literaria\, que buscaba la perfección a través del sexo\, las drogas\, el zen y otros métodos socialmente «incorrectos». La película refleja la vida de Neal Cassady\, el ídolo «beat» por excelencia\, y las aventuras que hicieron de él una leyenda.
URL:https://cineuniversitariodeluruguay.org.uy/actividad/la-ultima-vez-que-me-suicide/
ATTACH;FMTTYPE=image/jpeg:https://cineuniversitariodeluruguay.org.uy/wp-content/uploads/jun151.jpg
END:VEVENT
BEGIN:VEVENT
DTSTART;TZID=America/Montevideo:20250617T173000
DTEND;TZID=America/Montevideo:20250617T173000
DTSTAMP:20260419T110141
CREATED:20250602T022619Z
LAST-MODIFIED:20250617T164140Z
UID:10002261-1750181400-1750181400@cineuniversitariodeluruguay.org.uy
SUMMARY:La última ola
DESCRIPTION:David Burton es un abogado australiano que vive tranquilamente con su hija y su esposa hasta que unos sueños premonitorios le revelan parte del conocimiento prohibido de los aborígenes. Un asesinato que debe investigar le pondrá en contacto con Chris\, integrante de una tribu y conocedor de sus rituales.
URL:https://cineuniversitariodeluruguay.org.uy/actividad/la-ultima-ola/
ATTACH;FMTTYPE=image/jpeg:https://cineuniversitariodeluruguay.org.uy/wp-content/uploads/jun17.jpg
END:VEVENT
BEGIN:VEVENT
DTSTART;TZID=America/Montevideo:20250615T174500
DTEND;TZID=America/Montevideo:20250615T174500
DTSTAMP:20260419T110141
CREATED:20250602T022605Z
LAST-MODIFIED:20250610T211919Z
UID:10002259-1750009500-1750009500@cineuniversitariodeluruguay.org.uy
SUMMARY:Everybody Street
DESCRIPTION:Este documental rinde tributo a la icónica ciudad de Nueva York y a los grandes fotógrafos callejeros que han captado la actividad cotidiana de esta vibrante metrópolis. Incluye la obra y testimonios de Bruce Davidson\, Elliott Erwitt\, Jill Freedman\, Bruce Gilden\, Joel Meyerowitz\, Rebecca Lepkoff\, Mary Ellen Mark\, Jeff Mermelstein\, Clayton Patterson\, Ricky Powell\, Jamel Shabazz\, Martha Cooper y Boogie\, además de la de los de los expertos en fotografía e historiadores Max Kozloff y Luc Sante.
URL:https://cineuniversitariodeluruguay.org.uy/actividad/everybody-street/
ATTACH;FMTTYPE=image/jpeg:https://cineuniversitariodeluruguay.org.uy/wp-content/uploads/jun15.1.jpg
END:VEVENT
BEGIN:VEVENT
DTSTART;TZID=America/Montevideo:20250615T173000
DTEND;TZID=America/Montevideo:20250615T173000
DTSTAMP:20260419T110141
CREATED:20250602T022604Z
LAST-MODIFIED:20250610T144603Z
UID:10002258-1750008600-1750008600@cineuniversitariodeluruguay.org.uy
SUMMARY:Sr. y Sra. Smith
DESCRIPTION:Jane y John Smith forman una pareja de vida acomodada dentro de un ordinario y monótono matrimonio suburbano. Además ambos ocultan algo por lo que su pareja mataría por saber: los dos son agentes secretos\, asesinos increíblemente eficientes que trabajan para organizaciones que compiten entre sí. Además\, un día el Sr. y la Sra. Smith descubren una nueva fuente de emoción en su matrimonio cuando se les contrata para asesinarse mutuamente\, pues será entonces cuando comienza la verdadera diversión…
URL:https://cineuniversitariodeluruguay.org.uy/actividad/sr-y-sra-smith/
ATTACH;FMTTYPE=image/jpeg:https://cineuniversitariodeluruguay.org.uy/wp-content/uploads/jun140.jpg
END:VEVENT
BEGIN:VEVENT
DTSTART;TZID=America/Montevideo:20250614T174500
DTEND;TZID=America/Montevideo:20250614T174500
DTSTAMP:20260419T110141
CREATED:20250602T022603Z
LAST-MODIFIED:20250610T144444Z
UID:10002257-1749923100-1749923100@cineuniversitariodeluruguay.org.uy
SUMMARY:La sal de la Tierra
DESCRIPTION:Desde hace cuarenta años\, el fotógrafo Sebastião Salgado recorre los continentes captando la mutación de la humanidad. Testigo de grandes acontecimientos que han marcado nuestra historia reciente: conflictos internacionales\, hambruna\, éxodos\, etc.\, ahora emprende camino hacia territorios vírgenes con grandiosos paisajes\, descubriendo una fauna y una flora silvestres en el marco de un proyecto fotográfico gigantesco\, tributo a la belleza del planeta. Su hijo Juliano\, quien le acompañó en sus últimas travesías\, y Wim Wenders\, también fotógrafo\, comparten con nosotros su mirada acerca de su vida y su obra.
URL:https://cineuniversitariodeluruguay.org.uy/actividad/la-sal-de-la-tierra/
ATTACH;FMTTYPE=image/jpeg:https://cineuniversitariodeluruguay.org.uy/wp-content/uploads/jun141.jpg
END:VEVENT
BEGIN:VEVENT
DTSTART;TZID=America/Montevideo:20250614T173000
DTEND;TZID=America/Montevideo:20250614T173000
DTSTAMP:20260419T110141
CREATED:20250602T022425Z
LAST-MODIFIED:20250610T144224Z
UID:10002256-1749922200-1749922200@cineuniversitariodeluruguay.org.uy
SUMMARY:La naranja mecanica
DESCRIPTION:Gran Bretaña\, en un futuro indeterminado. Alex es un joven muy agresivo que tiene dos pasiones: la violencia desaforada y Beethoven. Es el jefe de la banda de los drugos\, que dan rienda suelta a sus instintos más salvajes apaleando\, violando y aterrorizando a la población. Cuando esa escalada de terror llega hasta el asesinato\, Alex es detenido y\, en prisión\, se someterá voluntariamente a una innovadora experiencia de reeducación que pretende anular drásticamente cualquier atisbo de conducta antisocial.
URL:https://cineuniversitariodeluruguay.org.uy/actividad/la-naranja-mecanica-2/
ATTACH;FMTTYPE=image/jpeg:https://cineuniversitariodeluruguay.org.uy/wp-content/uploads/jun14.jpg
END:VEVENT
BEGIN:VEVENT
DTSTART;TZID=America/Montevideo:20250613T220000
DTEND;TZID=America/Montevideo:20250613T220000
DTSTAMP:20260419T110141
CREATED:20250611T181713Z
LAST-MODIFIED:20250611T181744Z
UID:10002293-1749852000-1749852000@cineuniversitariodeluruguay.org.uy
SUMMARY:Pequeña Miss Sunshine
DESCRIPTION:Una familia típicamente disfuncional decidide acompañar a su hija pequeña a la final de un concurso de belleza\, emprendiendo un viaje insólito en una vieja combi cruzando medio país. Por supuesto\, pasan cosas.
URL:https://cineuniversitariodeluruguay.org.uy/actividad/pequena-miss-sunshine-2/
ATTACH;FMTTYPE=image/jpeg:https://cineuniversitariodeluruguay.org.uy/wp-content/uploads/Pequeamisssunshine_45164-uuKWP2.tmp_-1.jpg
END:VEVENT
BEGIN:VEVENT
DTSTART;TZID=America/Montevideo:20250613T220000
DTEND;TZID=America/Montevideo:20250613T220000
DTSTAMP:20260419T110141
CREATED:20250610T211358Z
LAST-MODIFIED:20250610T220209Z
UID:10002292-1749852000-1749852000@cineuniversitariodeluruguay.org.uy
SUMMARY:Friday the 13th
DESCRIPTION:Remake del clásico film de terror. A pesar de los consejos de la policía y de los lugareños\, Clay se adentra en el espeluznante y legendario bosque de Crystal Lake para buscar a su hermana desaparecida. Cuenta con la ayuda de una joven que ha ido al bosque a pasar un fin de semana con un grupo de amigos. Lo que ignoran es que han entrado en el área de acción de un siniestro asesino: Jason Voorhees.
URL:https://cineuniversitariodeluruguay.org.uy/actividad/friday-the-13th/
ATTACH;FMTTYPE=image/jpeg:https://cineuniversitariodeluruguay.org.uy/wp-content/uploads/jun132.jpg
END:VEVENT
BEGIN:VEVENT
DTSTART;TZID=America/Montevideo:20250613T200000
DTEND;TZID=America/Montevideo:20250613T200000
DTSTAMP:20260419T110141
CREATED:20250602T022424Z
LAST-MODIFIED:20250610T144109Z
UID:10002255-1749844800-1749844800@cineuniversitariodeluruguay.org.uy
SUMMARY:Howard El pato
DESCRIPTION:Desde un lejano planeta\, y debido a un error de un laboratorio espacial\, llega a La Tierra teletransportado un extraño personaje\, un pato que dice llamarse Howard. Es acogido en casa de Beberly\, una joven que es vocal de un grupo de rock. Cuando el doctor Jenin intenta devolverle a su planeta\, la energia diabólica del experimento le atrapa\, transformandole en el terrible Señor de las Tinieblas y Howard tendrá que enfrentarse a él.
URL:https://cineuniversitariodeluruguay.org.uy/actividad/howard-el-pato/
ATTACH;FMTTYPE=image/jpeg:https://cineuniversitariodeluruguay.org.uy/wp-content/uploads/jun131.jpg
END:VEVENT
BEGIN:VEVENT
DTSTART;TZID=America/Montevideo:20250613T174500
DTEND;TZID=America/Montevideo:20250613T174500
DTSTAMP:20260419T110141
CREATED:20250602T022423Z
LAST-MODIFIED:20250610T144048Z
UID:10002254-1749836700-1749836700@cineuniversitariodeluruguay.org.uy
SUMMARY:El conde de Montecristo
DESCRIPTION:Adaptación televisiva de la famosa novela de Alejandro Dumas. Edmond Dantes (Richard Chamberlain)\, falsamente acusado de traición por sus enemigos\, es condenado a pasar el resto de su vida en las mazmorras de la isla de If. Allí conoce al abate Faria\, un sabio al que todo el mundo toma por loco. Faria\, además de instruir al joven en todas las disciplinas\, le revela la existencia de un fabuloso tesoro escondido en una isla. Éste será el instrumento de su venganza.
URL:https://cineuniversitariodeluruguay.org.uy/actividad/el-conde-de-montecristo/
ATTACH;FMTTYPE=image/jpeg:https://cineuniversitariodeluruguay.org.uy/wp-content/uploads/jun130.jpg
END:VEVENT
BEGIN:VEVENT
DTSTART;TZID=America/Montevideo:20250613T173000
DTEND;TZID=America/Montevideo:20250613T173000
DTSTAMP:20260419T110141
CREATED:20250602T022422Z
LAST-MODIFIED:20250610T145821Z
UID:10002253-1749835800-1749835800@cineuniversitariodeluruguay.org.uy
SUMMARY:Jurassic Park The Lost World
DESCRIPTION:Han pasado cuatro años desde la devastación del Parque Jurásico\, y el Dr Malcom está a punto de descubrir que algo ha sobrevivido. En una isla de Costa Rica perteneciente a la Costa de las Cinco Muertes\, los dinosaurios viven y se reproducen en libertad. Se trata de la llamada zona B: el lugar que servía como laboratorio genético. Después de que John Hammond llevara a la empresa a la bancarrota\, su sobrino Peter ha tomado las riendas y está dispuesto a levantar la compañía explotando la peligrosa zona.
URL:https://cineuniversitariodeluruguay.org.uy/actividad/jurassic-park-the-lost-world/
ATTACH;FMTTYPE=image/jpeg:https://cineuniversitariodeluruguay.org.uy/wp-content/uploads/jun13.jpg
END:VEVENT
BEGIN:VEVENT
DTSTART;TZID=America/Montevideo:20250612T174500
DTEND;TZID=America/Montevideo:20250612T174500
DTSTAMP:20260419T110141
CREATED:20250602T022420Z
LAST-MODIFIED:20250610T143321Z
UID:10002252-1749750300-1749750300@cineuniversitariodeluruguay.org.uy
SUMMARY:Marcado para morir
DESCRIPTION:Un boxeador rescata a una cantante de las lascivas garras de su jefe. Intriga y melodrama para una película de bajo presupuesto producida\, dirigida\, escrita\, fotografiada y montada por Stanley Kubrick.
URL:https://cineuniversitariodeluruguay.org.uy/actividad/marcado-para-morir/
ATTACH;FMTTYPE=image/webp:https://cineuniversitariodeluruguay.org.uy/wp-content/uploads/jun120.webp
END:VEVENT
BEGIN:VEVENT
DTSTART;TZID=America/Montevideo:20250612T173000
DTEND;TZID=America/Montevideo:20250612T173000
DTSTAMP:20260419T110141
CREATED:20250602T022316Z
LAST-MODIFIED:20250610T143250Z
UID:10002251-1749749400-1749749400@cineuniversitariodeluruguay.org.uy
SUMMARY:Love
DESCRIPTION:Un 1 de enero por la mañana\, el teléfono suena. Murphy se despierta junto a su esposa y su hijo de dos años. Escucha el mensaje\, la madre de Electra\, muy inquieta\, le pregunta si tiene noticias de su hija que está desaparecida. Teme que le haya sucedido algo grave. A lo largo de un día lluvioso\, Murphy se encuentra solo en casa\, recordando su historia de amor más grande; dos años con Electra. Una pasión llena de promesas\, juegos\, excesos\, errores…
URL:https://cineuniversitariodeluruguay.org.uy/actividad/love/
ATTACH;FMTTYPE=image/jpeg:https://cineuniversitariodeluruguay.org.uy/wp-content/uploads/jun12.jpg
END:VEVENT
BEGIN:VEVENT
DTSTART;TZID=America/Montevideo:20250611T174500
DTEND;TZID=America/Montevideo:20250611T174500
DTSTAMP:20260419T110141
CREATED:20250602T022314Z
LAST-MODIFIED:20250610T142835Z
UID:10002249-1749663900-1749663900@cineuniversitariodeluruguay.org.uy
SUMMARY:Dr. Insolito
DESCRIPTION:Convencido de que los comunistas están contaminando los Estados Unidos\, un general ordena\, en un acceso de locura\, un ataque aéreo nuclear sorpresa contra la Unión Soviética. Su ayudante\, el capitán Mandrake\, trata de encontrar la fórmula para impedir el bombardeo. Por su parte\, el presidente de los EE.UU. se pone en contacto con Moscú para convencer al gobierno soviético de que el ataque no es más que un estúpido error. Mientras tanto\, el asesor estadounidense\, un antiguo científico nazi\, el doctor Strangelove\, confirma la existencia de la «Máquina del Juicio Final»\, un dispositivo de represalia soviético capaz de acabar con la humanidad para siempre.
URL:https://cineuniversitariodeluruguay.org.uy/actividad/dr-insolito/
ATTACH;FMTTYPE=image/jpeg:https://cineuniversitariodeluruguay.org.uy/wp-content/uploads/11.6.2.jpg
END:VEVENT
END:VCALENDAR