BEGIN:VCALENDAR
VERSION:2.0
PRODID:-//Cine Universitario del Uruguay - ECPv6.0.9//NONSGML v1.0//EN
CALSCALE:GREGORIAN
METHOD:PUBLISH
X-ORIGINAL-URL:https://cineuniversitariodeluruguay.org.uy
X-WR-CALDESC:Eventos para Cine Universitario del Uruguay
REFRESH-INTERVAL;VALUE=DURATION:PT1H
X-Robots-Tag:noindex
X-PUBLISHED-TTL:PT1H
BEGIN:VTIMEZONE
TZID:America/Montevideo
BEGIN:STANDARD
TZOFFSETFROM:-0300
TZOFFSETTO:-0300
TZNAME:-03
DTSTART:20250101T000000
END:STANDARD
END:VTIMEZONE
BEGIN:VEVENT
DTSTART;TZID=America/Montevideo:20250613T200000
DTEND;TZID=America/Montevideo:20250613T200000
DTSTAMP:20260419T145532
CREATED:20250602T022424Z
LAST-MODIFIED:20250610T144109Z
UID:10002255-1749844800-1749844800@cineuniversitariodeluruguay.org.uy
SUMMARY:Howard El pato
DESCRIPTION:Desde un lejano planeta\, y debido a un error de un laboratorio espacial\, llega a La Tierra teletransportado un extraño personaje\, un pato que dice llamarse Howard. Es acogido en casa de Beberly\, una joven que es vocal de un grupo de rock. Cuando el doctor Jenin intenta devolverle a su planeta\, la energia diabólica del experimento le atrapa\, transformandole en el terrible Señor de las Tinieblas y Howard tendrá que enfrentarse a él.
URL:https://cineuniversitariodeluruguay.org.uy/actividad/howard-el-pato/
ATTACH;FMTTYPE=image/jpeg:https://cineuniversitariodeluruguay.org.uy/wp-content/uploads/jun131.jpg
END:VEVENT
BEGIN:VEVENT
DTSTART;TZID=America/Montevideo:20250613T174500
DTEND;TZID=America/Montevideo:20250613T174500
DTSTAMP:20260419T145532
CREATED:20250602T022423Z
LAST-MODIFIED:20250610T144048Z
UID:10002254-1749836700-1749836700@cineuniversitariodeluruguay.org.uy
SUMMARY:El conde de Montecristo
DESCRIPTION:Adaptación televisiva de la famosa novela de Alejandro Dumas. Edmond Dantes (Richard Chamberlain)\, falsamente acusado de traición por sus enemigos\, es condenado a pasar el resto de su vida en las mazmorras de la isla de If. Allí conoce al abate Faria\, un sabio al que todo el mundo toma por loco. Faria\, además de instruir al joven en todas las disciplinas\, le revela la existencia de un fabuloso tesoro escondido en una isla. Éste será el instrumento de su venganza.
URL:https://cineuniversitariodeluruguay.org.uy/actividad/el-conde-de-montecristo/
ATTACH;FMTTYPE=image/jpeg:https://cineuniversitariodeluruguay.org.uy/wp-content/uploads/jun130.jpg
END:VEVENT
BEGIN:VEVENT
DTSTART;TZID=America/Montevideo:20250613T173000
DTEND;TZID=America/Montevideo:20250613T173000
DTSTAMP:20260419T145532
CREATED:20250602T022422Z
LAST-MODIFIED:20250610T145821Z
UID:10002253-1749835800-1749835800@cineuniversitariodeluruguay.org.uy
SUMMARY:Jurassic Park The Lost World
DESCRIPTION:Han pasado cuatro años desde la devastación del Parque Jurásico\, y el Dr Malcom está a punto de descubrir que algo ha sobrevivido. En una isla de Costa Rica perteneciente a la Costa de las Cinco Muertes\, los dinosaurios viven y se reproducen en libertad. Se trata de la llamada zona B: el lugar que servía como laboratorio genético. Después de que John Hammond llevara a la empresa a la bancarrota\, su sobrino Peter ha tomado las riendas y está dispuesto a levantar la compañía explotando la peligrosa zona.
URL:https://cineuniversitariodeluruguay.org.uy/actividad/jurassic-park-the-lost-world/
ATTACH;FMTTYPE=image/jpeg:https://cineuniversitariodeluruguay.org.uy/wp-content/uploads/jun13.jpg
END:VEVENT
BEGIN:VEVENT
DTSTART;TZID=America/Montevideo:20250612T174500
DTEND;TZID=America/Montevideo:20250612T174500
DTSTAMP:20260419T145532
CREATED:20250602T022420Z
LAST-MODIFIED:20250610T143321Z
UID:10002252-1749750300-1749750300@cineuniversitariodeluruguay.org.uy
SUMMARY:Marcado para morir
DESCRIPTION:Un boxeador rescata a una cantante de las lascivas garras de su jefe. Intriga y melodrama para una película de bajo presupuesto producida\, dirigida\, escrita\, fotografiada y montada por Stanley Kubrick.
URL:https://cineuniversitariodeluruguay.org.uy/actividad/marcado-para-morir/
ATTACH;FMTTYPE=image/webp:https://cineuniversitariodeluruguay.org.uy/wp-content/uploads/jun120.webp
END:VEVENT
BEGIN:VEVENT
DTSTART;TZID=America/Montevideo:20250612T173000
DTEND;TZID=America/Montevideo:20250612T173000
DTSTAMP:20260419T145532
CREATED:20250602T022316Z
LAST-MODIFIED:20250610T143250Z
UID:10002251-1749749400-1749749400@cineuniversitariodeluruguay.org.uy
SUMMARY:Love
DESCRIPTION:Un 1 de enero por la mañana\, el teléfono suena. Murphy se despierta junto a su esposa y su hijo de dos años. Escucha el mensaje\, la madre de Electra\, muy inquieta\, le pregunta si tiene noticias de su hija que está desaparecida. Teme que le haya sucedido algo grave. A lo largo de un día lluvioso\, Murphy se encuentra solo en casa\, recordando su historia de amor más grande; dos años con Electra. Una pasión llena de promesas\, juegos\, excesos\, errores…
URL:https://cineuniversitariodeluruguay.org.uy/actividad/love/
ATTACH;FMTTYPE=image/jpeg:https://cineuniversitariodeluruguay.org.uy/wp-content/uploads/jun12.jpg
END:VEVENT
BEGIN:VEVENT
DTSTART;TZID=America/Montevideo:20250611T174500
DTEND;TZID=America/Montevideo:20250611T174500
DTSTAMP:20260419T145533
CREATED:20250602T022314Z
LAST-MODIFIED:20250610T142835Z
UID:10002249-1749663900-1749663900@cineuniversitariodeluruguay.org.uy
SUMMARY:Dr. Insolito
DESCRIPTION:Convencido de que los comunistas están contaminando los Estados Unidos\, un general ordena\, en un acceso de locura\, un ataque aéreo nuclear sorpresa contra la Unión Soviética. Su ayudante\, el capitán Mandrake\, trata de encontrar la fórmula para impedir el bombardeo. Por su parte\, el presidente de los EE.UU. se pone en contacto con Moscú para convencer al gobierno soviético de que el ataque no es más que un estúpido error. Mientras tanto\, el asesor estadounidense\, un antiguo científico nazi\, el doctor Strangelove\, confirma la existencia de la «Máquina del Juicio Final»\, un dispositivo de represalia soviético capaz de acabar con la humanidad para siempre.
URL:https://cineuniversitariodeluruguay.org.uy/actividad/dr-insolito/
ATTACH;FMTTYPE=image/jpeg:https://cineuniversitariodeluruguay.org.uy/wp-content/uploads/11.6.2.jpg
END:VEVENT
BEGIN:VEVENT
DTSTART;TZID=America/Montevideo:20250611T173000
DTEND;TZID=America/Montevideo:20250611T173000
DTSTAMP:20260419T145533
CREATED:20250602T022315Z
LAST-MODIFIED:20250610T142735Z
UID:10002250-1749663000-1749663000@cineuniversitariodeluruguay.org.uy
SUMMARY:El chico de abajo
DESCRIPTION:Una joven se ve obligada a reflexionar sobre su primera relación cuando se muda inadvertidamente al edificio de apartamentos de su ex novio.
URL:https://cineuniversitariodeluruguay.org.uy/actividad/el-chico-de-abajo/
ATTACH;FMTTYPE=image/webp:https://cineuniversitariodeluruguay.org.uy/wp-content/uploads/11.6.webp
END:VEVENT
BEGIN:VEVENT
DTSTART;TZID=America/Montevideo:20250610T174500
DTEND;TZID=America/Montevideo:20250610T174500
DTSTAMP:20260419T145533
CREATED:20250602T022313Z
LAST-MODIFIED:20250610T141201Z
UID:10002248-1749577500-1749577500@cineuniversitariodeluruguay.org.uy
SUMMARY:Los tres mosqueteros
DESCRIPTION:Francia\, siglo XVII. El joven y valeroso D’Artagnan se dirige a París para cumplir su sueño de ingresar en el cuerpo de los mosqueteros. Al llegar tiene un enfrentamiento con Athos\, Porthos y Aramis\, sin sospechar quiénes son. A continuación\, se entera de que el Cardenal Richelieu ha disuelto la guardia de los mosqueteros\, a pesar de lo cual ellos\, con la ayuda de D’Artagnan\, están decididos a seguir protegiendo al rey Luis XIII de las intrigas del Cardenal.
URL:https://cineuniversitariodeluruguay.org.uy/actividad/los-tres-mosqueteros/
ATTACH;FMTTYPE=image/jpeg:https://cineuniversitariodeluruguay.org.uy/wp-content/uploads/10.6.2.jpg
END:VEVENT
BEGIN:VEVENT
DTSTART;TZID=America/Montevideo:20250610T173000
DTEND;TZID=America/Montevideo:20250610T173000
DTSTAMP:20260419T145533
CREATED:20250602T022312Z
LAST-MODIFIED:20250610T141125Z
UID:10002247-1749576600-1749576600@cineuniversitariodeluruguay.org.uy
SUMMARY:El almuerzo desnudo
DESCRIPTION:Después del trágico accidente sufrido por su mujer\, un escritor que cae en la adicción a ciertas drogas\, empieza a sufrir horribles alucinaciones que lo transportan a un mundo de pesadilla absolutamente kafkiano.
URL:https://cineuniversitariodeluruguay.org.uy/actividad/el-almuerzo-desnudo/
ATTACH;FMTTYPE=image/webp:https://cineuniversitariodeluruguay.org.uy/wp-content/uploads/10.6.webp
END:VEVENT
BEGIN:VEVENT
DTSTART;TZID=America/Montevideo:20250608T200000
DTEND;TZID=America/Montevideo:20250608T200000
DTSTAMP:20260419T145533
CREATED:20250602T022207Z
LAST-MODIFIED:20250602T022207Z
UID:10002246-1749412800-1749412800@cineuniversitariodeluruguay.org.uy
SUMMARY:Depeche Mode 101
DESCRIPTION:Depeche Mode se prepara para su concierto número 101 y último de su masiva gira mundial «Music for the Masses» en el Rose Bowl Stadium de Pasadena\, California\, mientras un grupo de seguidores que ganaron un concurso viajan al concierto por todo Estados Unidos en un autobús.
URL:https://cineuniversitariodeluruguay.org.uy/actividad/depeche-mode-101/
END:VEVENT
BEGIN:VEVENT
DTSTART;TZID=America/Montevideo:20250608T200000
DTEND;TZID=America/Montevideo:20250608T200000
DTSTAMP:20260419T145533
CREATED:20250602T022204Z
LAST-MODIFIED:20250602T022204Z
UID:10002244-1749412800-1749412800@cineuniversitariodeluruguay.org.uy
SUMMARY:Despistados
DESCRIPTION:Clueless cuenta las desventuras de una chica popular y entrometida de un instituto de Beverly Hill\, Cher\, que recibe más de lo que esperaba cuando decide darle un cambio de imagen a una estudiante nueva.
URL:https://cineuniversitariodeluruguay.org.uy/actividad/despistados/
END:VEVENT
BEGIN:VEVENT
DTSTART;TZID=America/Montevideo:20250608T174500
DTEND;TZID=America/Montevideo:20250608T174500
DTSTAMP:20260419T145533
CREATED:20250602T022206Z
LAST-MODIFIED:20250602T022206Z
UID:10002245-1749404700-1749404700@cineuniversitariodeluruguay.org.uy
SUMMARY:Tupamaros
DESCRIPTION:Pepe Mujica\, now a member of the Uruguayan parliament\, and others of the Tupamaros recount the history of this urban guerrilla group: their use of armed intervention and illegal acts–even kidnapping and murder\, their imprisonment and escapes\, and their transition to a legal political party.
URL:https://cineuniversitariodeluruguay.org.uy/actividad/tupamaros-2/
END:VEVENT
BEGIN:VEVENT
DTSTART;TZID=America/Montevideo:20250608T173000
DTEND;TZID=America/Montevideo:20250608T173000
DTSTAMP:20260419T145533
CREATED:20250602T022203Z
LAST-MODIFIED:20250602T022203Z
UID:10002243-1749403800-1749403800@cineuniversitariodeluruguay.org.uy
SUMMARY:Se busca
DESCRIPTION:Wesley Gibson (James McAvoy) tiene 25 años y es el zángano más desencantado y aburrido que habita en el planeta. Su jefe se mete con él sin parar\, su novia no le hace caso y su vida carece de alicientes. Todos los que le conocen están convencidos de que este vago nato nunca llegará a nada. A Wes sólo le queda esperar que el tiempo pase hasta que muera de forma rutinaria. Pero todo cambia cuando conoce a una mujer llamada Fox (Angelina Jolie). Después del asesinato del padre de Wes\, al que veía muy poco\, la letal y sexy Fox recluta al joven para la Fraternity (Fraternidad)\, una sociedad secreta que enseña al joven a desarrollar sus poderes adormecidos para vengar la muerte de su padre.
URL:https://cineuniversitariodeluruguay.org.uy/actividad/se-busca/
END:VEVENT
BEGIN:VEVENT
DTSTART;TZID=America/Montevideo:20250607T174500
DTEND;TZID=America/Montevideo:20250607T174500
DTSTAMP:20260419T145533
CREATED:20250602T022202Z
LAST-MODIFIED:20250602T024243Z
UID:10002242-1749318300-1749318300@cineuniversitariodeluruguay.org.uy
SUMMARY:Vaquero de farmacia
DESCRIPTION:Portland\, Oregon\, 1971. Bob Hughes es el carismático líder de un peculiar cuarteto\, formado por su esposa\, Dianne\, y otra pareja\, Rick y Nadine\, que roban con suma habilidad en farmacias y hospitales con objeto de apaciguar su insaciable necesidad de drogas. Pero ni la diversión ni la suerte duran para siempre.
URL:https://cineuniversitariodeluruguay.org.uy/actividad/vaquero-de-farmacia/
END:VEVENT
BEGIN:VEVENT
DTSTART;TZID=America/Montevideo:20250607T173000
DTEND;TZID=America/Montevideo:20250607T173000
DTSTAMP:20260419T145533
CREATED:20250602T022005Z
LAST-MODIFIED:20250602T022005Z
UID:10002241-1749317400-1749317400@cineuniversitariodeluruguay.org.uy
SUMMARY:Nacido para matar
DESCRIPTION:Un grupo de reclutas se prepara en Parish Island\, centro de entrenamiento de la marina Norteamericana. Allí está el sargento Hartmann\, duro e implacable\, cuya única misión en la vida es endurecer el cuerpo y el alma de los novatos\, para que puedan defenderse del enemigo. Pero no todos los jóvenes soportan igual sus métodos…
URL:https://cineuniversitariodeluruguay.org.uy/actividad/nacido-para-matar/
END:VEVENT
BEGIN:VEVENT
DTSTART;TZID=America/Montevideo:20250606T200000
DTEND;TZID=America/Montevideo:20250606T200000
DTSTAMP:20260419T145533
CREATED:20250602T022004Z
LAST-MODIFIED:20250602T022004Z
UID:10002240-1749240000-1749240000@cineuniversitariodeluruguay.org.uy
SUMMARY:Troll 2
DESCRIPTION:En Nilbog\, un remoto pueblo de los Estados Unidos\, ha empezado a ocurrir una serie de extraños sucesos para los que no parece haber explicación. Cuando la familia Waits se instala en su nueva casa de verano\, tardan poco en darse cuenta de que sus amables vecinos\, son\, en realidad\, seres diabólicos que han adquirido forma humana.
URL:https://cineuniversitariodeluruguay.org.uy/actividad/troll-2/
END:VEVENT
BEGIN:VEVENT
DTSTART;TZID=America/Montevideo:20250606T174500
DTEND;TZID=America/Montevideo:20250606T174500
DTSTAMP:20260419T145533
CREATED:20250602T022003Z
LAST-MODIFIED:20250602T022003Z
UID:10002239-1749231900-1749231900@cineuniversitariodeluruguay.org.uy
SUMMARY:Burroughs: La pelicula
DESCRIPTION:Un documental sobre el escritor de la generación ‘beat’ William S. Burroughs (St. Louis\, Missouri\, 1914 – Kansas\, 1997)\, autor entre otras muchas obras de «El almuerzo desnudo» (Naked Lunch\, 1959).
URL:https://cineuniversitariodeluruguay.org.uy/actividad/burroughs-la-pelicula/
END:VEVENT
BEGIN:VEVENT
DTSTART;TZID=America/Montevideo:20250606T173000
DTEND;TZID=America/Montevideo:20250606T173000
DTSTAMP:20260419T145533
CREATED:20250602T022002Z
LAST-MODIFIED:20250602T022002Z
UID:10002238-1749231000-1749231000@cineuniversitariodeluruguay.org.uy
SUMMARY:Jurassic Park
DESCRIPTION:El multimillonario John Hammond tiene una idea para un espectacular parque temático: una isla retirada donde los visitantes puedan observar dinosaurios reales. Con la última tecnología en el desarrollo de ADN\, los científicos pueden clonar braquiosaurios\, triceratops\, velociraptors y un tiranosaurio rex\, utilizando para ello la sangre fosilizada en ámbar contenida en insectos que los mordieron hace millones de años. Los paleontólogos Alan Grant\, Ellie Sattler y Ian Malcolm visitan el parque y quedan muy sorprendidos con los resultados obtenidos. Pero cuando un problemático empleado manipula el sofisticado sistema de seguridad los dinosaurios escapan\, obligando a los visitantes a luchar por su supervivencia.
URL:https://cineuniversitariodeluruguay.org.uy/actividad/jurassic-park/
END:VEVENT
BEGIN:VEVENT
DTSTART;TZID=America/Montevideo:20250605T200000
DTEND;TZID=America/Montevideo:20250605T200000
DTSTAMP:20260419T145533
CREATED:20250602T022001Z
LAST-MODIFIED:20250602T022001Z
UID:10002237-1749153600-1749153600@cineuniversitariodeluruguay.org.uy
SUMMARY:Fear and Desire
DESCRIPTION:En plena guerra mundial\, cuatro soldados norteamericanos quedan atrapados y perdidos detrás de las líneas enemigas cuando su avión se estrella. Desesperados por salir de ahí\, deciden planear una ruta de escape a través del río\, pero en el camino se encuentran con oficiales enemigos. (FILMAFFINITY)
URL:https://cineuniversitariodeluruguay.org.uy/actividad/fear-and-desire/
END:VEVENT
BEGIN:VEVENT
DTSTART;TZID=America/Montevideo:20250605T174500
DTEND;TZID=America/Montevideo:20250605T174500
DTSTAMP:20260419T145533
CREATED:20250602T021948Z
LAST-MODIFIED:20250602T021948Z
UID:10002236-1749145500-1749145500@cineuniversitariodeluruguay.org.uy
SUMMARY:Solo contra todos
DESCRIPTION:Francia\, 1980. Un carnicero (Philippe Nahon) vive solo con su hija tras ser abandonado por su mujer. Un día la niña tiene su primera regla y corre hasta la carnicería de su padre que\, al ver la sangre\, cree que la pequeña ha sido violada. El carnicero sale enfurecido de la tienda y acaba agrediendo a un inocente. La niña es internada y él encerrado en prisión.
URL:https://cineuniversitariodeluruguay.org.uy/actividad/solo-contra-todos-2/
END:VEVENT
BEGIN:VEVENT
DTSTART;TZID=America/Montevideo:20250604T174500
DTEND;TZID=America/Montevideo:20250604T174500
DTSTAMP:20260419T145533
CREATED:20250602T021946Z
LAST-MODIFIED:20250602T021946Z
UID:10002234-1749059100-1749059100@cineuniversitariodeluruguay.org.uy
SUMMARY:La patrulla infernal
DESCRIPTION:Primera Guerra Mundial (1914-1918). En 1916\, en Francia\, el general Boulard ordena la conquista de una inexpugnable posición alemana y encarga esa misión al ambicioso general Mireau. El encargado de dirigir el ataque será el coronel Dax. La toma de la colina resulta un infierno\, y el regimiento emprende la retirada hacia las trincheras. El alto mando militar\, irritado por la derrota\, decide imponer al regimiento un terrible castigo que sirva de ejemplo a los demás soldados.
URL:https://cineuniversitariodeluruguay.org.uy/actividad/la-patrulla-infernal/
END:VEVENT
BEGIN:VEVENT
DTSTART;TZID=America/Montevideo:20250604T173000
DTEND;TZID=America/Montevideo:20250604T173000
DTSTAMP:20260419T145533
CREATED:20250602T021947Z
LAST-MODIFIED:20250602T021947Z
UID:10002235-1749058200-1749058200@cineuniversitariodeluruguay.org.uy
SUMMARY:See You Tomorrow\, Everyone
DESCRIPTION:After Satoru Watarai graduated from elementary school\, he dropped out of school and decided to live within his apartment complex\, never to venture outside. Satoru Watari then meets his old friends as they are coming back from their middle school classes. Satoru has now gotten a job at a cake shop within the apartment complex and eventually gets engaged to one of his friends. Satoru\, still lives within the apartment complex only\, but\, as time passes\, more of his friends leave ..
URL:https://cineuniversitariodeluruguay.org.uy/actividad/see-you-tomorrow-everyone/
END:VEVENT
BEGIN:VEVENT
DTSTART;TZID=America/Montevideo:20250603T173000
DTEND;TZID=America/Montevideo:20250603T173000
DTSTAMP:20260419T145533
CREATED:20250602T021945Z
LAST-MODIFIED:20250602T021945Z
UID:10002233-1748971800-1748971800@cineuniversitariodeluruguay.org.uy
SUMMARY:La otra cara del amor
DESCRIPTION:Biografía del compositor ruso Tchaikowsky\, un hombre torturado que sólo era feliz con su música. A pesar de su condición homosexual\, se casa con Nina Milukova\, una joven apasionada y neurótica. Un matrimonio fracasado que le lleva al borde del suicidio y acaba con la salud mental de su mujer. Las relaciones de Tchaikowsky con su mecenas\, Madame von Meck\, también se deterioran cuando ésta se entera de su pasado amoroso. Incapaz de ser feliz\, a pesar de su fama mundial\, se suicida a los 53 años.
URL:https://cineuniversitariodeluruguay.org.uy/actividad/la-otra-cara-del-amor/
END:VEVENT
BEGIN:VEVENT
DTSTART;TZID=America/Montevideo:20250603T173000
DTEND;TZID=America/Montevideo:20250603T173000
DTSTAMP:20260419T145533
CREATED:20250602T021941Z
LAST-MODIFIED:20250602T021941Z
UID:10002232-1748971800-1748971800@cineuniversitariodeluruguay.org.uy
SUMMARY:Inocencia interrumpida
DESCRIPTION:Año 1967. Susanna Kaysen\, de 17 años\, es como la mayoría de las chicas americanas de su edad: está confusa\, se siente insegura y lucha por entender el mundo que la rodea. Su psiquiatra decide ingresarla en el Hospital Claymoore\, diagnosticándole un trastorno de la personalidad\, que se manifiesta a través de una gran inseguridad respecto a la propia imagen\, a los objetivos a largo plazo y a los amigos. En el centro Susanna conoce a Lisa\, Georgina\, Polly y Janet\, un grupo de chicas inadaptadas con las que entabla una estrecha amistad y que\, además\, le muestran el camino para encontrarse a sí misma.
URL:https://cineuniversitariodeluruguay.org.uy/actividad/inocencia-interrumpida-3/
END:VEVENT
BEGIN:VEVENT
DTSTART;TZID=America/Montevideo:20250601T200000
DTEND;TZID=America/Montevideo:20250601T200000
DTSTAMP:20260419T145533
CREATED:20250602T021939Z
LAST-MODIFIED:20250602T021939Z
UID:10002231-1748808000-1748808000@cineuniversitariodeluruguay.org.uy
SUMMARY:Lets Get Lost
DESCRIPTION:Documental sobre la vida del trompetista y cantante estadounidense de jazz Chet Baker dirigido por el famoso fotógrafo Bruce Weber. Chet Baker fue una de las figuras más destacadas del mundo de la música del siglo XX. «Let´s get lost» surge de la enorme fascinación de Weber por este genio del jazz. Inicialmente la idea era hacer una serie de fotos del músico\, pero tras la relación surgida entre ambos\, el director terminó haciendo una película de más de dos horas de duración sobre la figura de Baker\, el jazz y dos de sus grandes pasiones: los coches y las mujeres. En 1989\, la película fue nominada al Oscar al Mejor Documental\, y se alzó con el Premio de la Crítica en el Festival de Venecia poco después del aparente suicidio del protagonista en un hotel en Amsterdam. (FILMAFFINITY)
URL:https://cineuniversitariodeluruguay.org.uy/actividad/lets-get-lost/
END:VEVENT
BEGIN:VEVENT
DTSTART;TZID=America/Montevideo:20250601T200000
DTEND;TZID=America/Montevideo:20250601T200000
DTSTAMP:20260419T145533
CREATED:20250602T021937Z
LAST-MODIFIED:20250602T021937Z
UID:10002229-1748808000-1748808000@cineuniversitariodeluruguay.org.uy
SUMMARY:Lady Bird
DESCRIPTION:Una joven estudiante que se hace llamar Lady Bird (Saoirse Ronan) se muda al norte de California para pasar allí su último año de instituto. La joven\, con inclinaciones artísticas y que sueña con vivir en la costa Este\, tratará de ese modo encontrar su propio camino y definirse fuera de la sombra protectora de su madre (Laurie Metcalf).
URL:https://cineuniversitariodeluruguay.org.uy/actividad/lady-bird/
END:VEVENT
BEGIN:VEVENT
DTSTART;TZID=America/Montevideo:20250601T174500
DTEND;TZID=America/Montevideo:20250601T174500
DTSTAMP:20260419T145533
CREATED:20250602T021936Z
LAST-MODIFIED:20250602T021936Z
UID:10002228-1748799900-1748799900@cineuniversitariodeluruguay.org.uy
SUMMARY:Sombras
DESCRIPTION:Años 60 en la ciudad de Nueva York. Lelia y Tony son una feliz pareja. Un día conoce al hermano de su novia y descubre que ambos son de raza negra\, aunque ella no lo parezca.  Película fundamental dentro de la evolución del cine\, al ser considerada el origen del cine independiente estadounidense. «Sombras» fue el debut como director del hasta entonces actor John Cassavetes. La película fue filmada en la calle\, con actores desconocidos\, una cámara de 16 milímetros en mano y una escasa subvención pública de 40.000 dólares. «Sombras» está rodada con asfixiantes primeros planos de unos actores que resultan desgarradores por su naturalidad\, ya que\, además\, hacen de ellos mismos. Cassavetes fue uno de los primeros directores en mostrar los ambientes intelectuales y bohemios de Nueva York a través de un tema\, las relaciones interraciales\, muy poco habitual en el cine de finales de los 50.
URL:https://cineuniversitariodeluruguay.org.uy/actividad/sombras-2/
END:VEVENT
BEGIN:VEVENT
DTSTART;TZID=America/Montevideo:20250601T173000
DTEND;TZID=America/Montevideo:20250601T173000
DTSTAMP:20260419T145533
CREATED:20250602T021938Z
LAST-MODIFIED:20250602T021938Z
UID:10002230-1748799000-1748799000@cineuniversitariodeluruguay.org.uy
SUMMARY:¡Tupamaros!
DESCRIPTION:
URL:https://cineuniversitariodeluruguay.org.uy/actividad/tupamaros/
END:VEVENT
BEGIN:VEVENT
DTSTART;TZID=America/Montevideo:20250531T190000
DTEND;TZID=America/Montevideo:20250531T190000
DTSTAMP:20260419T145533
CREATED:20250502T014429Z
LAST-MODIFIED:20250502T014429Z
UID:10002223-1748718000-1748718000@cineuniversitariodeluruguay.org.uy
SUMMARY:Corazon Valiente
DESCRIPTION:¿Qué clase de hombre desafiaría a un rey? ‘Braveheart’ es una historia épica medieval sobre la independencia de Escocia en el siglo XIII\, basada en la leyenda de William Wallace\, un montañés escocés que arrastra a su clan a luchar contra la tiranía del rey Eduardo I de Inglaterra. Después del brutal asesinato de su joven esposa por los ingleses\, Wallace sólo busca venganza. Hambrientos y en inferior número\, Wallace lidera a los patriotas escoceses y consigue organizar un ejército de guerreros sedientos de libertad logrando recuperar con ello el espíritu que haría a Escocia libre para siempre.
URL:https://cineuniversitariodeluruguay.org.uy/actividad/corazon-valiente/
ATTACH;FMTTYPE=image/jpeg:https://cineuniversitariodeluruguay.org.uy/wp-content/uploads/CorazonValiente_45808-xa9XNX.tmp_.jpg
END:VEVENT
BEGIN:VEVENT
DTSTART;TZID=America/Montevideo:20250531T184500
DTEND;TZID=America/Montevideo:20250531T184500
DTSTAMP:20260419T145533
CREATED:20250502T014430Z
LAST-MODIFIED:20250502T014430Z
UID:10002224-1748717100-1748717100@cineuniversitariodeluruguay.org.uy
SUMMARY:La Tierra Purpurea Vol 4
DESCRIPTION:
URL:https://cineuniversitariodeluruguay.org.uy/actividad/la-tierra-purpurea-vol-4/
END:VEVENT
END:VCALENDAR