BEGIN:VCALENDAR
VERSION:2.0
PRODID:-//Cine Universitario del Uruguay - ECPv6.0.9//NONSGML v1.0//EN
CALSCALE:GREGORIAN
METHOD:PUBLISH
X-ORIGINAL-URL:https://cineuniversitariodeluruguay.org.uy
X-WR-CALDESC:Eventos para Cine Universitario del Uruguay
REFRESH-INTERVAL;VALUE=DURATION:PT1H
X-Robots-Tag:noindex
X-PUBLISHED-TTL:PT1H
BEGIN:VTIMEZONE
TZID:America/Montevideo
BEGIN:STANDARD
TZOFFSETFROM:-0300
TZOFFSETTO:-0300
TZNAME:-03
DTSTART:20250101T000000
END:STANDARD
END:VTIMEZONE
BEGIN:VEVENT
DTSTART;TZID=America/Montevideo:20250603T173000
DTEND;TZID=America/Montevideo:20250603T173000
DTSTAMP:20260419T183354
CREATED:20250602T021945Z
LAST-MODIFIED:20250602T021945Z
UID:10002233-1748971800-1748971800@cineuniversitariodeluruguay.org.uy
SUMMARY:La otra cara del amor
DESCRIPTION:Biografía del compositor ruso Tchaikowsky\, un hombre torturado que sólo era feliz con su música. A pesar de su condición homosexual\, se casa con Nina Milukova\, una joven apasionada y neurótica. Un matrimonio fracasado que le lleva al borde del suicidio y acaba con la salud mental de su mujer. Las relaciones de Tchaikowsky con su mecenas\, Madame von Meck\, también se deterioran cuando ésta se entera de su pasado amoroso. Incapaz de ser feliz\, a pesar de su fama mundial\, se suicida a los 53 años.
URL:https://cineuniversitariodeluruguay.org.uy/actividad/la-otra-cara-del-amor/
END:VEVENT
BEGIN:VEVENT
DTSTART;TZID=America/Montevideo:20250603T173000
DTEND;TZID=America/Montevideo:20250603T173000
DTSTAMP:20260419T183354
CREATED:20250602T021941Z
LAST-MODIFIED:20250602T021941Z
UID:10002232-1748971800-1748971800@cineuniversitariodeluruguay.org.uy
SUMMARY:Inocencia interrumpida
DESCRIPTION:Año 1967. Susanna Kaysen\, de 17 años\, es como la mayoría de las chicas americanas de su edad: está confusa\, se siente insegura y lucha por entender el mundo que la rodea. Su psiquiatra decide ingresarla en el Hospital Claymoore\, diagnosticándole un trastorno de la personalidad\, que se manifiesta a través de una gran inseguridad respecto a la propia imagen\, a los objetivos a largo plazo y a los amigos. En el centro Susanna conoce a Lisa\, Georgina\, Polly y Janet\, un grupo de chicas inadaptadas con las que entabla una estrecha amistad y que\, además\, le muestran el camino para encontrarse a sí misma.
URL:https://cineuniversitariodeluruguay.org.uy/actividad/inocencia-interrumpida-3/
END:VEVENT
BEGIN:VEVENT
DTSTART;TZID=America/Montevideo:20250601T200000
DTEND;TZID=America/Montevideo:20250601T200000
DTSTAMP:20260419T183354
CREATED:20250602T021939Z
LAST-MODIFIED:20250602T021939Z
UID:10002231-1748808000-1748808000@cineuniversitariodeluruguay.org.uy
SUMMARY:Lets Get Lost
DESCRIPTION:Documental sobre la vida del trompetista y cantante estadounidense de jazz Chet Baker dirigido por el famoso fotógrafo Bruce Weber. Chet Baker fue una de las figuras más destacadas del mundo de la música del siglo XX. «Let´s get lost» surge de la enorme fascinación de Weber por este genio del jazz. Inicialmente la idea era hacer una serie de fotos del músico\, pero tras la relación surgida entre ambos\, el director terminó haciendo una película de más de dos horas de duración sobre la figura de Baker\, el jazz y dos de sus grandes pasiones: los coches y las mujeres. En 1989\, la película fue nominada al Oscar al Mejor Documental\, y se alzó con el Premio de la Crítica en el Festival de Venecia poco después del aparente suicidio del protagonista en un hotel en Amsterdam. (FILMAFFINITY)
URL:https://cineuniversitariodeluruguay.org.uy/actividad/lets-get-lost/
END:VEVENT
BEGIN:VEVENT
DTSTART;TZID=America/Montevideo:20250601T200000
DTEND;TZID=America/Montevideo:20250601T200000
DTSTAMP:20260419T183354
CREATED:20250602T021937Z
LAST-MODIFIED:20250602T021937Z
UID:10002229-1748808000-1748808000@cineuniversitariodeluruguay.org.uy
SUMMARY:Lady Bird
DESCRIPTION:Una joven estudiante que se hace llamar Lady Bird (Saoirse Ronan) se muda al norte de California para pasar allí su último año de instituto. La joven\, con inclinaciones artísticas y que sueña con vivir en la costa Este\, tratará de ese modo encontrar su propio camino y definirse fuera de la sombra protectora de su madre (Laurie Metcalf).
URL:https://cineuniversitariodeluruguay.org.uy/actividad/lady-bird/
END:VEVENT
BEGIN:VEVENT
DTSTART;TZID=America/Montevideo:20250601T174500
DTEND;TZID=America/Montevideo:20250601T174500
DTSTAMP:20260419T183354
CREATED:20250602T021936Z
LAST-MODIFIED:20250602T021936Z
UID:10002228-1748799900-1748799900@cineuniversitariodeluruguay.org.uy
SUMMARY:Sombras
DESCRIPTION:Años 60 en la ciudad de Nueva York. Lelia y Tony son una feliz pareja. Un día conoce al hermano de su novia y descubre que ambos son de raza negra\, aunque ella no lo parezca.  Película fundamental dentro de la evolución del cine\, al ser considerada el origen del cine independiente estadounidense. «Sombras» fue el debut como director del hasta entonces actor John Cassavetes. La película fue filmada en la calle\, con actores desconocidos\, una cámara de 16 milímetros en mano y una escasa subvención pública de 40.000 dólares. «Sombras» está rodada con asfixiantes primeros planos de unos actores que resultan desgarradores por su naturalidad\, ya que\, además\, hacen de ellos mismos. Cassavetes fue uno de los primeros directores en mostrar los ambientes intelectuales y bohemios de Nueva York a través de un tema\, las relaciones interraciales\, muy poco habitual en el cine de finales de los 50.
URL:https://cineuniversitariodeluruguay.org.uy/actividad/sombras-2/
END:VEVENT
BEGIN:VEVENT
DTSTART;TZID=America/Montevideo:20250601T173000
DTEND;TZID=America/Montevideo:20250601T173000
DTSTAMP:20260419T183354
CREATED:20250602T021938Z
LAST-MODIFIED:20250602T021938Z
UID:10002230-1748799000-1748799000@cineuniversitariodeluruguay.org.uy
SUMMARY:¡Tupamaros!
DESCRIPTION:
URL:https://cineuniversitariodeluruguay.org.uy/actividad/tupamaros/
END:VEVENT
BEGIN:VEVENT
DTSTART;TZID=America/Montevideo:20250531T190000
DTEND;TZID=America/Montevideo:20250531T190000
DTSTAMP:20260419T183354
CREATED:20250502T014429Z
LAST-MODIFIED:20250502T014429Z
UID:10002223-1748718000-1748718000@cineuniversitariodeluruguay.org.uy
SUMMARY:Corazon Valiente
DESCRIPTION:¿Qué clase de hombre desafiaría a un rey? ‘Braveheart’ es una historia épica medieval sobre la independencia de Escocia en el siglo XIII\, basada en la leyenda de William Wallace\, un montañés escocés que arrastra a su clan a luchar contra la tiranía del rey Eduardo I de Inglaterra. Después del brutal asesinato de su joven esposa por los ingleses\, Wallace sólo busca venganza. Hambrientos y en inferior número\, Wallace lidera a los patriotas escoceses y consigue organizar un ejército de guerreros sedientos de libertad logrando recuperar con ello el espíritu que haría a Escocia libre para siempre.
URL:https://cineuniversitariodeluruguay.org.uy/actividad/corazon-valiente/
ATTACH;FMTTYPE=image/jpeg:https://cineuniversitariodeluruguay.org.uy/wp-content/uploads/CorazonValiente_45808-xa9XNX.tmp_.jpg
END:VEVENT
BEGIN:VEVENT
DTSTART;TZID=America/Montevideo:20250531T184500
DTEND;TZID=America/Montevideo:20250531T184500
DTSTAMP:20260419T183354
CREATED:20250502T014430Z
LAST-MODIFIED:20250502T014430Z
UID:10002224-1748717100-1748717100@cineuniversitariodeluruguay.org.uy
SUMMARY:La Tierra Purpurea Vol 4
DESCRIPTION:
URL:https://cineuniversitariodeluruguay.org.uy/actividad/la-tierra-purpurea-vol-4/
END:VEVENT
BEGIN:VEVENT
DTSTART;TZID=America/Montevideo:20250530T200000
DTEND;TZID=America/Montevideo:20250530T200000
DTSTAMP:20260419T183354
CREATED:20250502T014428Z
LAST-MODIFIED:20250502T014428Z
UID:10002222-1748635200-1748635200@cineuniversitariodeluruguay.org.uy
SUMMARY:Alice Sweet Alice
DESCRIPTION:Alice es una extraña y problemática niña que vive con su madre y con Karen\, su hermana pequeña. Cuando Karen muere durante su primera comunión\, las sospechas recaen inmediatamente sobre Alice. Cuando la niña es acusada\, su padre separado inicia una investigación en busca de la verdad…  Primera incursión en la gran pantalla de Brooke Shields.
URL:https://cineuniversitariodeluruguay.org.uy/actividad/alice-sweet-alice/
ATTACH;FMTTYPE=image/jpeg:https://cineuniversitariodeluruguay.org.uy/wp-content/uploads/AliceSweetAlice_45807-0hKNfm.tmp_.jpg
END:VEVENT
BEGIN:VEVENT
DTSTART;TZID=America/Montevideo:20250530T200000
DTEND;TZID=America/Montevideo:20250530T200000
DTSTAMP:20260419T183354
CREATED:20250502T014230Z
LAST-MODIFIED:20250502T014230Z
UID:10002221-1748635200-1748635200@cineuniversitariodeluruguay.org.uy
SUMMARY:Psicosis
DESCRIPTION:Una joven secretaria\, tras cometer un robo\, se marcha de la ciudad y conduce durante horas\, parando para descansar en un pequeño motel de carretera regentado por un joven llamado Norman. Todo parece normal y tranquilo en el apartado motel y en la casa de al lado en la que viven Norman y su madre pero\, mientras está en la ducha\, la joven es asesinada salvajemente a cuchilladas.
URL:https://cineuniversitariodeluruguay.org.uy/actividad/psicosis-2/
ATTACH;FMTTYPE=image/jpeg:https://cineuniversitariodeluruguay.org.uy/wp-content/uploads/Psicosis_45807-af0eD3.tmp_.jpg
END:VEVENT
BEGIN:VEVENT
DTSTART;TZID=America/Montevideo:20250530T173000
DTEND;TZID=America/Montevideo:20250530T173000
DTSTAMP:20260419T183354
CREATED:20250502T014229Z
LAST-MODIFIED:20250502T014229Z
UID:10002220-1748626200-1748626200@cineuniversitariodeluruguay.org.uy
SUMMARY:La flor de mi secreto
DESCRIPTION:Leo Macías es una escritora de novela rosa que se oculta tras el seudónimo de Amanda Gris. Obligada por contrato a entregar tres novelas al año\, Leo lleva meses incumpliéndolo; en vez de novela rosa le sale negra. Y todo porque su marido Paco\, que es militar\, está participando en una misión de paz en Bosnia. Antes de su partida\, la pareja vivía una de sus peores crisis. El aplazamiento de la solución a sus problemas matrimoniales provoca en Leo una fragilidad y una inseguridad que invade todos los aspectos de su vida. El amor de Paco ha muerto\, pero ella lo defiende ciegamente y se aferra a cualquier esperanza\, por absurda que sea.
URL:https://cineuniversitariodeluruguay.org.uy/actividad/la-flor-de-mi-secreto/
ATTACH;FMTTYPE=image/jpeg:https://cineuniversitariodeluruguay.org.uy/wp-content/uploads/Laflordemisecreto_45807-isIxq2.tmp_.jpg
END:VEVENT
BEGIN:VEVENT
DTSTART;TZID=America/Montevideo:20250529T174500
DTEND;TZID=America/Montevideo:20250529T174500
DTSTAMP:20260419T183354
CREATED:20250502T014226Z
LAST-MODIFIED:20250502T014226Z
UID:10002218-1748540700-1748540700@cineuniversitariodeluruguay.org.uy
SUMMARY:Tommy
DESCRIPTION:Un niño queda ciego\, sordo y mudo como consecuencia del trauma sufrido al contemplar el asesinato de su padre a manos del amante de su madre. Con el paso del tiempo se convierte en estrella mundial del pinball.
URL:https://cineuniversitariodeluruguay.org.uy/actividad/tommy/
ATTACH;FMTTYPE=image/jpeg:https://cineuniversitariodeluruguay.org.uy/wp-content/uploads/Tommy_45806-WsWDO3.tmp_.jpg
END:VEVENT
BEGIN:VEVENT
DTSTART;TZID=America/Montevideo:20250529T173000
DTEND;TZID=America/Montevideo:20250529T173000
DTSTAMP:20260419T183354
CREATED:20250502T014228Z
LAST-MODIFIED:20250502T014228Z
UID:10002219-1748539800-1748539800@cineuniversitariodeluruguay.org.uy
SUMMARY:Lord of Illusions
DESCRIPTION:Hace algún tiempo\, miembros de una secta traicionaron a su líder\, un mago de gran poder. Asesinado por sus fieles\, prometió volver para vengarse. En la actualidad\, Harry D’Amour\, un detective privado\, lleva a cabo una investigación de rutina en Los Ángeles. Allí se encuentra con un poderoso e intrigante actor cuyas sorprendentes y misteriosas actuaciones llenas de suspense y misticismo cautivan al mundo. Pero\, ¿son realmente actuaciones? Cuando el mundo de la magia se empieza a ver salpicado de extraños asesinatos\, Harry empieza a sospechar que\, tras el exitoso personaje\, se encuentra algo oculto que proviene de fuerzas del más allá.
URL:https://cineuniversitariodeluruguay.org.uy/actividad/lord-of-illusions/
ATTACH;FMTTYPE=image/jpeg:https://cineuniversitariodeluruguay.org.uy/wp-content/uploads/LordofIllusions_45806-GOWVJy.tmp_.jpg
END:VEVENT
BEGIN:VEVENT
DTSTART;TZID=America/Montevideo:20250528T173000
DTEND;TZID=America/Montevideo:20250528T173000
DTSTAMP:20260419T183354
CREATED:20250502T014212Z
LAST-MODIFIED:20250502T014212Z
UID:10002217-1748453400-1748453400@cineuniversitariodeluruguay.org.uy
SUMMARY:A Prairie Home Companion
DESCRIPTION:Desde 1974\, en una radio americana se emite el programa «A prairie home companion»\, un show de variedades para toda la familia que incluye música en directo\, anuncios ficticios y una serie protagonizada por el detective Guy Noir. Un día\, de repente\, el presentador y sus invitados se enteran de que están haciendo el último programa.
URL:https://cineuniversitariodeluruguay.org.uy/actividad/a-prairie-home-companion/
ATTACH;FMTTYPE=image/jpeg:https://cineuniversitariodeluruguay.org.uy/wp-content/uploads/APrairieHomeCompanion_45805-jed7pA.tmp_.jpg
END:VEVENT
BEGIN:VEVENT
DTSTART;TZID=America/Montevideo:20250528T171500
DTEND;TZID=America/Montevideo:20250528T171500
DTSTAMP:20260419T183354
CREATED:20250528T005915Z
LAST-MODIFIED:20250528T010047Z
UID:10002227-1748452500-1748452500@cineuniversitariodeluruguay.org.uy
SUMMARY:Strange Days
DESCRIPTION:Faltan dos días para la llegada del año 2000 y las calles de Los Ángeles están abarrotadas de gente. Lenny\, que ha sido expulsado de la Brigada Antivicio\, se dedica a la captación de clientes para venderles unos clips que reproducen las vivencias de otras personas.
URL:https://cineuniversitariodeluruguay.org.uy/actividad/strange-days/
ATTACH;FMTTYPE=image/jpeg:https://cineuniversitariodeluruguay.org.uy/wp-content/uploads/IMG_5182.jpeg
END:VEVENT
BEGIN:VEVENT
DTSTART;TZID=America/Montevideo:20250527T174500
DTEND;TZID=America/Montevideo:20250527T174500
DTSTAMP:20260419T183354
CREATED:20250502T014210Z
LAST-MODIFIED:20250527T162659Z
UID:10002215-1748367900-1748367900@cineuniversitariodeluruguay.org.uy
SUMMARY:Ghost in the Shell
DESCRIPTION:En un futuro no muy lejano\, un grupo de agentes especiales se disponen a encontrar a un hacker misterioso conocido como «Puppet Master». En la búsqueda descubrirán alarmantes secretos acerca de la evolución de la inteligencia artificial. La película fue una gran inspiración para la trilogía de Matrix.
URL:https://cineuniversitariodeluruguay.org.uy/actividad/ghost-in-the-shell-2/
ATTACH;FMTTYPE=image/jpeg:https://cineuniversitariodeluruguay.org.uy/wp-content/uploads/GhostintheShell_45804-jWyBKA.tmp_.jpg
END:VEVENT
BEGIN:VEVENT
DTSTART;TZID=America/Montevideo:20250527T173000
DTEND;TZID=America/Montevideo:20250527T173000
DTSTAMP:20260419T183354
CREATED:20250502T014211Z
LAST-MODIFIED:20250527T163018Z
UID:10002216-1748367000-1748367000@cineuniversitariodeluruguay.org.uy
SUMMARY:To Catch a Thief
DESCRIPTION:A pesar de que John Robie «El Gato» (Cary Grant) ha abandonado su oficio de ladrón de joyas\, se convierte en el principal sospechoso de una serie de robos de piedras preciosas en los más lujosos hoteles de la Riviera francesa; así que no tendrá más remedio que demostrar su inocencia. Cuando conoce a una caprichosa heredera (Grace Kelly)\, ve la oportunidad de desenmascarar al misterioso ladrón\, utilizando como señuelo las fabulosas joyas de la madre de la joven.
URL:https://cineuniversitariodeluruguay.org.uy/actividad/ken-loach/
ATTACH;FMTTYPE=image/jpeg:https://cineuniversitariodeluruguay.org.uy/wp-content/uploads/ToCatchAThief_CaryGrant_GraceKelly.jpeg
END:VEVENT
BEGIN:VEVENT
DTSTART;TZID=America/Montevideo:20250525T200000
DTEND;TZID=America/Montevideo:20250525T200000
DTSTAMP:20260419T183354
CREATED:20250502T014153Z
LAST-MODIFIED:20250502T014153Z
UID:10002214-1748203200-1748203200@cineuniversitariodeluruguay.org.uy
SUMMARY:Lost Soul The Doomed Journey of Richard Stanley Island of Dr Moreau
DESCRIPTION:Richard Stanley soñaba con adaptar al cine el clásico de H.G. Wells\, La isla del Dr. Moreau. Finalmente\, a mediados de la década de los noventa logró levantar el proyecto\, pero su rodaje se convirtió en una batalla entre el arte y los intereses de la industria\, que acabó con el director expulsado del filme. Este documental recoge la historia de una película que\, pudiendo haber sido una obra maestra del cine fantástico\, fue un fracaso estrepitoso. (FILMAFFINITY)
URL:https://cineuniversitariodeluruguay.org.uy/actividad/lost-soul-the-doomed-journey-of-richard-stanley-island-of-dr-moreau/
ATTACH;FMTTYPE=image/jpeg:https://cineuniversitariodeluruguay.org.uy/wp-content/uploads/LostSoulTheDoomedJourneyofRichardStanleyIslandofDrMoreau_45802-STDZSw.tmp_.jpg
END:VEVENT
BEGIN:VEVENT
DTSTART;TZID=America/Montevideo:20250525T200000
DTEND;TZID=America/Montevideo:20250525T200000
DTSTAMP:20260419T183354
CREATED:20250502T014150Z
LAST-MODIFIED:20250502T014150Z
UID:10002212-1748203200-1748203200@cineuniversitariodeluruguay.org.uy
SUMMARY:Buffalo 66
DESCRIPTION:Es invierno en Buffalo\, Nueva York. Billy Brown acaba de salir de la cárcel después de cinco años tras una apuesta poco acertada que no pudo pagar. Sin embargo\, ha engañado a sus padres diciéndoles que trabaja para el Gobierno en un importante proyecto y que está casado con una preciosa joven. Desesperado por impresionar a sus padres\, y sin esposa o novia de ninguna clase\, Billy rapta impulsivamente a Layla y la obliga a representar el papel ante sus extravagantes progenitores.
URL:https://cineuniversitariodeluruguay.org.uy/actividad/buffalo-66/
ATTACH;FMTTYPE=image/jpeg:https://cineuniversitariodeluruguay.org.uy/wp-content/uploads/Buffalo66_45802-37bhya.tmp_.jpg
END:VEVENT
BEGIN:VEVENT
DTSTART;TZID=America/Montevideo:20250525T174500
DTEND;TZID=America/Montevideo:20250525T174500
DTSTAMP:20260419T183354
CREATED:20250502T014146Z
LAST-MODIFIED:20250502T014146Z
UID:10002211-1748195100-1748195100@cineuniversitariodeluruguay.org.uy
SUMMARY:Dial “M” for Murder
DESCRIPTION:Tony Wendice maquina un plan para deshacerse de Margot\, su esposa infiel. Pero la casualidad hará que sea a ella a quien finalmente acusen de asesinato. La inestimable ayuda de un inspector de policía ayudará a resolver el misterioso crimen.
URL:https://cineuniversitariodeluruguay.org.uy/actividad/dial-m-for-murder/
ATTACH;FMTTYPE=image/jpeg:https://cineuniversitariodeluruguay.org.uy/wp-content/uploads/DialMforMurder_45802-bNEDxw.tmp_.jpg
END:VEVENT
BEGIN:VEVENT
DTSTART;TZID=America/Montevideo:20250525T173000
DTEND;TZID=America/Montevideo:20250525T173000
DTSTAMP:20260419T183354
CREATED:20250502T014152Z
LAST-MODIFIED:20250502T014152Z
UID:10002213-1748194200-1748194200@cineuniversitariodeluruguay.org.uy
SUMMARY:Tombstone
DESCRIPTION:En 1879 y tras la sangrienta Guerra Civil norteamericana\, mucha gente emigró hacia el oeste del país en busca de prosperidad y fortuna. entre ellos\, Wyatt Earp\, un hombre de la ley que había abandonado la placa y la pistola para formar una familia\, o John «Doc»Hollyday\, un ex caballero del sur reconvertido en pistolero y jugador.
URL:https://cineuniversitariodeluruguay.org.uy/actividad/tombstone/
ATTACH;FMTTYPE=image/jpeg:https://cineuniversitariodeluruguay.org.uy/wp-content/uploads/Tombstone_45802-ZFVJGh.tmp_.jpg
END:VEVENT
BEGIN:VEVENT
DTSTART;TZID=America/Montevideo:20250524T190000
DTEND;TZID=America/Montevideo:20250524T190000
DTSTAMP:20260419T183354
CREATED:20250502T014144Z
LAST-MODIFIED:20250502T014144Z
UID:10002209-1748113200-1748113200@cineuniversitariodeluruguay.org.uy
SUMMARY:Casino
DESCRIPTION:Las Vegas\, 1973. Sam «Ace» Rothstein\, un profesional de las apuestas\, es el eficaz director de un importante casino que pertenece a un grupo de mafiosos. Su misión es controlar el funcionamiento del negocio y garantizar que la corriente de dinero que va a parar a manos de sus jefes siga fluyendo. Las Vegas es un lugar ideal para millonarios y políticos\, pero es también lugar de paso de tahúres\, prestamistas\, traficantes de drogas y matones. Un día el violento Nicky Santoro\, al que sus jefes han encargado que cuide de Sam\, llega a Las Vegas con la intención de quedarse.
URL:https://cineuniversitariodeluruguay.org.uy/actividad/casino-2/
ATTACH;FMTTYPE=image/jpeg:https://cineuniversitariodeluruguay.org.uy/wp-content/uploads/Casino_45801-bxiJVM.tmp_.jpg
END:VEVENT
BEGIN:VEVENT
DTSTART;TZID=America/Montevideo:20250524T184500
DTEND;TZID=America/Montevideo:20250524T184500
DTSTAMP:20260419T183354
CREATED:20250502T014145Z
LAST-MODIFIED:20250502T014145Z
UID:10002210-1748112300-1748112300@cineuniversitariodeluruguay.org.uy
SUMMARY:La Tierra Purpurea Vol 3
DESCRIPTION:
URL:https://cineuniversitariodeluruguay.org.uy/actividad/la-tierra-purpurea-vol-3/
END:VEVENT
BEGIN:VEVENT
DTSTART;TZID=America/Montevideo:20250524T170000
DTEND;TZID=America/Montevideo:20250524T170000
DTSTAMP:20260419T183354
CREATED:20250502T014143Z
LAST-MODIFIED:20250502T014143Z
UID:10002208-1748106000-1748106000@cineuniversitariodeluruguay.org.uy
SUMMARY:Rebecca
DESCRIPTION:Al poco tiempo de perder a su esposa Rebeca\, el aristócrata inglés Maxim De Winter conoce en Montecarlo a una joven humilde\, dama de compañía de una señora americana. De Winter y la joven se casan y se van a vivir a la mansión inglesa de Manderley\, residencia habitual de De Winter. Pronto la señora Winter se da cuenta de que no puede borrar en su marido el recuerdo de su difunta esposa.
URL:https://cineuniversitariodeluruguay.org.uy/actividad/rebecca/
ATTACH;FMTTYPE=image/jpeg:https://cineuniversitariodeluruguay.org.uy/wp-content/uploads/Rebecca_45801-f6R6Qv.tmp_.jpg
END:VEVENT
BEGIN:VEVENT
DTSTART;TZID=America/Montevideo:20250523T200000
DTEND;TZID=America/Montevideo:20250523T200000
DTSTAMP:20260419T183354
CREATED:20250502T014142Z
LAST-MODIFIED:20250502T014142Z
UID:10002207-1748030400-1748030400@cineuniversitariodeluruguay.org.uy
SUMMARY:Night Has a Thousand Desires
DESCRIPTION:Bajo los efectos hipnóticos de Fabián\, “La Gran Irina” realiza con enorme éxito un número de telepatía en una sala de fiestas. Después de sufrir terribles pesadillas en las que comete crímenes\, acude al médico. Este averigua que Irina\, manejada hipnoticamente por Fabián\, le sirve de instrumento para llevar a cabo una venganza personal.
URL:https://cineuniversitariodeluruguay.org.uy/actividad/night-has-a-thousand-desires/
ATTACH;FMTTYPE=image/jpeg:https://cineuniversitariodeluruguay.org.uy/wp-content/uploads/NightHasaThousandDesires_45800-FRjTOk.tmp_.jpg
END:VEVENT
BEGIN:VEVENT
DTSTART;TZID=America/Montevideo:20250523T174500
DTEND;TZID=America/Montevideo:20250523T174500
DTSTAMP:20260419T183354
CREATED:20250502T014137Z
LAST-MODIFIED:20250502T014137Z
UID:10002205-1748022300-1748022300@cineuniversitariodeluruguay.org.uy
SUMMARY:Babe
DESCRIPTION:En la granja Hogget vive toda clase de animales. Cada animal atiene un trabajo que sabe como hacer y cada uno intenta hacerlo bien\, porque sabe cual es su sitio. A la granja llega Babe\, un cerdito que el granjero ha ganado en un concurso. Hogget siente que hay algo especial en Babe y decide enseñarle el oficio de perro pastor y de esta forma tan peculiar\, Babe evita ser la cena de Navidad.
URL:https://cineuniversitariodeluruguay.org.uy/actividad/babe/
ATTACH;FMTTYPE=image/jpeg:https://cineuniversitariodeluruguay.org.uy/wp-content/uploads/Babe_45800-QwvkTe.tmp_.jpg
END:VEVENT
BEGIN:VEVENT
DTSTART;TZID=America/Montevideo:20250523T173000
DTEND;TZID=America/Montevideo:20250523T173000
DTSTAMP:20260419T183354
CREATED:20250502T014138Z
LAST-MODIFIED:20250502T014138Z
UID:10002206-1748021400-1748021400@cineuniversitariodeluruguay.org.uy
SUMMARY:Val
DESCRIPTION:Durante más de 40 años\, Val Kilmer\, uno de los actores más volubles y / o incomprendidos de Hollywood\, ha estado documentando su propia vida y su oficio a través de películas y videos. Ha acumulado miles de horas de metraje\, desde películas caseras de 16 mm hechas con sus hermanos hasta el tiempo que pasó en papeles icónicos para películas de gran éxito como Top Gun\, The Doors\, Tombstone y Batman Forever. Este documental crudo\, salvajemente original e inquebrantable revela una vida vivida hasta los extremos y una mirada llena de corazón\, a veces hilarante\, sobre lo que significa ser un artista y un hombre complejo.
URL:https://cineuniversitariodeluruguay.org.uy/actividad/val/
ATTACH;FMTTYPE=image/jpeg:https://cineuniversitariodeluruguay.org.uy/wp-content/uploads/Val_45800-T5mIas.tmp_.jpg
END:VEVENT
BEGIN:VEVENT
DTSTART;TZID=America/Montevideo:20250522T174500
DTEND;TZID=America/Montevideo:20250522T174500
DTSTAMP:20260419T183354
CREATED:20250502T014136Z
LAST-MODIFIED:20250502T014136Z
UID:10002204-1747935900-1747935900@cineuniversitariodeluruguay.org.uy
SUMMARY:Cold Fever
DESCRIPTION:Todo lo que el pobre Atsushi Hirata quería realmente es dejar atrás el frío invierno de Japón y poder tomarse una semana de vacaciones en la cálida Hawaii. Pero\, desafortunadamente\, Atsushi tendrá que hacer honor a una tradición y acabar en la aún más fría Islandia para rendir tributo a un pariente que murió 7 años atrás… Road movie que narra el viaje físico y espiritual de un hombre ordinario a través de un país muy extraño. Un viaje que cambiará su vida para siempre. (FILMAFFINITY)
URL:https://cineuniversitariodeluruguay.org.uy/actividad/cold-fever/
ATTACH;FMTTYPE=image/jpeg:https://cineuniversitariodeluruguay.org.uy/wp-content/uploads/ColdFever_45799-sQKA2a.tmp_.jpg
END:VEVENT
BEGIN:VEVENT
DTSTART;TZID=America/Montevideo:20250522T173000
DTEND;TZID=America/Montevideo:20250522T173000
DTSTAMP:20260419T183354
CREATED:20250502T014135Z
LAST-MODIFIED:20250502T014135Z
UID:10002203-1747935000-1747935000@cineuniversitariodeluruguay.org.uy
SUMMARY:Rolling Stones Shine A Light
DESCRIPTION:Martin Scorsese y los Rolling Stones se unen en ‘Shine A Light’\, una mirada a los Rolling Stones.’ Scorsese filmó a los Stones durante un período de dos días en el íntimo Beacon Theatre de la ciudad de Nueva York en el otoño de 2006. Los directores de fotografía capturan la energía cruda de la legendaria banda.
URL:https://cineuniversitariodeluruguay.org.uy/actividad/rolling-stones-shine-a-light/
ATTACH;FMTTYPE=image/jpeg:https://cineuniversitariodeluruguay.org.uy/wp-content/uploads/RollingStonesShineALight_45799-pQKMsu.tmp_.jpg
END:VEVENT
BEGIN:VEVENT
DTSTART;TZID=America/Montevideo:20250521T174500
DTEND;TZID=America/Montevideo:20250521T174500
DTSTAMP:20260419T183354
CREATED:20250502T014134Z
LAST-MODIFIED:20250502T014134Z
UID:10002202-1747849500-1747849500@cineuniversitariodeluruguay.org.uy
SUMMARY:La Niebla
DESCRIPTION:En la costa de California se alza el pintoresco centro turístico de Antonio Bay. Mientras sus residentes se preparan para las celebraciones del centenario de la ciudad\, la tripulación de un viejo barco aparece brutalmente asesinada. Al mismo tiempo\, en el mar\, una misteriosa niebla que oculta un mortífero secreto comienza a desplazarse inexorablemente cada noche hacia la costa. Según una leyenda local\, estos extraños sucesos están aparentemente relacionados con un terrible acontecimiento sucedido hace cien años. A medida que se aproxima el día del centenario el horror se acerca a su clímax.
URL:https://cineuniversitariodeluruguay.org.uy/actividad/la-niebla/
ATTACH;FMTTYPE=image/jpeg:https://cineuniversitariodeluruguay.org.uy/wp-content/uploads/LaNiebla_45798-MaCDYF.tmp_.jpg
END:VEVENT
END:VCALENDAR