BEGIN:VCALENDAR
VERSION:2.0
PRODID:-//Cine Universitario del Uruguay - ECPv6.0.9//NONSGML v1.0//EN
CALSCALE:GREGORIAN
METHOD:PUBLISH
X-ORIGINAL-URL:https://cineuniversitariodeluruguay.org.uy
X-WR-CALDESC:Eventos para Cine Universitario del Uruguay
REFRESH-INTERVAL;VALUE=DURATION:PT1H
X-Robots-Tag:noindex
X-PUBLISHED-TTL:PT1H
BEGIN:VTIMEZONE
TZID:America/Montevideo
BEGIN:STANDARD
TZOFFSETFROM:-0300
TZOFFSETTO:-0300
TZNAME:-03
DTSTART:20250101T000000
END:STANDARD
END:VTIMEZONE
BEGIN:VEVENT
DTSTART;TZID=America/Montevideo:20250524T184500
DTEND;TZID=America/Montevideo:20250524T184500
DTSTAMP:20260419T214843
CREATED:20250502T014145Z
LAST-MODIFIED:20250502T014145Z
UID:10002210-1748112300-1748112300@cineuniversitariodeluruguay.org.uy
SUMMARY:La Tierra Purpurea Vol 3
DESCRIPTION:
URL:https://cineuniversitariodeluruguay.org.uy/actividad/la-tierra-purpurea-vol-3/
END:VEVENT
BEGIN:VEVENT
DTSTART;TZID=America/Montevideo:20250524T170000
DTEND;TZID=America/Montevideo:20250524T170000
DTSTAMP:20260419T214843
CREATED:20250502T014143Z
LAST-MODIFIED:20250502T014143Z
UID:10002208-1748106000-1748106000@cineuniversitariodeluruguay.org.uy
SUMMARY:Rebecca
DESCRIPTION:Al poco tiempo de perder a su esposa Rebeca\, el aristócrata inglés Maxim De Winter conoce en Montecarlo a una joven humilde\, dama de compañía de una señora americana. De Winter y la joven se casan y se van a vivir a la mansión inglesa de Manderley\, residencia habitual de De Winter. Pronto la señora Winter se da cuenta de que no puede borrar en su marido el recuerdo de su difunta esposa.
URL:https://cineuniversitariodeluruguay.org.uy/actividad/rebecca/
ATTACH;FMTTYPE=image/jpeg:https://cineuniversitariodeluruguay.org.uy/wp-content/uploads/Rebecca_45801-f6R6Qv.tmp_.jpg
END:VEVENT
BEGIN:VEVENT
DTSTART;TZID=America/Montevideo:20250523T200000
DTEND;TZID=America/Montevideo:20250523T200000
DTSTAMP:20260419T214843
CREATED:20250502T014142Z
LAST-MODIFIED:20250502T014142Z
UID:10002207-1748030400-1748030400@cineuniversitariodeluruguay.org.uy
SUMMARY:Night Has a Thousand Desires
DESCRIPTION:Bajo los efectos hipnóticos de Fabián\, “La Gran Irina” realiza con enorme éxito un número de telepatía en una sala de fiestas. Después de sufrir terribles pesadillas en las que comete crímenes\, acude al médico. Este averigua que Irina\, manejada hipnoticamente por Fabián\, le sirve de instrumento para llevar a cabo una venganza personal.
URL:https://cineuniversitariodeluruguay.org.uy/actividad/night-has-a-thousand-desires/
ATTACH;FMTTYPE=image/jpeg:https://cineuniversitariodeluruguay.org.uy/wp-content/uploads/NightHasaThousandDesires_45800-FRjTOk.tmp_.jpg
END:VEVENT
BEGIN:VEVENT
DTSTART;TZID=America/Montevideo:20250523T174500
DTEND;TZID=America/Montevideo:20250523T174500
DTSTAMP:20260419T214843
CREATED:20250502T014137Z
LAST-MODIFIED:20250502T014137Z
UID:10002205-1748022300-1748022300@cineuniversitariodeluruguay.org.uy
SUMMARY:Babe
DESCRIPTION:En la granja Hogget vive toda clase de animales. Cada animal atiene un trabajo que sabe como hacer y cada uno intenta hacerlo bien\, porque sabe cual es su sitio. A la granja llega Babe\, un cerdito que el granjero ha ganado en un concurso. Hogget siente que hay algo especial en Babe y decide enseñarle el oficio de perro pastor y de esta forma tan peculiar\, Babe evita ser la cena de Navidad.
URL:https://cineuniversitariodeluruguay.org.uy/actividad/babe/
ATTACH;FMTTYPE=image/jpeg:https://cineuniversitariodeluruguay.org.uy/wp-content/uploads/Babe_45800-QwvkTe.tmp_.jpg
END:VEVENT
BEGIN:VEVENT
DTSTART;TZID=America/Montevideo:20250523T173000
DTEND;TZID=America/Montevideo:20250523T173000
DTSTAMP:20260419T214843
CREATED:20250502T014138Z
LAST-MODIFIED:20250502T014138Z
UID:10002206-1748021400-1748021400@cineuniversitariodeluruguay.org.uy
SUMMARY:Val
DESCRIPTION:Durante más de 40 años\, Val Kilmer\, uno de los actores más volubles y / o incomprendidos de Hollywood\, ha estado documentando su propia vida y su oficio a través de películas y videos. Ha acumulado miles de horas de metraje\, desde películas caseras de 16 mm hechas con sus hermanos hasta el tiempo que pasó en papeles icónicos para películas de gran éxito como Top Gun\, The Doors\, Tombstone y Batman Forever. Este documental crudo\, salvajemente original e inquebrantable revela una vida vivida hasta los extremos y una mirada llena de corazón\, a veces hilarante\, sobre lo que significa ser un artista y un hombre complejo.
URL:https://cineuniversitariodeluruguay.org.uy/actividad/val/
ATTACH;FMTTYPE=image/jpeg:https://cineuniversitariodeluruguay.org.uy/wp-content/uploads/Val_45800-T5mIas.tmp_.jpg
END:VEVENT
BEGIN:VEVENT
DTSTART;TZID=America/Montevideo:20250522T174500
DTEND;TZID=America/Montevideo:20250522T174500
DTSTAMP:20260419T214843
CREATED:20250502T014136Z
LAST-MODIFIED:20250502T014136Z
UID:10002204-1747935900-1747935900@cineuniversitariodeluruguay.org.uy
SUMMARY:Cold Fever
DESCRIPTION:Todo lo que el pobre Atsushi Hirata quería realmente es dejar atrás el frío invierno de Japón y poder tomarse una semana de vacaciones en la cálida Hawaii. Pero\, desafortunadamente\, Atsushi tendrá que hacer honor a una tradición y acabar en la aún más fría Islandia para rendir tributo a un pariente que murió 7 años atrás… Road movie que narra el viaje físico y espiritual de un hombre ordinario a través de un país muy extraño. Un viaje que cambiará su vida para siempre. (FILMAFFINITY)
URL:https://cineuniversitariodeluruguay.org.uy/actividad/cold-fever/
ATTACH;FMTTYPE=image/jpeg:https://cineuniversitariodeluruguay.org.uy/wp-content/uploads/ColdFever_45799-sQKA2a.tmp_.jpg
END:VEVENT
BEGIN:VEVENT
DTSTART;TZID=America/Montevideo:20250522T173000
DTEND;TZID=America/Montevideo:20250522T173000
DTSTAMP:20260419T214843
CREATED:20250502T014135Z
LAST-MODIFIED:20250502T014135Z
UID:10002203-1747935000-1747935000@cineuniversitariodeluruguay.org.uy
SUMMARY:Rolling Stones Shine A Light
DESCRIPTION:Martin Scorsese y los Rolling Stones se unen en ‘Shine A Light’\, una mirada a los Rolling Stones.’ Scorsese filmó a los Stones durante un período de dos días en el íntimo Beacon Theatre de la ciudad de Nueva York en el otoño de 2006. Los directores de fotografía capturan la energía cruda de la legendaria banda.
URL:https://cineuniversitariodeluruguay.org.uy/actividad/rolling-stones-shine-a-light/
ATTACH;FMTTYPE=image/jpeg:https://cineuniversitariodeluruguay.org.uy/wp-content/uploads/RollingStonesShineALight_45799-pQKMsu.tmp_.jpg
END:VEVENT
BEGIN:VEVENT
DTSTART;TZID=America/Montevideo:20250521T174500
DTEND;TZID=America/Montevideo:20250521T174500
DTSTAMP:20260419T214843
CREATED:20250502T014134Z
LAST-MODIFIED:20250502T014134Z
UID:10002202-1747849500-1747849500@cineuniversitariodeluruguay.org.uy
SUMMARY:La Niebla
DESCRIPTION:En la costa de California se alza el pintoresco centro turístico de Antonio Bay. Mientras sus residentes se preparan para las celebraciones del centenario de la ciudad\, la tripulación de un viejo barco aparece brutalmente asesinada. Al mismo tiempo\, en el mar\, una misteriosa niebla que oculta un mortífero secreto comienza a desplazarse inexorablemente cada noche hacia la costa. Según una leyenda local\, estos extraños sucesos están aparentemente relacionados con un terrible acontecimiento sucedido hace cien años. A medida que se aproxima el día del centenario el horror se acerca a su clímax.
URL:https://cineuniversitariodeluruguay.org.uy/actividad/la-niebla/
ATTACH;FMTTYPE=image/jpeg:https://cineuniversitariodeluruguay.org.uy/wp-content/uploads/LaNiebla_45798-MaCDYF.tmp_.jpg
END:VEVENT
BEGIN:VEVENT
DTSTART;TZID=America/Montevideo:20250521T173000
DTEND;TZID=America/Montevideo:20250521T173000
DTSTAMP:20260419T214843
CREATED:20250502T014130Z
LAST-MODIFIED:20250502T014130Z
UID:10002201-1747848600-1747848600@cineuniversitariodeluruguay.org.uy
SUMMARY:Los Pajaros
DESCRIPTION:Melanie\, una joven rica y snob de la alta sociedad de San Francisco\, conoce casualmente en una pajarería al abogado Mitch Brenner\, que ha ido a comprar un regalo de cumpleaños para Kathy\, su hermana pequeña. Mitch\, que conoce por la prensa la alocada vida de Melanie\, la trata despectivamente y se va de la tienda dejándola bastante irritada. Ella\, que no está acostumbrada a que la traten así\, encarga unos periquitos y los lleva a casa del abogado\, pero Mitch se ha ido a pasar el fin de semana a casa de su madre. Entonces\, Melanie decide ir a Bodega Bay y presentarse en casa de los Brenner con el pretexto de regalar los periquitos a Kathy. En cuanto ella llega\, los pájaros\, enloquecidos\, empiezan a atacar salvajemente a los habitantes del lugar. La situación se agrava a medida que avanzan las horas.
URL:https://cineuniversitariodeluruguay.org.uy/actividad/los-pajaros-2/
ATTACH;FMTTYPE=image/jpeg:https://cineuniversitariodeluruguay.org.uy/wp-content/uploads/LosPajaros_45798-k6qn9y.tmp_.jpg
END:VEVENT
BEGIN:VEVENT
DTSTART;TZID=America/Montevideo:20250520T174500
DTEND;TZID=America/Montevideo:20250520T174500
DTSTAMP:20260419T214843
CREATED:20250502T014129Z
LAST-MODIFIED:20250502T014129Z
UID:10002200-1747763100-1747763100@cineuniversitariodeluruguay.org.uy
SUMMARY:Sala samobójców
DESCRIPTION:Dominik es un joven en apariencia normal\, con dinero\, éxito y amigos. Desde un punto de vista social bien adaptado; deportista y como todos los jóvenes de hoy día\, adicto a las nuevas tecnologías. Su vida comienza a cambiar cuando en la búsqueda de su identidad sexual es marginado por familia y amigos\, recluyéndose poco a poco en su particular mundo.
URL:https://cineuniversitariodeluruguay.org.uy/actividad/sala-samobojcow/
ATTACH;FMTTYPE=image/jpeg:https://cineuniversitariodeluruguay.org.uy/wp-content/uploads/Salasamobjcw_45797-smtqJh.tmp_.jpg
END:VEVENT
BEGIN:VEVENT
DTSTART;TZID=America/Montevideo:20250520T173000
DTEND;TZID=America/Montevideo:20250520T173000
DTSTAMP:20260419T214843
CREATED:20250502T014128Z
LAST-MODIFIED:20250502T014128Z
UID:10002199-1747762200-1747762200@cineuniversitariodeluruguay.org.uy
SUMMARY:Marnie
DESCRIPTION:Marnie es una embustera y una ladrona compulsiva que se sirve de su trabajo como secretaria para robar. Cuando Mark Rutland la contrata\, no sólo no abandona sus delictivos hábitos\, sino que\, además\, se comporta de manera absolutamente desquiciada. A pesar de todo\, Mark\, cediendo a un impulso inexplicable\, decide casarse con ella y averiguar las razones de su obsesivo comportamiento. Cuando un terrible accidente lleva a Marnie a una situación límite\, Mark la obliga a enfrentarse a sus terrores cuyas raíces se hunden en el pasado.
URL:https://cineuniversitariodeluruguay.org.uy/actividad/marnie/
ATTACH;FMTTYPE=image/jpeg:https://cineuniversitariodeluruguay.org.uy/wp-content/uploads/Marnie_45797-LP9rx8.tmp_.jpg
END:VEVENT
BEGIN:VEVENT
DTSTART;TZID=America/Montevideo:20250518T200000
DTEND;TZID=America/Montevideo:20250518T200000
DTSTAMP:20260419T214843
CREATED:20250502T014126Z
LAST-MODIFIED:20250502T014126Z
UID:10002198-1747598400-1747598400@cineuniversitariodeluruguay.org.uy
SUMMARY:La isla del  Dr Moreau
DESCRIPTION:Tras sobrevivir a un accidente de avión en el mar\, el negociador de la ONU Edward Douglas (David Thewlis) es recogido en medio del mar y llevado a una misteriosa isla habitada por unos seres extraños y deformes que están a las órdenes de un siniestro médico\, el Dr. Moreau (Marlon Brando).
URL:https://cineuniversitariodeluruguay.org.uy/actividad/la-isla-del-dr-moreau/
ATTACH;FMTTYPE=image/jpeg:https://cineuniversitariodeluruguay.org.uy/wp-content/uploads/LaisladelDrMoreau_45795-BAx6A9.tmp_.jpg
END:VEVENT
BEGIN:VEVENT
DTSTART;TZID=America/Montevideo:20250518T174500
DTEND;TZID=America/Montevideo:20250518T174500
DTSTAMP:20260419T214843
CREATED:20250502T014118Z
LAST-MODIFIED:20250502T014118Z
UID:10002196-1747590300-1747590300@cineuniversitariodeluruguay.org.uy
SUMMARY:Desayuno en Tiffanys
DESCRIPTION:Holly Golightly es una bella joven de la alta sociedad neoyorquina que bajo su vida alegre esconde una gran tristeza. Holly tiene un comportamiento algo alocado\, y alguna manía\, como por ejemplo desayunar contemplando el escaparate de la lujosa joyería Tiffanys. Un día se muda a su mismo edificio Paul Varjak\, un escritor en ciernes que mientras espera alcanzar un éxito que nunca llega vive de la relación con una mujer madura que le mantiene. Holly y Paul enseguida entablarán una bonita amistad.
URL:https://cineuniversitariodeluruguay.org.uy/actividad/desayuno-en-tiffanys/
ATTACH;FMTTYPE=image/jpeg:https://cineuniversitariodeluruguay.org.uy/wp-content/uploads/DesayunoenTiffanys_45795-nWqwuW.tmp_.jpg
END:VEVENT
BEGIN:VEVENT
DTSTART;TZID=America/Montevideo:20250518T173000
DTEND;TZID=America/Montevideo:20250518T173000
DTSTAMP:20260419T214843
CREATED:20250502T014119Z
LAST-MODIFIED:20250502T014119Z
UID:10002197-1747589400-1747589400@cineuniversitariodeluruguay.org.uy
SUMMARY:The Doors
DESCRIPTION:Jim Morrison\, cabeza visible de The Doors\, para muchos fue un regalo de Dios; para otros\, un vástago del Diablo. Vivió al límite\, en una anárquica carrera autodestructiva salpicada de escándalos y arrebatos de ira y de pasión que lo hundieron en un abismo de sexo\, alcohol y drogas.
URL:https://cineuniversitariodeluruguay.org.uy/actividad/the-doors/
ATTACH;FMTTYPE=image/jpeg:https://cineuniversitariodeluruguay.org.uy/wp-content/uploads/TheDoors_45795-J0V95l.tmp_.jpg
END:VEVENT
BEGIN:VEVENT
DTSTART;TZID=America/Montevideo:20250517T190000
DTEND;TZID=America/Montevideo:20250517T190000
DTSTAMP:20260419T214843
CREATED:20250502T014108Z
LAST-MODIFIED:20250502T014108Z
UID:10002194-1747508400-1747508400@cineuniversitariodeluruguay.org.uy
SUMMARY:Fuego contra Fuego
DESCRIPTION:Neil McCauley es un experto ladrón. Su filosofía consiste en vivir sin ataduras que puedan constituir un obstáculo\, si las cosas se complican. Su banda la forman criminales profesionales tan cualificados que pueden impresionar incluso al detective Vincent Hanna. Pero Hannah vive tan obsesionado con su trabajo que llega incluso a poner en peligro su relación sentimental. Cuando la banda de McCauley prepara el golpe definitivo y el equipo de Hannah intenta evitarlo\, cada uno de ellos comprende que tiene que vérselas con una de las mentes más brillantes a la que se ha enfrentado en su carrera.
URL:https://cineuniversitariodeluruguay.org.uy/actividad/fuego-contra-fuego/
ATTACH;FMTTYPE=image/jpeg:https://cineuniversitariodeluruguay.org.uy/wp-content/uploads/FuegocontraFuego_45794-pUjMPG.tmp_.jpg
END:VEVENT
BEGIN:VEVENT
DTSTART;TZID=America/Montevideo:20250517T184500
DTEND;TZID=America/Montevideo:20250517T184500
DTSTAMP:20260419T214843
CREATED:20250502T014117Z
LAST-MODIFIED:20250502T014117Z
UID:10002195-1747507500-1747507500@cineuniversitariodeluruguay.org.uy
SUMMARY:La Tierra Purpurea vol 2
DESCRIPTION:
URL:https://cineuniversitariodeluruguay.org.uy/actividad/la-tierra-purpurea-vol-2/
END:VEVENT
BEGIN:VEVENT
DTSTART;TZID=America/Montevideo:20250516T173000
DTEND;TZID=America/Montevideo:20250516T173000
DTSTAMP:20260419T214843
CREATED:20250502T014105Z
LAST-MODIFIED:20250502T014105Z
UID:10002193-1747416600-1747416600@cineuniversitariodeluruguay.org.uy
SUMMARY:Top Gun
DESCRIPTION:La Marina de los Estados Unidos ha creado una escuela de élite para pilotos con el fin de sacar una promoción de expertos en técnicas de combate. En la academia\, más conocida como Top Gun\, a los mejores se les entrena para ser intrépidos y fríos al mismo tiempo\, capaces de no perder los nervios en situaciones extremas y de no inmutarse al romper la barrera del sonido a los mandos de un F-14. A la escuela llega el joven Maverick\, famoso por su temeraria aunque brillante forma de pilotar.
URL:https://cineuniversitariodeluruguay.org.uy/actividad/top-gun/
ATTACH;FMTTYPE=image/jpeg:https://cineuniversitariodeluruguay.org.uy/wp-content/uploads/TopGun_45793-suMJeD.tmp_.jpg
END:VEVENT
BEGIN:VEVENT
DTSTART;TZID=America/Montevideo:20250515T174500
DTEND;TZID=America/Montevideo:20250515T174500
DTSTAMP:20260419T214843
CREATED:20250502T014104Z
LAST-MODIFIED:20250502T014104Z
UID:10002192-1747331100-1747331100@cineuniversitariodeluruguay.org.uy
SUMMARY:El día de la bestia
DESCRIPTION:Un sacerdote cree haber encontrado el mensaje secreto del Apocalipsis según San Juan: El Anticristo nacerá el 25 de diciembre de 1995 en Madrid. Para detener este nacimiento satánico\, el cura se une a un joven aficionado al death metal\, José María\, intentando por todos los medios descubrir en qué parte de Madrid tendrá lugar el apocalíptico evento. Con la ayuda del profesor Cavan\, que presenta un programa de televisión sobre el mundo esotérico y sobrenatural\, el cura y José Mari invocan al diablo en una extraña ceremonia.
URL:https://cineuniversitariodeluruguay.org.uy/actividad/el-dia-de-la-bestia-2/
ATTACH;FMTTYPE=image/jpeg:https://cineuniversitariodeluruguay.org.uy/wp-content/uploads/Eldadelabestia_45792-sxEp7B.tmp_.jpg
END:VEVENT
BEGIN:VEVENT
DTSTART;TZID=America/Montevideo:20250515T173000
DTEND;TZID=America/Montevideo:20250515T173000
DTSTAMP:20260419T214843
CREATED:20250502T014103Z
LAST-MODIFIED:20250502T014103Z
UID:10002191-1747330200-1747330200@cineuniversitariodeluruguay.org.uy
SUMMARY:Across The Universe
DESCRIPTION:Musical romántico ambientado en los años 60 del siglo XX\, en la época de las turbulentas protestas contra la guerra\, la exploración mental y el rock’n roll. La historia gira en torno a institutos y universidades en Massachusetts\, Princeton y Ohio\, y se traslada desde los muelles de Liverpool hasta la psicodelia creativa de Greenwich Village en Nueva York; desde las revueltas en las calles de Detroit hasta los campos de muerte de Vietnam.
URL:https://cineuniversitariodeluruguay.org.uy/actividad/across-the-universe/
ATTACH;FMTTYPE=image/jpeg:https://cineuniversitariodeluruguay.org.uy/wp-content/uploads/AcrossTheUniverse_45792-G9E3Sd.tmp_.jpg
END:VEVENT
BEGIN:VEVENT
DTSTART;TZID=America/Montevideo:20250514T174500
DTEND;TZID=America/Montevideo:20250514T174500
DTSTAMP:20260419T214843
CREATED:20250502T014039Z
LAST-MODIFIED:20250502T014039Z
UID:10002190-1747244700-1747244700@cineuniversitariodeluruguay.org.uy
SUMMARY:Welcome Back\, Mr. McDonald
DESCRIPTION:A love story written by an ordinary housewife is going to be broadcast as a radio drama and almost everyone among the crew insists on changing various parts of the play to their liking.
URL:https://cineuniversitariodeluruguay.org.uy/actividad/welcome-back-mr-mcdonald/
ATTACH;FMTTYPE=image/jpeg:https://cineuniversitariodeluruguay.org.uy/wp-content/uploads/WelcomeBackMrMcDonald_45791-T36xgn.tmp_.jpg
END:VEVENT
BEGIN:VEVENT
DTSTART;TZID=America/Montevideo:20250513T174500
DTEND;TZID=America/Montevideo:20250513T174500
DTSTAMP:20260419T214843
CREATED:20250502T013930Z
LAST-MODIFIED:20250502T013930Z
UID:10002189-1747158300-1747158300@cineuniversitariodeluruguay.org.uy
SUMMARY:La soga
DESCRIPTION:A casa de dos estudiantes van llegando los invitados a una especie de fiesta de fin de curso. El invitado que más temen es su tutor y profesor\, un astuto criminólogo que sostiene que el crimen perfecto no existe\, aunque ellos se han propuesto demostrar lo contrario. En efecto\, con su llegada crece cada vez más la tensión y el nerviosismo de los jóvenes. Y no es para menos\, porque tienen un cadáver encerrado en el arcón que sirve de mesa para la cena. Cuando\, al final de la fiesta\, profesor y alumnos se quedan solos\, los errores y contradicciones en que éstos incurren son tales que el profesor empieza a comprender que han asesinado al joven invitado que han estado esperando en vano toda la noche.
URL:https://cineuniversitariodeluruguay.org.uy/actividad/la-soga-2/
ATTACH;FMTTYPE=image/jpeg:https://cineuniversitariodeluruguay.org.uy/wp-content/uploads/Lasoga_45790-KS6E2E.tmp_.jpg
END:VEVENT
BEGIN:VEVENT
DTSTART;TZID=America/Montevideo:20250510T183000
DTEND;TZID=America/Montevideo:20250510T183000
DTSTAMP:20260419T214843
CREATED:20250502T013727Z
LAST-MODIFIED:20250507T173256Z
UID:10002184-1746901800-1746901800@cineuniversitariodeluruguay.org.uy
SUMMARY:La Tierra Purpúrea
DESCRIPTION:Los cambios que atravesaron los uruguayos durante 80 años y sus luchas sociales por hacer del país un lugar más justo\, desde que se hablaba de “la Suiza de América” hasta los años del progresismo\, pasando por la oscuridad del terrorismo de Estado. \nSábado 10/5. Primera Parte: De campeones mundiales (1950) al estado de guerra (1972).\nSábado 17/5. Segunda Parte: El golpe de Estado; la dictadura\, la nueva democracia.\nSábado 24/5. Tercera parte: De 2005 a 2019.\nSábado 31/5. Segunda Parte: Epílogo.
URL:https://cineuniversitariodeluruguay.org.uy/actividad/la-tierra-purpurea-vol-1/
ATTACH;FMTTYPE=image/png:https://cineuniversitariodeluruguay.org.uy/wp-content/uploads/La_Tierra_Purpurea_1200w.png
END:VEVENT
BEGIN:VEVENT
DTSTART;TZID=America/Montevideo:20250510T173000
DTEND;TZID=America/Montevideo:20250510T173000
DTSTAMP:20260419T214843
CREATED:20250502T013726Z
LAST-MODIFIED:20250502T013726Z
UID:10002183-1746898200-1746898200@cineuniversitariodeluruguay.org.uy
SUMMARY:Top Secret!
DESCRIPTION:La famosa estrella del rock americano Nick Rivers llega a la Alemania Oriental de nuestros días\, para presentarse a un importante festival cultural. Pero este hecho forma parte de un plan para distraer la atención del mundo exterior sobre lo que está sucediendo realmente. El alto mando de Alemania Oiental\, encabezado por el general Streck\, se propone reunir nuevamente las dos Alemanias bajo un sólo gobierno\, el de Alemania Oriental.
URL:https://cineuniversitariodeluruguay.org.uy/actividad/top-secret/
ATTACH;FMTTYPE=image/jpeg:https://cineuniversitariodeluruguay.org.uy/wp-content/uploads/TopSecret_45787-mdQQA1.tmp_.jpg
END:VEVENT
BEGIN:VEVENT
DTSTART;TZID=America/Montevideo:20250509T200000
DTEND;TZID=America/Montevideo:20250509T200000
DTSTAMP:20260419T214843
CREATED:20250502T013725Z
LAST-MODIFIED:20250502T013725Z
UID:10002182-1746820800-1746820800@cineuniversitariodeluruguay.org.uy
SUMMARY:Deranged
DESCRIPTION:La historia trata de un  hombre que vive en una zona rural de Wisconsin cuidando a su madre\, que es muy dominante y le enseña\, que todas las mujeres son malas…
URL:https://cineuniversitariodeluruguay.org.uy/actividad/deranged/
ATTACH;FMTTYPE=image/jpeg:https://cineuniversitariodeluruguay.org.uy/wp-content/uploads/Deranged_45786-mdRzu1.tmp_.jpg
END:VEVENT
BEGIN:VEVENT
DTSTART;TZID=America/Montevideo:20250509T174500
DTEND;TZID=America/Montevideo:20250509T174500
DTSTAMP:20260419T214843
CREATED:20250502T013610Z
LAST-MODIFIED:20250502T013610Z
UID:10002181-1746812700-1746812700@cineuniversitariodeluruguay.org.uy
SUMMARY:The Lawnmower Man
DESCRIPTION:Un científico logra incrementar de forma extraordinaria la inteligencia de un deficiente mental mediante una combinación de drogas y realidad virtual. Pero el poder cerebral de este individuo pronto escapa al control del científico
URL:https://cineuniversitariodeluruguay.org.uy/actividad/the-lawnmower-man/
ATTACH;FMTTYPE=image/jpeg:https://cineuniversitariodeluruguay.org.uy/wp-content/uploads/TheLawnmowerMan_45786-0c8Zjv.tmp_.jpg
END:VEVENT
BEGIN:VEVENT
DTSTART;TZID=America/Montevideo:20250508T174500
DTEND;TZID=America/Montevideo:20250508T174500
DTSTAMP:20260419T214843
CREATED:20250502T013609Z
LAST-MODIFIED:20250502T013609Z
UID:10002180-1746726300-1746726300@cineuniversitariodeluruguay.org.uy
SUMMARY:Buena Vista Social Club
DESCRIPTION:Cuando\, en 1996\, Ry Cooder viajó a Cuba para grabar un álbum con Ibrahim Ferrer y los músicos que habían colaborado en el disco Buena Vista Social Club (en Cuba conocidos como los superabuelos)\, Wenders lo siguió: observó a los músicos en el estudio y rastreó sus vidas en La Habana. Después rodó en Ámsterdam\, donde la banda ofreció dos conciertos y\, finalmente\, en Nueva York\, durante un espectáculo en el legendario Carnegie Hall.
URL:https://cineuniversitariodeluruguay.org.uy/actividad/buena-vista-social-club/
ATTACH;FMTTYPE=image/jpeg:https://cineuniversitariodeluruguay.org.uy/wp-content/uploads/BuenaVistaSocialClub_45785-L79ROp.tmp_.jpg
END:VEVENT
BEGIN:VEVENT
DTSTART;TZID=America/Montevideo:20250507T173000
DTEND;TZID=America/Montevideo:20250507T173000
DTSTAMP:20260419T214843
CREATED:20250502T013608Z
LAST-MODIFIED:20250502T013608Z
UID:10002179-1746639000-1746639000@cineuniversitariodeluruguay.org.uy
SUMMARY:Buenos dias\, Vietnam
DESCRIPTION:Vietnam. 1965. Un pinchadiscos de la radio\, Adrian Cronauer\, es enviado a Saigón para trabajar en la emisora del ejército norteamericano. En contraste con sus aburridos antecesores\, Cronauer es pura dinamita\, sus comentarios irreverentes\, sus tacos e improperios y sus críticas al vicepresidente\, le hacen ganarse el aprecio de las tropas. Sin embargo su superior el teniente Hauk no es de la misma opinión.
URL:https://cineuniversitariodeluruguay.org.uy/actividad/buenos-dias-vietnam/
ATTACH;FMTTYPE=image/jpeg:https://cineuniversitariodeluruguay.org.uy/wp-content/uploads/BuenosdiasVietnam_45784-IshL11.tmp_.jpg
END:VEVENT
BEGIN:VEVENT
DTSTART;TZID=America/Montevideo:20250506T174500
DTEND;TZID=America/Montevideo:20250506T174500
DTSTAMP:20260419T214843
CREATED:20250502T013430Z
LAST-MODIFIED:20250502T013430Z
UID:10002178-1746553500-1746553500@cineuniversitariodeluruguay.org.uy
SUMMARY:Existenz
DESCRIPTION:Refleja una sociedad en la que los diseñadores de juegos son venerados como ídolos y los jugadores pueden entrar orgánicamente en los juegos. Alegra Geller es la autora eXistenZ\, el juego más original\, que impide a los usuarios distinguir los límites entre la realidad y la fantasía.
URL:https://cineuniversitariodeluruguay.org.uy/actividad/existenz/
ATTACH;FMTTYPE=image/jpeg:https://cineuniversitariodeluruguay.org.uy/wp-content/uploads/Existenz_45783-fKb4sZ.tmp_.jpg
END:VEVENT
BEGIN:VEVENT
DTSTART;TZID=America/Montevideo:20250506T173000
DTEND;TZID=America/Montevideo:20250506T173000
DTSTAMP:20260419T214843
CREATED:20250502T013429Z
LAST-MODIFIED:20250502T013429Z
UID:10002177-1746552600-1746552600@cineuniversitariodeluruguay.org.uy
SUMMARY:Los pajaros
DESCRIPTION:Melanie\, una joven rica y snob de la alta sociedad de San Francisco\, conoce casualmente en una pajarería al abogado Mitch Brenner\, que ha ido a comprar un regalo de cumpleaños para Kathy\, su hermana pequeña. Mitch\, que conoce por la prensa la alocada vida de Melanie\, la trata despectivamente y se va de la tienda dejándola bastante irritada. Ella\, que no está acostumbrada a que la traten así\, encarga unos periquitos y los lleva a casa del abogado\, pero Mitch se ha ido a pasar el fin de semana a casa de su madre. Entonces\, Melanie decide ir a Bodega Bay y presentarse en casa de los Brenner con el pretexto de regalar los periquitos a Kathy. En cuanto ella llega\, los pájaros\, enloquecidos\, empiezan a atacar salvajemente a los habitantes del lugar. La situación se agrava a medida que avanzan las horas.
URL:https://cineuniversitariodeluruguay.org.uy/actividad/los-pajaros/
ATTACH;FMTTYPE=image/jpeg:https://cineuniversitariodeluruguay.org.uy/wp-content/uploads/Lospajaros_45783-evSYOi.tmp_.jpg
END:VEVENT
BEGIN:VEVENT
DTSTART;TZID=America/Montevideo:20250504T200000
DTEND;TZID=America/Montevideo:20250504T200000
DTSTAMP:20260419T214843
CREATED:20250502T013428Z
LAST-MODIFIED:20250502T013428Z
UID:10002176-1746388800-1746388800@cineuniversitariodeluruguay.org.uy
SUMMARY:Dust Devil
DESCRIPTION:Un ser extraño proviene del desierto en busca de víctimas: aquéllos que lo han perdido todo\, que se encuentran solos\, abandonados\, llenos de desamor\, aquéllos cuya alma y su vida es lo único que tienen. Así\, tras romper con su marido\, Wendy recoge a un extranjero en su coche\, mientras conducía sin destino. Se empezará a maldecir cuando se inician una sucesión de hechos de lo más extraños a raíz\, según cree\, de recoger a ese misterioso hombre.
URL:https://cineuniversitariodeluruguay.org.uy/actividad/dust-devil/
ATTACH;FMTTYPE=image/jpeg:https://cineuniversitariodeluruguay.org.uy/wp-content/uploads/DustDevil_45781-s716dO.tmp_.jpg
END:VEVENT
END:VCALENDAR