BEGIN:VCALENDAR
VERSION:2.0
PRODID:-//Cine Universitario del Uruguay - ECPv6.0.9//NONSGML v1.0//EN
CALSCALE:GREGORIAN
METHOD:PUBLISH
X-ORIGINAL-URL:https://cineuniversitariodeluruguay.org.uy
X-WR-CALDESC:Eventos para Cine Universitario del Uruguay
REFRESH-INTERVAL;VALUE=DURATION:PT1H
X-Robots-Tag:noindex
X-PUBLISHED-TTL:PT1H
BEGIN:VTIMEZONE
TZID:America/Montevideo
BEGIN:STANDARD
TZOFFSETFROM:-0300
TZOFFSETTO:-0300
TZNAME:-03
DTSTART:20250101T000000
END:STANDARD
END:VTIMEZONE
BEGIN:VEVENT
DTSTART;TZID=America/Montevideo:20250426T183000
DTEND;TZID=America/Montevideo:20250426T183000
DTSTAMP:20260420T040113
CREATED:20250331T185124Z
LAST-MODIFIED:20250331T210350Z
UID:10002155-1745692200-1745692200@cineuniversitariodeluruguay.org.uy
SUMMARY:Lawrence de Arabia
DESCRIPTION:Biografía de T.E. Lawrence. El Cairo\, 1917. Un conflictivo y enigmático oficial británico es enviado al desierto árabe durante la Gran Guerra en la campaña de ayuda a Arabia contra Turquía. En el desierto\, se hace amigo de Sherif Ali Ben El Kharish y pone todo su empeño en la ayuda a los árabes. Éstos creen que Lawrence es otro amante del desierto que ayuda porque cree que Arabia es débil\, mientras que sus superiores británicos creen que se ha vuelto loco. Cuando los planes de Lawrence consiguen llevarse a cabo con éxito\, comienza a ganarse enemigos.
URL:https://cineuniversitariodeluruguay.org.uy/actividad/lawrence-de-arabia/
ATTACH;FMTTYPE=image/jpeg:https://cineuniversitariodeluruguay.org.uy/wp-content/uploads/LawrencedeArabia_45773.jpg
END:VEVENT
BEGIN:VEVENT
DTSTART;TZID=America/Montevideo:20250426T173000
DTEND;TZID=America/Montevideo:20250426T173000
DTSTAMP:20260420T040113
CREATED:20250331T185123Z
LAST-MODIFIED:20250331T210220Z
UID:10002154-1745688600-1745688600@cineuniversitariodeluruguay.org.uy
SUMMARY:Audition
DESCRIPTION:Un cuarentón viudo\, a propuesta de un amigo\, convoca un casting para una inexistente película con la intención de encontrar una nueva esposa\, pero se embarcará en una relación donde las torturas y el dolor físico formarán parte de su vida.
URL:https://cineuniversitariodeluruguay.org.uy/actividad/audition-2/
ATTACH;FMTTYPE=image/jpeg:https://cineuniversitariodeluruguay.org.uy/wp-content/uploads/Audition_45773.jpg
END:VEVENT
BEGIN:VEVENT
DTSTART;TZID=America/Montevideo:20250425T190000
DTEND;TZID=America/Montevideo:20250425T190000
DTSTAMP:20260420T040113
CREATED:20250331T185121Z
LAST-MODIFIED:20250331T210108Z
UID:10002153-1745607600-1745607600@cineuniversitariodeluruguay.org.uy
SUMMARY:Genghis Khan
DESCRIPTION:Comienzos del siglo XIII. Un joven mongol llamado Temujin\, que llegó a ser el poderoso Genghis Khan\, invadió toda Asia y gobernó un vasto imperio.
URL:https://cineuniversitariodeluruguay.org.uy/actividad/genghis-khan/
ATTACH;FMTTYPE=image/jpeg:https://cineuniversitariodeluruguay.org.uy/wp-content/uploads/GenghisKhan_45772.jpg
END:VEVENT
BEGIN:VEVENT
DTSTART;TZID=America/Montevideo:20250425T173000
DTEND;TZID=America/Montevideo:20250425T173000
DTSTAMP:20260420T040113
CREATED:20250331T185103Z
LAST-MODIFIED:20250331T210016Z
UID:10002152-1745602200-1745602200@cineuniversitariodeluruguay.org.uy
SUMMARY:Dark Water
DESCRIPTION:El fantasma de una escolar acecha a una mujer divorciada y a su joven hija tras mudarse a un viejo edificio.
URL:https://cineuniversitariodeluruguay.org.uy/actividad/dark-water/
ATTACH;FMTTYPE=image/jpeg:https://cineuniversitariodeluruguay.org.uy/wp-content/uploads/DarkWater_45772.jpg
END:VEVENT
BEGIN:VEVENT
DTSTART;TZID=America/Montevideo:20250424T200000
DTEND;TZID=America/Montevideo:20250424T200000
DTSTAMP:20260420T040113
CREATED:20250331T185101Z
LAST-MODIFIED:20250404T122448Z
UID:10002150-1745524800-1745524800@cineuniversitariodeluruguay.org.uy
SUMMARY:Un hombre sin pasado
DESCRIPTION:Un hombre que ha perdido completamente la memoria debe reiniciar su vida en una zona marginal\, junto a seres humanos apartados de la sociedad.
URL:https://cineuniversitariodeluruguay.org.uy/actividad/un-hombre-sin-pasado/
ATTACH;FMTTYPE=image/jpeg:https://cineuniversitariodeluruguay.org.uy/wp-content/uploads/Unhombresinpasado_45771.jpg
END:VEVENT
BEGIN:VEVENT
DTSTART;TZID=America/Montevideo:20250424T173000
DTEND;TZID=America/Montevideo:20250424T173000
DTSTAMP:20260420T040113
CREATED:20250331T185102Z
LAST-MODIFIED:20250331T205808Z
UID:10002151-1745515800-1745515800@cineuniversitariodeluruguay.org.uy
SUMMARY:El pago
DESCRIPTION:Michael Jennings es un brillante ingeniero que trabaja en proyectos especializados para una compañía de alta tecnología. Cada vez que completa un trabajo\, éste es borrado de su memoria para que no pueda divulgar ningún secreto de la corporación. Muy bien pagado\, Jennings espera ganar 90 millones de dólares por su último proyecto\, en él ha estado trabajando tres años. Pero una vez finalizado\, en vez del cheque\, se le dice que él mismo accedió a perder el derecho a su pago. Con la memoria borrada como en los trabajos anteriores\, Jennings\, con la ayuda de su compañera y amante Rachel\, tratará de averiguar qué sucedió en todo ese tiempo\, del que no recuerda nada.
URL:https://cineuniversitariodeluruguay.org.uy/actividad/el-pago/
ATTACH;FMTTYPE=image/jpeg:https://cineuniversitariodeluruguay.org.uy/wp-content/uploads/Elpago_45771.jpg
END:VEVENT
BEGIN:VEVENT
DTSTART;TZID=America/Montevideo:20250423T174500
DTEND;TZID=America/Montevideo:20250423T174500
DTSTAMP:20260420T040113
CREATED:20250331T185059Z
LAST-MODIFIED:20250331T205719Z
UID:10002148-1745430300-1745430300@cineuniversitariodeluruguay.org.uy
SUMMARY:Drive
DESCRIPTION:Durante el día\, Driver trabaja en un taller y es conductor especialista de cine\, pero\, algunas noches de forma esporádica\, trabaja como chófer para delincuentes. Shannon\, su mentor y jefe\, que conoce bien su talento al volante\, le busca directores de cine y televisión o criminales que necesiten al mejor conductor para sus fugas\, llevándose la correspondiente comisión. Pero el mundo de Driver cambia el día en que conoce a Irene\, una guapa vecina que tiene un hijo pequeño y a su marido en la cárcel.
URL:https://cineuniversitariodeluruguay.org.uy/actividad/drive-2/
ATTACH;FMTTYPE=image/jpeg:https://cineuniversitariodeluruguay.org.uy/wp-content/uploads/Drive_45770.jpg
END:VEVENT
BEGIN:VEVENT
DTSTART;TZID=America/Montevideo:20250423T173000
DTEND;TZID=America/Montevideo:20250423T173000
DTSTAMP:20260420T040113
CREATED:20250331T185100Z
LAST-MODIFIED:20250331T205624Z
UID:10002149-1745429400-1745429400@cineuniversitariodeluruguay.org.uy
SUMMARY:La mala semilla
DESCRIPTION:Rhoda es una niña de ocho años\, perversa\, cínica y muy inteligente. Christine\, su madre\, que sospecha que ha asesinado a un compañero de colegio\, acaba relacionando este hecho con otros trágicos accidentes y piensa que la niña puede ser responsable de todos.
URL:https://cineuniversitariodeluruguay.org.uy/actividad/la-mala-semilla/
ATTACH;FMTTYPE=image/jpeg:https://cineuniversitariodeluruguay.org.uy/wp-content/uploads/Lamalasemilla_45770.jpg
END:VEVENT
BEGIN:VEVENT
DTSTART;TZID=America/Montevideo:20250422T174500
DTEND;TZID=America/Montevideo:20250422T174500
DTSTAMP:20260420T040113
CREATED:20250331T185050Z
LAST-MODIFIED:20250331T205013Z
UID:10002147-1745343900-1745343900@cineuniversitariodeluruguay.org.uy
SUMMARY:Los excéntricos Tenenbaums
DESCRIPTION:Royal Tenenbaum (Gene Hackman) y su mujer Etheline (Anjelica Huston)\, después de tener tres hijos\, Chas (Ben Stiller)\, Richie (Luke Wilson) y Margot (Gwyneth Paltrow)\, se han separado. Chas\, que trabaja en el sector inmobiliario\, parecía tener un don innato para las finanzas internacionales. Margot fue dramaturga y obtuvo una beca Braverman de 50.000 dólares cuando aún estaba en el instituto. Richie fue campeón junior de tenis y ganó los campeonatos de Estados Unidos tres años consecutivos. Pero todos los brillantes recuerdos de los jóvenes Tenenbaums quedan repentinamente borrados por dos décadas de traiciones\, fracasos y decepciones de las que consideran que su padre es el principal responsable.
URL:https://cineuniversitariodeluruguay.org.uy/actividad/los-excentricos-tenenbaums-2/
ATTACH;FMTTYPE=image/jpeg:https://cineuniversitariodeluruguay.org.uy/wp-content/uploads/LosexcntricosTenenbaums_45769.jpg
END:VEVENT
BEGIN:VEVENT
DTSTART;TZID=America/Montevideo:20250422T173000
DTEND;TZID=America/Montevideo:20250422T173000
DTSTAMP:20260420T040113
CREATED:20250331T185048Z
LAST-MODIFIED:20250408T222821Z
UID:10002146-1745343000-1745343000@cineuniversitariodeluruguay.org.uy
SUMMARY:The Florida Project
DESCRIPTION:Una niña de 6 años y sus amigos pasan el verano en un pequeño motel muy próximo a Disneyworld\, mientras sus padres y el resto de adultos que les rodean sufren aún los efectos de la crisis.
URL:https://cineuniversitariodeluruguay.org.uy/actividad/proyecto-florida/
ATTACH;FMTTYPE=image/jpeg:https://cineuniversitariodeluruguay.org.uy/wp-content/uploads/ProyectoFlorida_45769.jpg
END:VEVENT
BEGIN:VEVENT
DTSTART;TZID=America/Montevideo:20250420T200000
DTEND;TZID=America/Montevideo:20250420T200000
DTSTAMP:20260420T040113
CREATED:20250331T185047Z
LAST-MODIFIED:20250331T204721Z
UID:10002145-1745179200-1745179200@cineuniversitariodeluruguay.org.uy
SUMMARY:Magical Mistery Tour
DESCRIPTION:El argumento gira alrededor de un lugar en el cielo más allá de las nubes\, donde viven 4 ó 5 magos que por medio de fantásticos encantamientos convierten un ordinario viaje en autocar en el Magical Mystery Tour.
URL:https://cineuniversitariodeluruguay.org.uy/actividad/magical-mistery-tour/
ATTACH;FMTTYPE=image/jpeg:https://cineuniversitariodeluruguay.org.uy/wp-content/uploads/MagicalMisteryTour_45767.jpg
END:VEVENT
BEGIN:VEVENT
DTSTART;TZID=America/Montevideo:20250420T200000
DTEND;TZID=America/Montevideo:20250420T200000
DTSTAMP:20260420T040113
CREATED:20250331T185045Z
LAST-MODIFIED:20250331T204629Z
UID:10002143-1745179200-1745179200@cineuniversitariodeluruguay.org.uy
SUMMARY:Irreversible
DESCRIPTION:Irreversible. Porque el tiempo lo destruye todo. Porque algunos actos son irreparables. Porque el hombre es un animal. Porque el deseo de venganza es un impulso natural. Porque la mayoría de los crímenes quedan sin castigo. Porque la pérdida del amado destruye como un rayo. Porque el amor es el origen de la vida. Porque toda la historia se escribe con esperma y sangre. Porque las premoniciones no modifican el curso de los acontecimientos. Porque el tiempo lo revela todo: lo mejor y lo peor.
URL:https://cineuniversitariodeluruguay.org.uy/actividad/irreversible/
ATTACH;FMTTYPE=image/jpeg:https://cineuniversitariodeluruguay.org.uy/wp-content/uploads/Irreversible_45767.jpg
END:VEVENT
BEGIN:VEVENT
DTSTART;TZID=America/Montevideo:20250420T174500
DTEND;TZID=America/Montevideo:20250420T174500
DTSTAMP:20260420T040113
CREATED:20250331T185046Z
LAST-MODIFIED:20250331T204522Z
UID:10002144-1745171100-1745171100@cineuniversitariodeluruguay.org.uy
SUMMARY:En el calor de la noche
DESCRIPTION:En una pequeña población de Mississippi\, el policía Sam Wood descubre el cadáver de un industrial. Poco después\, detiene en la estación a un hombre negro que\, tras ser interrogado por el jefe de la policía local\, Billl Gillespie\, resulta ser un inspector de la policía de Filadelfia llamado Virgil Tibbs. Ambos policías deciden colaborar para investigar el asesinato.
URL:https://cineuniversitariodeluruguay.org.uy/actividad/en-el-calor-de-la-noche/
ATTACH;FMTTYPE=image/jpeg:https://cineuniversitariodeluruguay.org.uy/wp-content/uploads/Enelcalordelanoche_45767.jpg
END:VEVENT
BEGIN:VEVENT
DTSTART;TZID=America/Montevideo:20250420T173000
DTEND;TZID=America/Montevideo:20250420T173000
DTSTAMP:20260420T040113
CREATED:20250331T185027Z
LAST-MODIFIED:20250331T204411Z
UID:10002142-1745170200-1745170200@cineuniversitariodeluruguay.org.uy
SUMMARY:Poder absoluto
DESCRIPTION:Un ladrón es testigo de un asesinato que involucra al Presidente de los Estados Unidos. Se ve obligado a huir\, aunque tiene pruebas que podrían condenar al Presidente. Un thriller político dirigido y protagonizado por Clint Eastwood y basado en una novela de David Baldacci.
URL:https://cineuniversitariodeluruguay.org.uy/actividad/poder-absoluto/
ATTACH;FMTTYPE=image/jpeg:https://cineuniversitariodeluruguay.org.uy/wp-content/uploads/Poderabsoluto_45767.jpg
END:VEVENT
BEGIN:VEVENT
DTSTART;TZID=America/Montevideo:20250419T200000
DTEND;TZID=America/Montevideo:20250419T200000
DTSTAMP:20260420T040113
CREATED:20250331T185026Z
LAST-MODIFIED:20250331T185026Z
UID:10002141-1745092800-1745092800@cineuniversitariodeluruguay.org.uy
SUMMARY:Seleccion de cortos de Emilio Bianchic
DESCRIPTION:
URL:https://cineuniversitariodeluruguay.org.uy/actividad/seleccion-de-cortos-de-emilio-bianchic/
END:VEVENT
BEGIN:VEVENT
DTSTART;TZID=America/Montevideo:20250419T200000
DTEND;TZID=America/Montevideo:20250419T200000
DTSTAMP:20260420T040113
CREATED:20250331T185025Z
LAST-MODIFIED:20250408T224545Z
UID:10002140-1745092800-1745092800@cineuniversitariodeluruguay.org.uy
SUMMARY:Ju-On: The Grudge
DESCRIPTION:Rika es una joven asistente social que acuda a casa de una anciana en la que suceden cosas muy extrañas. Rika encuentra en el piso de arriba a un niño de seis años que lleva un gato negro en los brazos. Re-edición de ‘Ju On’\, realizada en el año 2000 por el propio Shimizu para vídeo.
URL:https://cineuniversitariodeluruguay.org.uy/actividad/ju-on/
ATTACH;FMTTYPE=image/webp:https://cineuniversitariodeluruguay.org.uy/wp-content/uploads/Screenshot-2022-11-15-at-9.50.49-PM.webp
END:VEVENT
BEGIN:VEVENT
DTSTART;TZID=America/Montevideo:20250419T174500
DTEND;TZID=America/Montevideo:20250419T174500
DTSTAMP:20260420T040113
CREATED:20250419T140728Z
LAST-MODIFIED:20250419T141334Z
UID:10002167-1745084700-1745084700@cineuniversitariodeluruguay.org.uy
SUMMARY:Drag Me to Hell
DESCRIPTION:La joven Christine Brown (Alison Lohman) trabaja en un banco de Los Ángeles concediendo préstamos hipotecarios. Un día la señora Ganush\, una misteriosa anciana (Lorna Raver)\, va al banco para pedirle una moratoria\, pero Christine se la niega\, y la señora Ganush pierde su casa. La anciana decide entonces vengarse lanzándole una maldición que convierte su vida en un infierno. Ante la incomprensión de su escéptico novio Clay Dalton (Justin Long)\, Christine busca la ayuda de un vidente (Dileep Rao) para salvar su alma de una condena eterna. Intentando ayudarla a recobrar una vida normal\, el vidente la guía en una frenética carrera para conjurar el hechizo. Pero las fuerzas del mal se acercan y Christine debe enfrentarse a algo impensable.
URL:https://cineuniversitariodeluruguay.org.uy/actividad/drag-me-to-hell-2/
ATTACH;FMTTYPE=image/jpeg:https://cineuniversitariodeluruguay.org.uy/wp-content/uploads/IMG_4374.jpeg
END:VEVENT
BEGIN:VEVENT
DTSTART;TZID=America/Montevideo:20250419T173000
DTEND;TZID=America/Montevideo:20250419T173000
DTSTAMP:20260420T040113
CREATED:20250331T185007Z
LAST-MODIFIED:20250408T224042Z
UID:10002139-1745083800-1745083800@cineuniversitariodeluruguay.org.uy
SUMMARY:Qué pasó con Nath_666?
DESCRIPTION:
URL:https://cineuniversitariodeluruguay.org.uy/actividad/pre-estreno-screening-que-paso-con-nath_666/
ATTACH;FMTTYPE=image/jpeg:https://cineuniversitariodeluruguay.org.uy/wp-content/uploads/03.-Mascara-circulo-03-scaled-1.jpg
END:VEVENT
BEGIN:VEVENT
DTSTART;TZID=America/Montevideo:20250418T200000
DTEND;TZID=America/Montevideo:20250418T200000
DTSTAMP:20260420T040113
CREATED:20250331T185006Z
LAST-MODIFIED:20250331T204209Z
UID:10002138-1745006400-1745006400@cineuniversitariodeluruguay.org.uy
SUMMARY:Crash
DESCRIPTION:Una noche\, James Ballard estrella su coche contra el de Helen y ambos son ingresados en un hospital. Lo sorprendente es que inmediatamente después del choque los dos experimentaron una extraña atracción mutua. A partir de entonces\, la vida de James se precipitará hacia un mundo oscuro y prohibido\, dominado por el peligro\, el sexo y la muerte.
URL:https://cineuniversitariodeluruguay.org.uy/actividad/crash-2/
ATTACH;FMTTYPE=image/jpeg:https://cineuniversitariodeluruguay.org.uy/wp-content/uploads/Crash_45765.jpg
END:VEVENT
BEGIN:VEVENT
DTSTART;TZID=America/Montevideo:20250418T174500
DTEND;TZID=America/Montevideo:20250418T174500
DTSTAMP:20260420T040113
CREATED:20250331T185005Z
LAST-MODIFIED:20250331T204117Z
UID:10002137-1744998300-1744998300@cineuniversitariodeluruguay.org.uy
SUMMARY:El prestamista
DESCRIPTION:Un superviviente del exterminio judío regenta una tienda de préstamos en el neoyorquino barrio de Harlem. Los espeluznantes y dolorosos recuerdos del campo de exterminio dominan completamente su vida.
URL:https://cineuniversitariodeluruguay.org.uy/actividad/el-prestamista-2/
ATTACH;FMTTYPE=image/jpeg:https://cineuniversitariodeluruguay.org.uy/wp-content/uploads/Elprestamista_45765.jpg
END:VEVENT
BEGIN:VEVENT
DTSTART;TZID=America/Montevideo:20250418T173000
DTEND;TZID=America/Montevideo:20250418T173000
DTSTAMP:20260420T040113
CREATED:20250331T185004Z
LAST-MODIFIED:20250331T204031Z
UID:10002136-1744997400-1744997400@cineuniversitariodeluruguay.org.uy
SUMMARY:A Tale of Two Sisters
DESCRIPTION:Dos hermanas llegan a la nueva casa que su padre viudo comparte con su nueva esposa. La creciente crueldad de la madrastra\, unida a las apariciones del fantasma de la madre de las jóvenes\, irá creando una atmósfera inquietante. (FILMAFFINITY)
URL:https://cineuniversitariodeluruguay.org.uy/actividad/a-tale-of-two-sisters/
ATTACH;FMTTYPE=image/jpeg:https://cineuniversitariodeluruguay.org.uy/wp-content/uploads/ATaleofTwoSisters_45765.jpg
END:VEVENT
BEGIN:VEVENT
DTSTART;TZID=America/Montevideo:20250417T200000
DTEND;TZID=America/Montevideo:20250417T200000
DTSTAMP:20260420T040113
CREATED:20250331T185000Z
LAST-MODIFIED:20250404T122412Z
UID:10002134-1744920000-1744920000@cineuniversitariodeluruguay.org.uy
SUMMARY:El otro lado de la esperanza
DESCRIPTION:Helsinki. El joven Khaled llega oculto en un barco de carga procedente de Siria. Su solicitud de asilo es rechazada\, pero decide quedarse de todos modos. Mientras\, un gris comercial cincuentón llamado Wikström decide cambiar su vida y abrir un decadente restaurante. Sus caminos se cruzarán cuando una tarde Wikhström se encuentra a Khaled en la puerta de su restaurante y\, emocionado\, decide ofrecerle techo\, comida y trabajo. Pero el sueño del chico es encontrar a su hermana\, que también huyó de Siria.
URL:https://cineuniversitariodeluruguay.org.uy/actividad/el-otro-lado-de-la-esperanza/
ATTACH;FMTTYPE=image/jpeg:https://cineuniversitariodeluruguay.org.uy/wp-content/uploads/Elotroladodelaesperanza_45764.jpg
END:VEVENT
BEGIN:VEVENT
DTSTART;TZID=America/Montevideo:20250417T173000
DTEND;TZID=America/Montevideo:20250417T173000
DTSTAMP:20260420T040113
CREATED:20250331T185002Z
LAST-MODIFIED:20250331T203735Z
UID:10002135-1744911000-1744911000@cineuniversitariodeluruguay.org.uy
SUMMARY:Los imperdonables
DESCRIPTION:William Munny es un pistolero retirado\, viudo y padre de familia\, que tiene dificultades económicas para sacar adelante a su hijos. Su única salida es hacer un último trabajo. En compañía de un viejo colega y de un joven inexperto\, Munny tendrá que matar a dos hombres que cortaron la cara a una prostituta.
URL:https://cineuniversitariodeluruguay.org.uy/actividad/los-imperdonables-2/
ATTACH;FMTTYPE=image/jpeg:https://cineuniversitariodeluruguay.org.uy/wp-content/uploads/Losimperdonables_45764.jpg
END:VEVENT
BEGIN:VEVENT
DTSTART;TZID=America/Montevideo:20250416T174500
DTEND;TZID=America/Montevideo:20250416T174500
DTSTAMP:20260420T040113
CREATED:20250331T184959Z
LAST-MODIFIED:20250331T203639Z
UID:10002133-1744825500-1744825500@cineuniversitariodeluruguay.org.uy
SUMMARY:El aniversario
DESCRIPTION:Tres hermanos que trabajan en el negocio familiar de la construcción ayudan a su autoritaria madre a celebrar el aniversario de su último marido.
URL:https://cineuniversitariodeluruguay.org.uy/actividad/el-aniversario/
ATTACH;FMTTYPE=image/jpeg:https://cineuniversitariodeluruguay.org.uy/wp-content/uploads/Elaniversario_45763.jpg
END:VEVENT
BEGIN:VEVENT
DTSTART;TZID=America/Montevideo:20250416T173000
DTEND;TZID=America/Montevideo:20250416T173000
DTSTAMP:20260420T040113
CREATED:20250331T184957Z
LAST-MODIFIED:20250408T223322Z
UID:10002132-1744824600-1744824600@cineuniversitariodeluruguay.org.uy
SUMMARY:Rapido y Furioso
DESCRIPTION:Una misteriosa banda de delincuentes se dedica a robar camiones en plena marcha desde vehículos deportivos. La policía decide infiltrar a un hombre en el mundo de las carreras ilegales para descubrir posibles sospechosos. El joven y apuesto Brian entra en el mundo del tuning donde conoce a Dominic\, rey indiscutible de este mundo y sospechoso número uno\, pero todo se complica cuando se enamora de la hermana de éste.
URL:https://cineuniversitariodeluruguay.org.uy/actividad/rapido-y-furioso/
ATTACH;FMTTYPE=image/jpeg:https://cineuniversitariodeluruguay.org.uy/wp-content/uploads/Rapidoyfurioso_45763.jpg
END:VEVENT
BEGIN:VEVENT
DTSTART;TZID=America/Montevideo:20250415T174500
DTEND;TZID=America/Montevideo:20250415T174500
DTSTAMP:20260420T040113
CREATED:20250331T184955Z
LAST-MODIFIED:20250331T203415Z
UID:10002130-1744739100-1744739100@cineuniversitariodeluruguay.org.uy
SUMMARY:Tangerine
DESCRIPTION:En la víspera de Navidad\, la prostituta transgénero Sin-Dee Rella\, que acaba de cumplir una sentencia en prisión\, se encuentra con su amiga Alexandra\, que le informa de que su novio Chester ha estado engañándola. Ahora\, Sin-Dee Rella iniciará una búsqueda por la ciudad para descubrir la verdad.
URL:https://cineuniversitariodeluruguay.org.uy/actividad/tangerine-2/
ATTACH;FMTTYPE=image/jpeg:https://cineuniversitariodeluruguay.org.uy/wp-content/uploads/Tangerine_45762.jpg
END:VEVENT
BEGIN:VEVENT
DTSTART;TZID=America/Montevideo:20250415T170000
DTEND;TZID=America/Montevideo:20250415T170000
DTSTAMP:20260420T040113
CREATED:20250331T184956Z
LAST-MODIFIED:20250331T203323Z
UID:10002131-1744736400-1744736400@cineuniversitariodeluruguay.org.uy
SUMMARY:Sentencia previa
DESCRIPTION:Washington DC\, año 2054. La policía utiliza tecnología psíquica para arrestar y enjuiciar a los asesinos antes de que cometan un crimen. El futuro se puede predecir y los culpables son detenidos por la unidad de élite Precrime antes de que puedan delinquir. Las pruebas se basan en los «precogs»\, tres seres psíquicos cuyas visiones sobre los asesinatos nunca han fallado.
URL:https://cineuniversitariodeluruguay.org.uy/actividad/sentencia-previa/
ATTACH;FMTTYPE=image/jpeg:https://cineuniversitariodeluruguay.org.uy/wp-content/uploads/Sentenciaprevia_45762.jpg
END:VEVENT
BEGIN:VEVENT
DTSTART;TZID=America/Montevideo:20250413T200000
DTEND;TZID=America/Montevideo:20250413T200000
DTSTAMP:20260420T040113
CREATED:20250401T012038Z
LAST-MODIFIED:20250401T012038Z
UID:10002165-1744574400-1744574400@cineuniversitariodeluruguay.org.uy
SUMMARY:Help!
DESCRIPTION:«Help» fue la segunda película que Richard Lester hizo con los Beatles\, una comedia que simboliza el cine más libre\, enloquecido y pop de los años 60.
URL:https://cineuniversitariodeluruguay.org.uy/actividad/help/
ATTACH;FMTTYPE=image/jpeg:https://cineuniversitariodeluruguay.org.uy/wp-content/uploads/SOCORRO_45760.jpg
END:VEVENT
BEGIN:VEVENT
DTSTART;TZID=America/Montevideo:20250413T200000
DTEND;TZID=America/Montevideo:20250413T200000
DTSTAMP:20260420T040113
CREATED:20250331T184859Z
LAST-MODIFIED:20250331T203208Z
UID:10002128-1744574400-1744574400@cineuniversitariodeluruguay.org.uy
SUMMARY:Embriagado de amor
DESCRIPTION:Barry (Adam Sandler) es un tipo solitario y poco sociable que fue educado entre siete hermanas. La sobreprotección que se le dispensó desde niño le ha impedido enamorarse. Un día descubre un fallo en un concurso y gana miles de millas en billetes de avión. Viajando\, conoce a una misteriosa mujer (Emily Watson) con la que inicia una romántica aventura.
URL:https://cineuniversitariodeluruguay.org.uy/actividad/embriagado-de-amor/
ATTACH;FMTTYPE=image/jpeg:https://cineuniversitariodeluruguay.org.uy/wp-content/uploads/Embriagadodeamor_45760.jpg
END:VEVENT
BEGIN:VEVENT
DTSTART;TZID=America/Montevideo:20250413T174500
DTEND;TZID=America/Montevideo:20250413T174500
DTSTAMP:20260420T040113
CREATED:20250331T184900Z
LAST-MODIFIED:20250331T203052Z
UID:10002129-1744566300-1744566300@cineuniversitariodeluruguay.org.uy
SUMMARY:Matinee
DESCRIPTION:En plena crisis nuclear\, un avispado productor de películas de terror decide estrenar un film que pone en práctica toda clase de efectos especiales en la sala de cine\, todo ello aprovechando el ambiente de histeria general.
URL:https://cineuniversitariodeluruguay.org.uy/actividad/matinee/
ATTACH;FMTTYPE=image/jpeg:https://cineuniversitariodeluruguay.org.uy/wp-content/uploads/Matinee_45760.jpg
END:VEVENT
END:VCALENDAR