BEGIN:VCALENDAR
VERSION:2.0
PRODID:-//Cine Universitario del Uruguay - ECPv6.0.9//NONSGML v1.0//EN
CALSCALE:GREGORIAN
METHOD:PUBLISH
X-ORIGINAL-URL:https://cineuniversitariodeluruguay.org.uy
X-WR-CALDESC:Eventos para Cine Universitario del Uruguay
REFRESH-INTERVAL;VALUE=DURATION:PT1H
X-Robots-Tag:noindex
X-PUBLISHED-TTL:PT1H
BEGIN:VTIMEZONE
TZID:America/Montevideo
BEGIN:STANDARD
TZOFFSETFROM:-0300
TZOFFSETTO:-0300
TZNAME:-03
DTSTART:20250101T000000
END:STANDARD
END:VTIMEZONE
BEGIN:VEVENT
DTSTART;TZID=America/Montevideo:20250405T200000
DTEND;TZID=America/Montevideo:20250405T200000
DTSTAMP:20260420T004850
CREATED:20250331T184148Z
LAST-MODIFIED:20250331T191416Z
UID:10002112-1743883200-1743883200@cineuniversitariodeluruguay.org.uy
SUMMARY:Pecker
DESCRIPTION:Pecker (Furlong) es un joven de 18 años aficionado a la fotografía en cuyo trabajo se fija una marchante de arte de Nueva York. Una exposición lo lanzará a la fama\, pero también le creará no pocos problemas con sus familiares y amigos.
URL:https://cineuniversitariodeluruguay.org.uy/actividad/pecker/
ATTACH;FMTTYPE=image/jpeg:https://cineuniversitariodeluruguay.org.uy/wp-content/uploads/Pecker_45752-1.jpg
END:VEVENT
BEGIN:VEVENT
DTSTART;TZID=America/Montevideo:20250405T200000
DTEND;TZID=America/Montevideo:20250405T200000
DTSTAMP:20260420T004850
CREATED:20250331T184135Z
LAST-MODIFIED:20250331T191310Z
UID:10002110-1743883200-1743883200@cineuniversitariodeluruguay.org.uy
SUMMARY:Blade Runner
DESCRIPTION:A principios del siglo XXI\, la Tyrell Corporation desarrolló un nuevo tipo de robot llamado Nexus\, un ser virtualmente idéntico al hombre y conocido como Replicante. Los Replicantes Nexus-6 eran superiores en fuerza y agilidad\, y al menos iguales en inteligencia\, a los ingenieros de genética que los crearon. En el espacio exterior\, los Replicantes fueron usados como trabajadores esclavos en la arriesgada exploración y colonización de otros planetas. Después de la sangrienta rebelión de un equipo de combate de Nexus-6 en una colonia sideral\, los Replicantes fueron declarados proscritos en la Tierra bajo pena de muerte. Brigadas de policías especiales\, con el nombre de Unidades de Blade Runners\, tenían órdenes de tirar a matar al ver a cualquier Replicante invasor. A esto no se le llamó ejecución\, se le llamó retiro.
URL:https://cineuniversitariodeluruguay.org.uy/actividad/blade-runner-3/
ATTACH;FMTTYPE=image/jpeg:https://cineuniversitariodeluruguay.org.uy/wp-content/uploads/BladeRunner_45752-1.jpg
END:VEVENT
BEGIN:VEVENT
DTSTART;TZID=America/Montevideo:20250405T174500
DTEND;TZID=America/Montevideo:20250405T174500
DTSTAMP:20260420T004850
CREATED:20250331T184147Z
LAST-MODIFIED:20250331T191228Z
UID:10002111-1743875100-1743875100@cineuniversitariodeluruguay.org.uy
SUMMARY:Delicatessen
DESCRIPTION:Esta comedia negra y surrealista nos cuenta acerca de un pequeño pueblo postapocalíptico\, donde Clapet\, el carnicero\, alimenta a sus clientes con carne humana. Cuando su hija se enamora de su siguiente víctima\, las cosas se empiezan a torcer.
URL:https://cineuniversitariodeluruguay.org.uy/actividad/delicatessen-2/
ATTACH;FMTTYPE=image/jpeg:https://cineuniversitariodeluruguay.org.uy/wp-content/uploads/Delicatessen_45752-1.jpg
END:VEVENT
BEGIN:VEVENT
DTSTART;TZID=America/Montevideo:20250405T173000
DTEND;TZID=America/Montevideo:20250405T173000
DTSTAMP:20260420T004850
CREATED:20250331T184134Z
LAST-MODIFIED:20250331T191144Z
UID:10002109-1743874200-1743874200@cineuniversitariodeluruguay.org.uy
SUMMARY:Contacto en Francia
DESCRIPTION:Jimmy Doyle y Buddy Rosso son dos policías neoyorquinos que siguen la pista de una red de traficantes de drogas. El primero\, que confía en su olfato\, sospecha que una confitería de Brooklyn está implicada y convence a su jefe para intervenir la línea telefónica. Poco después\, Doyle y sus hombres siguen al dueño de la confitería\, que los conduce hasta Nicoly y Charnier\, dos franceses que acaban de llegar a Estados Unidos.
URL:https://cineuniversitariodeluruguay.org.uy/actividad/contacto-en-francia-2/
ATTACH;FMTTYPE=image/jpeg:https://cineuniversitariodeluruguay.org.uy/wp-content/uploads/ContactoenFrancia_45752-1.jpg
END:VEVENT
BEGIN:VEVENT
DTSTART;TZID=America/Montevideo:20250404T200000
DTEND;TZID=America/Montevideo:20250404T200000
DTSTAMP:20260420T004850
CREATED:20250331T184132Z
LAST-MODIFIED:20250331T191102Z
UID:10002108-1743796800-1743796800@cineuniversitariodeluruguay.org.uy
SUMMARY:El auto
DESCRIPTION:El Sheriff Wade Parent (James Brolin) debe encontrar el modo de detener un enorme coche negro\, aparentemente indestructible\, que tiene aterrorizados a los habitantes de un pequeño pueblo de Nuevo México. Nadie conoce el origen del coche\, quién lo conduce o cómo pararlo.
URL:https://cineuniversitariodeluruguay.org.uy/actividad/el-auto/
ATTACH;FMTTYPE=image/jpeg:https://cineuniversitariodeluruguay.org.uy/wp-content/uploads/Elauto_45751-1.jpg
END:VEVENT
BEGIN:VEVENT
DTSTART;TZID=America/Montevideo:20250404T174500
DTEND;TZID=America/Montevideo:20250404T174500
DTSTAMP:20260420T004850
CREATED:20250331T184130Z
LAST-MODIFIED:20250331T191023Z
UID:10002106-1743788700-1743788700@cineuniversitariodeluruguay.org.uy
SUMMARY:Ringu
DESCRIPTION:En una pequeña y apacible localidad japonesa\, entre los estudiantes circula una leyenda en torno a unos videos malditos cuya visión provoca la muerte. Tras la muerte de su sobrina\, una periodista investigará el origen de dichos videos.
URL:https://cineuniversitariodeluruguay.org.uy/actividad/ringu/
ATTACH;FMTTYPE=image/jpeg:https://cineuniversitariodeluruguay.org.uy/wp-content/uploads/Ringu_45751-1.jpg
END:VEVENT
BEGIN:VEVENT
DTSTART;TZID=America/Montevideo:20250404T173000
DTEND;TZID=America/Montevideo:20250404T173000
DTSTAMP:20260420T004850
CREATED:20250331T184131Z
LAST-MODIFIED:20250331T190951Z
UID:10002107-1743787800-1743787800@cineuniversitariodeluruguay.org.uy
SUMMARY:Terror bajo tierra
DESCRIPTION:En Perfección\, un pequeño pueblo al borde del desierto de Nevada\, algo parece suceder debajo de la tierra. Cuando las líneas telefónicas y las carreteras quedan cortadas\, los habitantes comienzan a sentir pánico\, pues todo parece indicar que hay algo vivo y terrorífico bajo las arenas del desierto.
URL:https://cineuniversitariodeluruguay.org.uy/actividad/terror-bajo-tierra/
ATTACH;FMTTYPE=image/jpeg:https://cineuniversitariodeluruguay.org.uy/wp-content/uploads/Terrorbajotierra_45751-1.jpg
END:VEVENT
BEGIN:VEVENT
DTSTART;TZID=America/Montevideo:20250403T174500
DTEND;TZID=America/Montevideo:20250403T174500
DTSTAMP:20260420T004850
CREATED:20250331T184126Z
LAST-MODIFIED:20250401T012220Z
UID:10002105-1743702300-1743702300@cineuniversitariodeluruguay.org.uy
SUMMARY:Luces al atardecer
DESCRIPTION:Koistinen\, un guardia de seguridad nocturno\, recorre las calles buscando un lugar al sol\, pero la indiferencia general destroza\, una tras otra\, sus modestas esperanzas. Un grupo de mafiosos\, que se aprovecha de su sed de amor y de su profesión con la ayuda de una mujer fría y calculadora\, organiza un robo del que se acusa sólo a Koistinen. Así\, pierde su trabajo\, su libertad y sus sueños. Tercera parte de la trilogía que empezó con «Nubes pasajeras» (1996) y «Un hombre sin pasado» (2002).
URL:https://cineuniversitariodeluruguay.org.uy/actividad/luces-al-atardecer/
ATTACH;FMTTYPE=image/jpeg:https://cineuniversitariodeluruguay.org.uy/wp-content/uploads/Lucesalatardecer_45750-1.jpg
END:VEVENT
BEGIN:VEVENT
DTSTART;TZID=America/Montevideo:20250402T174500
DTEND;TZID=America/Montevideo:20250402T174500
DTSTAMP:20260420T004850
CREATED:20250331T184125Z
LAST-MODIFIED:20250331T185517Z
UID:10002104-1743615900-1743615900@cineuniversitariodeluruguay.org.uy
SUMMARY:Lo que no fue
DESCRIPTION:La casualidad hace que un hombre y una mujer ambos de edad madura y casados coincidan en una estación de tren. Su inicial amistad pronto se convertirá en un amor tan intenso como prohibido.
URL:https://cineuniversitariodeluruguay.org.uy/actividad/lo-que-no-fue/
ATTACH;FMTTYPE=image/jpeg:https://cineuniversitariodeluruguay.org.uy/wp-content/uploads/Loquenofue_45749.jpg
END:VEVENT
BEGIN:VEVENT
DTSTART;TZID=America/Montevideo:20250402T173000
DTEND;TZID=America/Montevideo:20250402T173000
DTSTAMP:20260420T004850
CREATED:20250331T184124Z
LAST-MODIFIED:20250331T185346Z
UID:10002103-1743615000-1743615000@cineuniversitariodeluruguay.org.uy
SUMMARY:Christine
DESCRIPTION:Nació en Detroit en una línea de montaje de automóviles\, pero no es un coche cualquiera. En el fondo de su chasis se aloja el mismísimo diablo. Es Christine un Plymouth Fury de 1958\, rojo y blanco\, cuyo único equipo «normalizado» comprende un deseo de venganza insaciable\, que hiela la sangre a cualquiera y destruye todo aquello que encuentra en su camino.
URL:https://cineuniversitariodeluruguay.org.uy/actividad/christine/
ATTACH;FMTTYPE=image/jpeg:https://cineuniversitariodeluruguay.org.uy/wp-content/uploads/Christine_45749.jpg
END:VEVENT
BEGIN:VEVENT
DTSTART;TZID=America/Montevideo:20250401T174500
DTEND;TZID=America/Montevideo:20250401T174500
DTSTAMP:20260420T004850
CREATED:20250331T184122Z
LAST-MODIFIED:20250331T185255Z
UID:10002101-1743529500-1743529500@cineuniversitariodeluruguay.org.uy
SUMMARY:Starlet 
DESCRIPTION:Jane\, de 21 años\, pasa el tiempo colocándose con sus compañeros de piso\, Melissa y Mikey\, mientras cuida de su chihuahua\, Starlet. Sadie\, una anciana viuda de 85 años\, pasa los días sola\, cuidando de su jardín de flores. La historia explora la improbable amistad entre estas dos mujeres en el valle californiano de San Fernando.
URL:https://cineuniversitariodeluruguay.org.uy/actividad/starlet/
ATTACH;FMTTYPE=image/jpeg:https://cineuniversitariodeluruguay.org.uy/wp-content/uploads/Starlet_45748-1.jpg
END:VEVENT
BEGIN:VEVENT
DTSTART;TZID=America/Montevideo:20250401T173000
DTEND;TZID=America/Montevideo:20250401T173000
DTSTAMP:20260420T004850
CREATED:20250331T184123Z
LAST-MODIFIED:20250331T185203Z
UID:10002102-1743528600-1743528600@cineuniversitariodeluruguay.org.uy
SUMMARY:La caída de un ídolo
DESCRIPTION:Eddie Willis (Humphrey Bogart)\, un veterano periodista\, es contratado como agente de prensa por Nick Benko (Rod Steiger)\, un hombre sin escrúpulos\, para que consiga hacer popular a Toro Moreno\, un gigantesco pero torpe aspirante a boxeador\, a quien hacen creer que es un gran campeón a base de amañar sus combates.
URL:https://cineuniversitariodeluruguay.org.uy/actividad/la-caida-de-un-idolo/
ATTACH;FMTTYPE=image/jpeg:https://cineuniversitariodeluruguay.org.uy/wp-content/uploads/Lacadadeundolo_45748-1.jpg
END:VEVENT
BEGIN:VEVENT
DTSTART;TZID=America/Montevideo:20250330T200000
DTEND;TZID=America/Montevideo:20250330T200000
DTSTAMP:20260420T004850
CREATED:20250303T195201Z
LAST-MODIFIED:20250303T221255Z
UID:10002098-1743364800-1743364800@cineuniversitariodeluruguay.org.uy
SUMMARY:Pretty as a Picture: The Art of David Lynch
DESCRIPTION:Documental sobre la obra de David Lynch más allá de su faceta como cineasta: su obra como pintor\, fotógrafo y escultor\, sus obsesiones artísticas\, etc. Incluye entrevistas con sus amigos y con profesionales que han trabajado con él.
URL:https://cineuniversitariodeluruguay.org.uy/actividad/pretty-as-a-picture-the-art-of-david-lynch/
ATTACH;FMTTYPE=image/jpeg:https://cineuniversitariodeluruguay.org.uy/wp-content/uploads/PrettyasaPictureTheArtofDavidLynch_45746.jpg
END:VEVENT
BEGIN:VEVENT
DTSTART;TZID=America/Montevideo:20250330T173000
DTEND;TZID=America/Montevideo:20250330T173000
DTSTAMP:20260420T004850
CREATED:20250303T195005Z
LAST-MODIFIED:20250303T221221Z
UID:10002097-1743355800-1743355800@cineuniversitariodeluruguay.org.uy
SUMMARY:Blade Runner
DESCRIPTION:A principios del siglo XXI\, la Tyrell Corporation desarrolló un nuevo tipo de robot llamado Nexus\, un ser virtualmente idéntico al hombre y conocido como Replicante. Los Replicantes Nexus-6 eran superiores en fuerza y agilidad\, y al menos iguales en inteligencia\, a los ingenieros de genética que los crearon. En el espacio exterior\, los Replicantes fueron usados como trabajadores esclavos en la arriesgada exploración y colonización de otros planetas. Después de la sangrienta rebelión de un equipo de combate de Nexus-6 en una colonia sideral\, los Replicantes fueron declarados proscritos en la Tierra bajo pena de muerte. Brigadas de policías especiales\, con el nombre de Unidades de Blade Runners\, tenían órdenes de tirar a matar al ver a cualquier Replicante invasor. A esto no se le llamó ejecución\, se le llamó retiro.
URL:https://cineuniversitariodeluruguay.org.uy/actividad/blade-runner-2/
ATTACH;FMTTYPE=image/jpeg:https://cineuniversitariodeluruguay.org.uy/wp-content/uploads/BladeRunner_45746.jpg
END:VEVENT
BEGIN:VEVENT
DTSTART;TZID=America/Montevideo:20250330T171500
DTEND;TZID=America/Montevideo:20250330T171500
DTSTAMP:20260420T004850
CREATED:20250303T195004Z
LAST-MODIFIED:20250303T221144Z
UID:10002096-1743354900-1743354900@cineuniversitariodeluruguay.org.uy
SUMMARY:Lucharon por su patria
DESCRIPTION:La película transcurre en Rusia en julio de 1942 durante la Segunda Guerra Mundial. Las tropas nazis se aproximan a Stalingrado y los rusos están exhaustos y sobrepasados en número. Pero después de una batalla sangrienta\, los invasores nazis son detenidos en Stalingrado.
URL:https://cineuniversitariodeluruguay.org.uy/actividad/lucharon-por-su-patria/
ATTACH;FMTTYPE=image/jpeg:https://cineuniversitariodeluruguay.org.uy/wp-content/uploads/Lucharonporsupatria_45746.jpg
END:VEVENT
BEGIN:VEVENT
DTSTART;TZID=America/Montevideo:20250329T200000
DTEND;TZID=America/Montevideo:20250329T200000
DTSTAMP:20260420T004850
CREATED:20250303T195001Z
LAST-MODIFIED:20250303T221102Z
UID:10002094-1743278400-1743278400@cineuniversitariodeluruguay.org.uy
SUMMARY:Linda Linda Linda
DESCRIPTION:La historia comienza con el inminente concurso que se celebra en el instituto Shibazaki y con la separación de la banda. Su cofundadora\, Kei\, decide pedir a la estudiante de intercambio coreana\, Son\, que sea la vocalista del grupo. El problema es que Son no se sabe las canciones y apenas habla japonés y sólo quedan tres días para el concurso.
URL:https://cineuniversitariodeluruguay.org.uy/actividad/linda-linda-linda/
ATTACH;FMTTYPE=image/jpeg:https://cineuniversitariodeluruguay.org.uy/wp-content/uploads/LindaLindaLinda_45745.jpg
END:VEVENT
BEGIN:VEVENT
DTSTART;TZID=America/Montevideo:20250329T174500
DTEND;TZID=America/Montevideo:20250329T174500
DTSTAMP:20260420T004850
CREATED:20250303T195000Z
LAST-MODIFIED:20250303T202746Z
UID:10002093-1743270300-1743270300@cineuniversitariodeluruguay.org.uy
SUMMARY:Zombieland
DESCRIPTION:En un mundo plagado de zombis\, Columbus (Jesse Eisenberg) es un joven que vive aterrorizado. Pero precisamente el miedo y la cobardía le han permitido sobrevivir. Un día conoce a Tallahassse (Woody Harrelson)\, un gamberro cazazombies cuyo único deseo en la vida es lograr el último Twinkie (dulce americano) de la tierra. Cuando ambos conocen a Wichita (Emma Stone) y a Little Rock (Abigail Breslin)\, que también sobreviven al caos como pueden\, tendrán que elegir entre confiar en ellos o sucumbir ante los zombies.
URL:https://cineuniversitariodeluruguay.org.uy/actividad/rushmore/
ATTACH;FMTTYPE=image/jpeg:https://cineuniversitariodeluruguay.org.uy/wp-content/uploads/Zombieland_45745.jpg
END:VEVENT
BEGIN:VEVENT
DTSTART;TZID=America/Montevideo:20250329T173000
DTEND;TZID=America/Montevideo:20250329T173000
DTSTAMP:20260420T004850
CREATED:20250303T195002Z
LAST-MODIFIED:20250303T221016Z
UID:10002095-1743269400-1743269400@cineuniversitariodeluruguay.org.uy
SUMMARY:Terminal Young
DESCRIPTION:Una mujer que sufrió un incidente grave con una tenista violenta –en otro video de sí misma– ahora sale con un músico de jazz de Ramos Mejía retraído e inseguro\, e igual ella está más fuerte y más contenta con todo.
URL:https://cineuniversitariodeluruguay.org.uy/actividad/terminal-young/
ATTACH;FMTTYPE=image/jpeg:https://cineuniversitariodeluruguay.org.uy/wp-content/uploads/TerminalYoung_45745.jpg
END:VEVENT
BEGIN:VEVENT
DTSTART;TZID=America/Montevideo:20250328T200000
DTEND;TZID=America/Montevideo:20250328T200000
DTSTAMP:20260420T004850
CREATED:20250303T194946Z
LAST-MODIFIED:20250303T220923Z
UID:10002092-1743192000-1743192000@cineuniversitariodeluruguay.org.uy
SUMMARY:El Aullido del Diablo
DESCRIPTION:Un súcubo en forma de mujer seducirá al dueño de un antiguo caserón en el que se dice que el tiempo se ha detenido para siempre…
URL:https://cineuniversitariodeluruguay.org.uy/actividad/el-aullido-del-diablo/
ATTACH;FMTTYPE=image/jpeg:https://cineuniversitariodeluruguay.org.uy/wp-content/uploads/ElAullidodelDiablo_45744.jpg
END:VEVENT
BEGIN:VEVENT
DTSTART;TZID=America/Montevideo:20250328T174500
DTEND;TZID=America/Montevideo:20250328T174500
DTSTAMP:20260420T004850
CREATED:20250303T194944Z
LAST-MODIFIED:20250303T220845Z
UID:10002090-1743183900-1743183900@cineuniversitariodeluruguay.org.uy
SUMMARY:Martyrs
DESCRIPTION:Francia. Una noche a comienzos de 1970. Lucie\, una niña perdida hace un año\, es descubierta andando por una carretera. Está en un estado catatónico y es incapaz de decir nada de lo que le ha sucedido. Los policías no tardarán en encontrar el lugar donde ha estado presa: un antiguo matadero… ¿Qué pasó en aquel lugar? ¿Cómo consiguió la chica escapar?
URL:https://cineuniversitariodeluruguay.org.uy/actividad/martyrs/
ATTACH;FMTTYPE=image/jpeg:https://cineuniversitariodeluruguay.org.uy/wp-content/uploads/Martyrs_45744.jpg
END:VEVENT
BEGIN:VEVENT
DTSTART;TZID=America/Montevideo:20250328T173000
DTEND;TZID=America/Montevideo:20250328T173000
DTSTAMP:20260420T004850
CREATED:20250303T194945Z
LAST-MODIFIED:20250303T220808Z
UID:10002091-1743183000-1743183000@cineuniversitariodeluruguay.org.uy
SUMMARY:El zoo de cristal
DESCRIPTION:Versión literal de la obra teatral homónima de Tennesse Williams. Cuatro personajes encerrados en un piso miserable y asfixiante van mostrando su fragilidad\, temores y frustraciones. Amanda Wingfield\, la madre\, que añora un pasado más esplendoroso\, intenta arrancar a sus hijos del letargo en que los sumen sus sueños; los impulsa a conquistar un futuro mejor: su obsesión consiste en que el aventurero Tom (John Malkovich) haga una brillante carrera\, y que la tímida Laura (Karen Allen) logre un buen matrimonio.
URL:https://cineuniversitariodeluruguay.org.uy/actividad/el-zoo-de-cristal/
ATTACH;FMTTYPE=image/jpeg:https://cineuniversitariodeluruguay.org.uy/wp-content/uploads/Elzoodecristal_45744.jpg
END:VEVENT
BEGIN:VEVENT
DTSTART;TZID=America/Montevideo:20250327T200000
DTEND;TZID=America/Montevideo:20250327T200000
DTSTAMP:20260420T004850
CREATED:20250303T194943Z
LAST-MODIFIED:20250303T220728Z
UID:10002089-1743105600-1743105600@cineuniversitariodeluruguay.org.uy
SUMMARY:Ils
DESCRIPTION:Clémentine\, profesora en el Liceo Francés de Bucarest\, y Lucas\, que es novelista\, son una feliz pareja que vive en una enorme casa situada en medio de un bosque. Lo que ellos ignoran es que les están espiando\, acechando. Al caer la noche\, descubrirán que «ellos» están ahí\, en todas partes\, hasta en su propia casa.
URL:https://cineuniversitariodeluruguay.org.uy/actividad/ils/
ATTACH;FMTTYPE=image/jpeg:https://cineuniversitariodeluruguay.org.uy/wp-content/uploads/Ils_45743.jpg
END:VEVENT
BEGIN:VEVENT
DTSTART;TZID=America/Montevideo:20250327T174500
DTEND;TZID=America/Montevideo:20250327T174500
DTSTAMP:20260420T004850
CREATED:20250303T194941Z
LAST-MODIFIED:20250303T220647Z
UID:10002088-1743097500-1743097500@cineuniversitariodeluruguay.org.uy
SUMMARY:The Mourning Forest
DESCRIPTION:Shigeki vive en una pequeña residencia de ancianos. Allí se siente a gusto y feliz con los demás residentes y con el personal que les atiende. Machiko\, una trabajadora social que pertenece a dicho equipo\, le presta especial atención\, aunque en su interior le atormenta la pérdida de un hijo. Para celebrar el cumpleaños de Shigeki\, Machiko decide llevarle a dar un paseo en coche por el campo. Pero el coche se queda parado en la cuneta. El anciano se interna con decisión en el bosque\, y Machiko no tiene más remedio que acompañarle…
URL:https://cineuniversitariodeluruguay.org.uy/actividad/the-mourning-forest/
ATTACH;FMTTYPE=image/jpeg:https://cineuniversitariodeluruguay.org.uy/wp-content/uploads/TheMourningForest_45743.jpg
END:VEVENT
BEGIN:VEVENT
DTSTART;TZID=America/Montevideo:20250327T173000
DTEND;TZID=America/Montevideo:20250327T173000
DTSTAMP:20260420T004850
CREATED:20250303T194744Z
LAST-MODIFIED:20250303T194744Z
UID:10002087-1743096600-1743096600@cineuniversitariodeluruguay.org.uy
SUMMARY:Mi Gran Boda Rusa
DESCRIPTION:
URL:https://cineuniversitariodeluruguay.org.uy/actividad/mi-gran-boda-rusa/
END:VEVENT
BEGIN:VEVENT
DTSTART;TZID=America/Montevideo:20250326T174500
DTEND;TZID=America/Montevideo:20250326T174500
DTSTAMP:20260420T004850
CREATED:20250303T194742Z
LAST-MODIFIED:20250303T220602Z
UID:10002085-1743011100-1743011100@cineuniversitariodeluruguay.org.uy
SUMMARY:The Breadwinner
DESCRIPTION:Parvana es una chica de once años que vive en la capital de Afganistán\, Kabul\, durante el periodo de dominio de los talibanes. Al ser su padre detenido\, los miembros de la familia se quedan sin recursos y\, debido a que las mujeres tienen prohibido ganar dinero\, deciden transformar a Parvana en un chico para poder trabajar.
URL:https://cineuniversitariodeluruguay.org.uy/actividad/the-breadwinner/
ATTACH;FMTTYPE=image/jpeg:https://cineuniversitariodeluruguay.org.uy/wp-content/uploads/TheBreadwinner_45742.jpg
END:VEVENT
BEGIN:VEVENT
DTSTART;TZID=America/Montevideo:20250326T173000
DTEND;TZID=America/Montevideo:20250326T173000
DTSTAMP:20260420T004850
CREATED:20250303T194743Z
LAST-MODIFIED:20250303T220516Z
UID:10002086-1743010200-1743010200@cineuniversitariodeluruguay.org.uy
SUMMARY:Monsieur Verdoux
DESCRIPTION:Basada en hechos reales\, esta obra maestra del genio Chaplin cuenta la historia de Henri Verdoux\, un hombre de doble vida. Por un lado es un respetable hombre casado padre de un hijo\, pero por otro es un seductor que\, bajo otra identidad\, se dedica a casarse con viudas ricas a las que posteriormente asesina para quedarse con su fortuna.
URL:https://cineuniversitariodeluruguay.org.uy/actividad/monsieur-verdoux-2/
ATTACH;FMTTYPE=image/jpeg:https://cineuniversitariodeluruguay.org.uy/wp-content/uploads/MonsieurVerdoux_45742.jpg
END:VEVENT
BEGIN:VEVENT
DTSTART;TZID=America/Montevideo:20250325T173000
DTEND;TZID=America/Montevideo:20250325T173000
DTSTAMP:20260420T004850
CREATED:20250303T194741Z
LAST-MODIFIED:20250303T220430Z
UID:10002084-1742923800-1742923800@cineuniversitariodeluruguay.org.uy
SUMMARY:La fiesta del chivo
DESCRIPTION:Adaptación cinematográfica de la excelente novela de Mario Vargas Llosa. Santo Domingo (República Dominicana)\, 1992. Urania Cabral (Isabella Rossellini) regresa a su ciudad natal. Apenas reconoce al viejo calvo y desdentado que yace en su lecho\, mudo e inmóvil\, casi inerte. Es su padre\, Agustín Cabral\, alias «Cerebrito»\, Presidente del Senado y mano derecha del dictador Rafael Trujillo durante muchos\, muchos años. Hasta que cayó en desgracia. Pero de aquello ha pasado mucho tiempo. Todo ello lo recuerda Urania\, a través de su ingenua mirada infantil. Se lo cuenta a su tía y a sus primas\, que no entienden por qué Uranita ha estado tanto tiempo sin venir a verlos\, a ellas y a su propio padre
URL:https://cineuniversitariodeluruguay.org.uy/actividad/la-fiesta-del-chivo/
ATTACH;FMTTYPE=image/jpeg:https://cineuniversitariodeluruguay.org.uy/wp-content/uploads/Lafiestadelchivo_45741.jpg
END:VEVENT
BEGIN:VEVENT
DTSTART;TZID=America/Montevideo:20250325T173000
DTEND;TZID=America/Montevideo:20250325T173000
DTSTAMP:20260420T004850
CREATED:20250303T194740Z
LAST-MODIFIED:20250303T220349Z
UID:10002083-1742923800-1742923800@cineuniversitariodeluruguay.org.uy
SUMMARY:Cuando Pasan las Cigueñas
DESCRIPTION:Veronica y Boris son dos enamorados de Moscú que se ven obligados a separarse cuando estalla la Segunda Guerra Mundial y Boris es reclutado como soldado para ir al frente a luchar.
URL:https://cineuniversitariodeluruguay.org.uy/actividad/cuando-pasan-las-ciguenas/
ATTACH;FMTTYPE=image/jpeg:https://cineuniversitariodeluruguay.org.uy/wp-content/uploads/letyat_zhuravli_the_cranes_are_flying-505345470-large.jpg
END:VEVENT
BEGIN:VEVENT
DTSTART;TZID=America/Montevideo:20250323T200000
DTEND;TZID=America/Montevideo:20250323T200000
DTSTAMP:20260420T004850
CREATED:20250303T194621Z
LAST-MODIFIED:20250303T220051Z
UID:10002082-1742760000-1742760000@cineuniversitariodeluruguay.org.uy
SUMMARY:Cabeza Borradora historias
DESCRIPTION:David Lynch discusses the making of the film «Eraserhead.»
URL:https://cineuniversitariodeluruguay.org.uy/actividad/cabeza-borradora-historias/
ATTACH;FMTTYPE=image/jpeg:https://cineuniversitariodeluruguay.org.uy/wp-content/uploads/CabezaBorradorahistorias_45739.jpg
END:VEVENT
BEGIN:VEVENT
DTSTART;TZID=America/Montevideo:20250323T200000
DTEND;TZID=America/Montevideo:20250323T200000
DTSTAMP:20260420T004851
CREATED:20250303T194619Z
LAST-MODIFIED:20250303T220014Z
UID:10002080-1742760000-1742760000@cineuniversitariodeluruguay.org.uy
SUMMARY:Mini espías 2
DESCRIPTION:Cuando el matrimonio Cortez -aparentes padres de familia normales y corrientes pero que en realidad son superespías internacionales- es secuestrado por el malvado Floop\, sus hijos no tendrán más remedio que intentar salvarles en una trepidante aventura llena de acción y peligros
URL:https://cineuniversitariodeluruguay.org.uy/actividad/mini-espias/
ATTACH;FMTTYPE=image/jpeg:https://cineuniversitariodeluruguay.org.uy/wp-content/uploads/Miniespas_45739.jpg
END:VEVENT
END:VCALENDAR