BEGIN:VCALENDAR
VERSION:2.0
PRODID:-//Cine Universitario del Uruguay - ECPv6.0.9//NONSGML v1.0//EN
CALSCALE:GREGORIAN
METHOD:PUBLISH
X-ORIGINAL-URL:https://cineuniversitariodeluruguay.org.uy
X-WR-CALDESC:Eventos para Cine Universitario del Uruguay
REFRESH-INTERVAL;VALUE=DURATION:PT1H
X-Robots-Tag:noindex
X-PUBLISHED-TTL:PT1H
BEGIN:VTIMEZONE
TZID:America/Montevideo
BEGIN:STANDARD
TZOFFSETFROM:-0300
TZOFFSETTO:-0300
TZNAME:-03
DTSTART:20250101T000000
END:STANDARD
END:VTIMEZONE
BEGIN:VEVENT
DTSTART;TZID=America/Montevideo:20250321T174500
DTEND;TZID=America/Montevideo:20250321T174500
DTSTAMP:20260419T201042
CREATED:20250303T194504Z
LAST-MODIFIED:20250303T215352Z
UID:10002074-1742579100-1742579100@cineuniversitariodeluruguay.org.uy
SUMMARY:La noche de la Iguana
DESCRIPTION:Adaptación de un drama de Tennessee Williams. Un pastor protestante\, expulsado de su iglesia\, trabaja en México como guía turístico\, dirigiendo expediciones formadas sobre todo por americanas maduras. En una de ellas\, es víctima de los intentos de seducción de una sensual jovencita\, lo que le granjea la animadversión de las demás mujeres. Finalmente\, el grupo llega a un hotel regentado por una vieja amiga suya.
URL:https://cineuniversitariodeluruguay.org.uy/actividad/la-noche-de-la-iguana/
ATTACH;FMTTYPE=image/jpeg:https://cineuniversitariodeluruguay.org.uy/wp-content/uploads/LanochedelaIguana_45737-scaled.jpg
END:VEVENT
BEGIN:VEVENT
DTSTART;TZID=America/Montevideo:20250321T173000
DTEND;TZID=America/Montevideo:20250321T173000
DTSTAMP:20260419T201042
CREATED:20250303T194502Z
LAST-MODIFIED:20250303T200936Z
UID:10002073-1742578200-1742578200@cineuniversitariodeluruguay.org.uy
SUMMARY:The Life Aquatic with Steve Zissou
DESCRIPTION:Tras preparar un plan para vengar la muerte de su colega a manos de un mítico tiburón blanco\, el oceanógrafo Steve Zissou (Bill Murray) recluta a una tripulación que incluye a su esposa (Anjelica Huston)\, a una periodista (Cate Blanchett) y a un joven que podría ser su hijo (Owen Wilson).
URL:https://cineuniversitariodeluruguay.org.uy/actividad/vida-acuatica/
ATTACH;FMTTYPE=image/jpeg:https://cineuniversitariodeluruguay.org.uy/wp-content/uploads/Vidaacuatica_45737.jpg
END:VEVENT
BEGIN:VEVENT
DTSTART;TZID=America/Montevideo:20250320T200000
DTEND;TZID=America/Montevideo:20250320T200000
DTSTAMP:20260419T201042
CREATED:20250303T194303Z
LAST-MODIFIED:20250303T215308Z
UID:10002072-1742500800-1742500800@cineuniversitariodeluruguay.org.uy
SUMMARY:À l’intérieur
DESCRIPTION:Una mujer embarazada y viuda (Alysson Paradis)\, cuyo novio ha fallecido recientemente\, pasa la noche de navidad a solas\, completamente afligida por la pérdida del padre de su bebé\, cuando una extraña (Béatrice Dalle) se presenta en su casa…
URL:https://cineuniversitariodeluruguay.org.uy/actividad/a-linterieur/
ATTACH;FMTTYPE=image/jpeg:https://cineuniversitariodeluruguay.org.uy/wp-content/uploads/lintrieur_45736.jpg
END:VEVENT
BEGIN:VEVENT
DTSTART;TZID=America/Montevideo:20250320T173000
DTEND;TZID=America/Montevideo:20250320T173000
DTSTAMP:20260419T201042
CREATED:20250303T194302Z
LAST-MODIFIED:20250303T194302Z
UID:10002071-1742491800-1742491800@cineuniversitariodeluruguay.org.uy
SUMMARY:Gente de Cristo Nuestros tiempos
DESCRIPTION:
URL:https://cineuniversitariodeluruguay.org.uy/actividad/gente-de-cristo-nuestros-tiempos/
END:VEVENT
BEGIN:VEVENT
DTSTART;TZID=America/Montevideo:20250319T200000
DTEND;TZID=America/Montevideo:20250319T200000
DTSTAMP:20260419T201042
CREATED:20250303T194301Z
LAST-MODIFIED:20250319T152129Z
UID:10002070-1742414400-1742414400@cineuniversitariodeluruguay.org.uy
SUMMARY:La Representacion del Espacio en el filme El Caballo de Turin de Bela Tarr. Charla a cargo de la Dr. Arq. Jordana Maisian
DESCRIPTION:«Aceptemos el reto del cineasta\, que nos proyecta al primer capítulo de la Biblia para recorrerlo día tras día en sentido inverso. Al parecer\, todo comienza -y por eso culmina- como un asunto de luces y de sombras: «Y dijo Dios: sea la luz; y fue la luz». La luz es espacializante\, cava en las tinieblas y hace lugar para la aventura humana. La luz genera espacio y el espacio descendencias\, generaciones que poblaran el mundo. Frágil y brutal equilibrio de la voluntad y la necesidad.» \nCharla conferencia a cargo de Jordana Maisian\, escritora\, ensayista\, doctora en arquitectura por la École nationale supérieure d’architecture Paris‑Malaquais.
URL:https://cineuniversitariodeluruguay.org.uy/actividad/la-representacion-del-espacio-en-el-filme-el-caballo-de-turin-de-bela-tarr-charla-a-cargo-de-la-dr-arq-jordana-maisian/
ATTACH;FMTTYPE=image/jpeg:https://cineuniversitariodeluruguay.org.uy/wp-content/uploads/caballo-turin.jpg
END:VEVENT
BEGIN:VEVENT
DTSTART;TZID=America/Montevideo:20250319T174500
DTEND;TZID=America/Montevideo:20250319T174500
DTSTAMP:20260419T201042
CREATED:20250303T194222Z
LAST-MODIFIED:20250303T200151Z
UID:10002068-1742406300-1742406300@cineuniversitariodeluruguay.org.uy
SUMMARY:Raw
DESCRIPTION:Justine\, una joven de 16 años\, vive en una familia donde todos son veterinarios y vegetarianos. Es una estudiante brillante y prometedora\, pero al ingresar en la facultad de veterinaria descubre un mundo decadente\, despiadado y peligrosamente seductor. Durante la primera semana\, obsesionada por encajar con sus compañeros de clase\, se aleja de los principios que le han inculcado su familia\, y come carne cruda por primera vez. Las consecuencias no tardan en llegar\, y la joven empezará a desvelar su verdadera naturaleza.
URL:https://cineuniversitariodeluruguay.org.uy/actividad/raw/
ATTACH;FMTTYPE=image/jpeg:https://cineuniversitariodeluruguay.org.uy/wp-content/uploads/Raw_45735.jpg
END:VEVENT
BEGIN:VEVENT
DTSTART;TZID=America/Montevideo:20250319T173000
DTEND;TZID=America/Montevideo:20250319T173000
DTSTAMP:20260419T201042
CREATED:20250303T194223Z
LAST-MODIFIED:20250303T215040Z
UID:10002069-1742405400-1742405400@cineuniversitariodeluruguay.org.uy
SUMMARY:El caballo de Turín
DESCRIPTION:Libremente inspirada en un episodio que marca el fin de la carrera del filósofo Friedrich Nietzsche. El 3 de enero de 1889\, en la plaza Alberto de Turín\, Nietzsche se lanzó llorando al cuello de un caballo agotado y maltratado por su cochero y\, después\, se desmayó. Desde entonces\, dejó de escribir y se hundió en la locura y el mutismo. En una atmósfera preapocalíptica\, se nos muestra la vida del cochero\, su hija y del viejo caballo.
URL:https://cineuniversitariodeluruguay.org.uy/actividad/el-caballo-de-turin/
ATTACH;FMTTYPE=image/jpeg:https://cineuniversitariodeluruguay.org.uy/wp-content/uploads/ElcaballodeTurn_45735.jpg
END:VEVENT
BEGIN:VEVENT
DTSTART;TZID=America/Montevideo:20250318T174500
DTEND;TZID=America/Montevideo:20250318T174500
DTSTAMP:20260419T201042
CREATED:20250303T194220Z
LAST-MODIFIED:20250303T215004Z
UID:10002066-1742319900-1742319900@cineuniversitariodeluruguay.org.uy
SUMMARY:The Ascent
DESCRIPTION:Durante la Segunda Guerra Mundial\, dos partisanos soviéticos se apartan del grupo\, que está hambriento\, para ir a una pequeña granja a coger provisiones. Pero\, como los alemanes han llegado primero\, tendrán que seguir recorriendo territorio ocupado para encontrar otro sitio donde abastecerse.
URL:https://cineuniversitariodeluruguay.org.uy/actividad/the-ascent/
ATTACH;FMTTYPE=image/jpeg:https://cineuniversitariodeluruguay.org.uy/wp-content/uploads/TheAscent_45734.jpg
END:VEVENT
BEGIN:VEVENT
DTSTART;TZID=America/Montevideo:20250318T173000
DTEND;TZID=America/Montevideo:20250318T173000
DTSTAMP:20260419T201042
CREATED:20250303T194221Z
LAST-MODIFIED:20250303T214845Z
UID:10002067-1742319000-1742319000@cineuniversitariodeluruguay.org.uy
SUMMARY:El general de la Rovere
DESCRIPTION:En 1943\, los aliados ya han desembarcado en el Sur de Italia\, pero el Norte sigue bajo dominio fascista gracias a la ocupación alemana. En la Génova de 1943\, Bertone\, un estafador con grandes dotes teatrales\, es arrestado por los nazis y obligado a hacerse pasar por un militar antifascista\, el general della Rovere. Su misión será identificar a los jefes de la Resistencia\, pero acaba tomándose su papel demasiado en serio.
URL:https://cineuniversitariodeluruguay.org.uy/actividad/el-general-de-la-rovere/
ATTACH;FMTTYPE=image/jpeg:https://cineuniversitariodeluruguay.org.uy/wp-content/uploads/ElgeneraldelaRovere_45734.jpg
END:VEVENT
BEGIN:VEVENT
DTSTART;TZID=America/Montevideo:20250316T200000
DTEND;TZID=America/Montevideo:20250316T200000
DTSTAMP:20260419T201042
CREATED:20250303T194219Z
LAST-MODIFIED:20250303T214802Z
UID:10002065-1742155200-1742155200@cineuniversitariodeluruguay.org.uy
SUMMARY:David Lynch The Art Life
DESCRIPTION:Viaje íntimo a la etapa formativa de su vida acompañados por el propio David Lynch.
URL:https://cineuniversitariodeluruguay.org.uy/actividad/david-lynch-the-art-life/
ATTACH;FMTTYPE=image/jpeg:https://cineuniversitariodeluruguay.org.uy/wp-content/uploads/DavidLynchTheArtLife_45732-scaled.jpg
END:VEVENT
BEGIN:VEVENT
DTSTART;TZID=America/Montevideo:20250316T174500
DTEND;TZID=America/Montevideo:20250316T174500
DTSTAMP:20260419T201042
CREATED:20250303T194020Z
LAST-MODIFIED:20250303T214714Z
UID:10002064-1742147100-1742147100@cineuniversitariodeluruguay.org.uy
SUMMARY:Dulce pájaro de juventud
DESCRIPTION:Un aspirante a actor regresa a su ciudad natal convertido en el gigoló de una estrella en declive que promete introducirle en el mundo del cine. Pero lo que realmente desea es recuperar el amor de su antigua novia\, la hija del cacique del pueblo.
URL:https://cineuniversitariodeluruguay.org.uy/actividad/dulce-pajaro-de-juventud/
ATTACH;FMTTYPE=image/jpeg:https://cineuniversitariodeluruguay.org.uy/wp-content/uploads/Dulcepjarodejuventud_45732.jpg
END:VEVENT
BEGIN:VEVENT
DTSTART;TZID=America/Montevideo:20250316T173000
DTEND;TZID=America/Montevideo:20250316T173000
DTSTAMP:20260419T201042
CREATED:20250303T194018Z
LAST-MODIFIED:20250303T214547Z
UID:10002063-1742146200-1742146200@cineuniversitariodeluruguay.org.uy
SUMMARY:Casi famosos
DESCRIPTION:Homenaje al rock de los 70. Gracias a sus buenas críticas musicales\, un adolescente que aspira a ser periodista es contratado por la revista «Rolling Stone» para cubrir la gira de una famosa banda. A pesar de su juventud y de la oposición de su madre\, el chico vivirá con los músicos y sus fans una aventura inolvidable. Basada en la propia experiencia de Crowe.
URL:https://cineuniversitariodeluruguay.org.uy/actividad/casi-famosos/
ATTACH;FMTTYPE=image/jpeg:https://cineuniversitariodeluruguay.org.uy/wp-content/uploads/Casifamosos_45732-1.jpg
END:VEVENT
BEGIN:VEVENT
DTSTART;TZID=America/Montevideo:20250315T200000
DTEND;TZID=America/Montevideo:20250315T200000
DTSTAMP:20260419T201042
CREATED:20250303T193930Z
LAST-MODIFIED:20250303T214506Z
UID:10002061-1742068800-1742068800@cineuniversitariodeluruguay.org.uy
SUMMARY:Bad Boy Bubby
DESCRIPTION:Todo lo que Bubby conoce del mundo son las paredes del inmundo sótano en el que ha sido confinado durante sus treinta y cinco años de vida. Sólo tiene conciencia de su propia existencia y de la de su madre. Juega con su famélico gato y con las cucarachas. Su madre le cuida a su modo\, alimentándolo\, abusando sexualmente de él\, o pegándole\, según su estado de ánimo. Hasta que un día Papá llega a casa. esto revoluciona a Bubby\, que siente deseos de ver lo que hay fuera de allí.
URL:https://cineuniversitariodeluruguay.org.uy/actividad/bad-boy-bubby/
ATTACH;FMTTYPE=image/jpeg:https://cineuniversitariodeluruguay.org.uy/wp-content/uploads/BadBoyBubby_45731-1.jpg
END:VEVENT
BEGIN:VEVENT
DTSTART;TZID=America/Montevideo:20250315T174500
DTEND;TZID=America/Montevideo:20250315T174500
DTSTAMP:20260419T201042
CREATED:20250303T193929Z
LAST-MODIFIED:20250303T214426Z
UID:10002060-1742060700-1742060700@cineuniversitariodeluruguay.org.uy
SUMMARY:Perdidos en Tokio
DESCRIPTION:Bob Harris y Charlotte son dos norteamericanos que se encuentran en Tokio. Bob es una estrella de cine de mediana edad que ha venido a rodar un anuncio. Charlotte es una mujer joven que acompaña a todas partes a su marido\, un fanático del trabajo. Incapaces de dormir\, los caminos de Bob y Charlotte se cruzan por casualidad y no tardará en nacer entre ellos una sorprendente amistad. Se aventuran juntos en la vida nocturna de Tokio\, comparten inolvidables experiencias con los habitantes de la ciudad y terminan descubriendo una nueva manera de ver la vida.
URL:https://cineuniversitariodeluruguay.org.uy/actividad/perdidos-en-tokio/
ATTACH;FMTTYPE=image/jpeg:https://cineuniversitariodeluruguay.org.uy/wp-content/uploads/PerdidosenTokio_45731-1.jpg
END:VEVENT
BEGIN:VEVENT
DTSTART;TZID=America/Montevideo:20250315T173000
DTEND;TZID=America/Montevideo:20250315T173000
DTSTAMP:20260419T201042
CREATED:20250303T193931Z
LAST-MODIFIED:20250303T214234Z
UID:10002062-1742059800-1742059800@cineuniversitariodeluruguay.org.uy
SUMMARY:Viaje a Italia
DESCRIPTION:Un matrimonio inglés viaja a Italia para vender una villa que ha heredado cerca de Nápoles. Al alejarse del ambiente londinense y encontrarse en un paisaje y en un mundo ajenos\, la pareja experimenta sentimientos olvidados\, como los celos y el resentimiento.
URL:https://cineuniversitariodeluruguay.org.uy/actividad/viaje-a-italia/
ATTACH;FMTTYPE=image/jpeg:https://cineuniversitariodeluruguay.org.uy/wp-content/uploads/ViajeaItalia_45731-1.jpg
END:VEVENT
BEGIN:VEVENT
DTSTART;TZID=America/Montevideo:20250314T220000
DTEND;TZID=America/Montevideo:20250314T220000
DTSTAMP:20260419T201042
CREATED:20250314T184502Z
LAST-MODIFIED:20250314T184502Z
UID:10002100-1741989600-1741989600@cineuniversitariodeluruguay.org.uy
SUMMARY:28 Days Later
DESCRIPTION:Londres es un cementerio. Las calles antes abarrotadas están ahora desiertas. Las tiendas\, vacías. Y reina un silencio total. Tras la propagación de un virus que acabó con la mayor parte de la población de Gran Bretaña\, tuvo lugar la invasión de unos seres terroríficos. El virus se difundió\, tras la incursión en un laboratorio\, de un grupo de defensores de los derechos de los animales. Transmitido a través de la sangre\, el virus produce efectos devastadores en los afectados. En 28 días la epidemia se extiende por todo el país y sólo queda un puñado de supervivientes.
URL:https://cineuniversitariodeluruguay.org.uy/actividad/28-days-later/
ATTACH;FMTTYPE=image/jpeg:https://cineuniversitariodeluruguay.org.uy/wp-content/uploads/f.elconfidencial.com_original_4fe_00a_249_4fe00a249308fad5e3c0fc1f226c4bc8.jpg
END:VEVENT
BEGIN:VEVENT
DTSTART;TZID=America/Montevideo:20250314T220000
DTEND;TZID=America/Montevideo:20250314T220000
DTSTAMP:20260419T201042
CREATED:20250314T184042Z
LAST-MODIFIED:20250314T184042Z
UID:10002099-1741989600-1741989600@cineuniversitariodeluruguay.org.uy
SUMMARY:Moonrise Kingdom
DESCRIPTION:Años 60. Familiares y amigos buscan a dos jóvenes amantes que han huido de su pueblo natal. Así\, quedarán de manifiesto viejos rencores y ocultas relaciones románticas entre algunos de los personajes que participan en la búsqueda.
URL:https://cineuniversitariodeluruguay.org.uy/actividad/moonrise-kingdom/
ATTACH;FMTTYPE=image/jpeg:https://cineuniversitariodeluruguay.org.uy/wp-content/uploads/moonrise_kingdom-254828864-large.jpg
END:VEVENT
BEGIN:VEVENT
DTSTART;TZID=America/Montevideo:20250314T200000
DTEND;TZID=America/Montevideo:20250314T200000
DTSTAMP:20260419T201042
CREATED:20250303T193928Z
LAST-MODIFIED:20250303T214154Z
UID:10002059-1741982400-1741982400@cineuniversitariodeluruguay.org.uy
SUMMARY:The Werewolf versus The Vampire Women
DESCRIPTION:En una oscura sala dos forenses retiran una bala de plata de un cadáver\, que vuelve a la vida y mata a los dos médicos. Waldemar Daninsky\, el hombre lobo\, ha resucitado. Dos jóvenes universitarias que han estado trabajando en un estudio sobre superstición y magia negra creen haber localizado la tumba de la condesa Wandesa Darvula de Nadasdy\, la terrible adoradora del Diablo. Las dos jóvenes viajan al norte de Francia en busca de la tumba\, pero se pierden en un bosque. Waldemar las encuentra y las invita a su casa. A la mañana siguiente\, las muchachas y Waldemar descubren la tumba de Wandesa cerca de las ruinas de una vieja abadía.
URL:https://cineuniversitariodeluruguay.org.uy/actividad/the-werewolf-versus-the-vampire-women/
ATTACH;FMTTYPE=image/jpeg:https://cineuniversitariodeluruguay.org.uy/wp-content/uploads/TheWerewolfversusTheVampireWomen_45730-1.jpg
END:VEVENT
BEGIN:VEVENT
DTSTART;TZID=America/Montevideo:20250314T174500
DTEND;TZID=America/Montevideo:20250314T174500
DTSTAMP:20260419T201042
CREATED:20250303T193730Z
LAST-MODIFIED:20250303T214114Z
UID:10002057-1741974300-1741974300@cineuniversitariodeluruguay.org.uy
SUMMARY:Frontière(s)
DESCRIPTION:Año 2007. Las elecciones francesas se resuelven entre un partido conservador y otro de extrema derecha. La banlieue ha estallado en protestas\, y un grupo de jóvenes han decidido aprovechar el tumulto para perpetrar un robo. Un hostal aislado parece ser el refugio perfecto\, pero sus problemas no han hecho más que empezar cuando descubran que sus propietarios son un grupo de degenerados neonazis.
URL:https://cineuniversitariodeluruguay.org.uy/actividad/frontieres/
ATTACH;FMTTYPE=image/jpeg:https://cineuniversitariodeluruguay.org.uy/wp-content/uploads/Frontires_45730-1.jpg
END:VEVENT
BEGIN:VEVENT
DTSTART;TZID=America/Montevideo:20250314T173000
DTEND;TZID=America/Montevideo:20250314T173000
DTSTAMP:20260419T201042
CREATED:20250303T193731Z
LAST-MODIFIED:20250303T214039Z
UID:10002058-1741973400-1741973400@cineuniversitariodeluruguay.org.uy
SUMMARY:Verano y humo
DESCRIPTION:Adaptación del drama homónimo de Tennessee Williams\, ambientado en una pequeña población de Mississippi. Desde siempre\, Alma (Geraldine Page)\, una joven tímida y muy espiritual\, ha estado enamorada de John Buchanan (Laurence Harvey)\, un médico de ideas materialistas que sólo tiene ojos para Rosa Zacharias (Rita Moreno)\, la apasionada y desenvuelta hija del dueño del casino.
URL:https://cineuniversitariodeluruguay.org.uy/actividad/verano-y-humo/
ATTACH;FMTTYPE=image/jpeg:https://cineuniversitariodeluruguay.org.uy/wp-content/uploads/Veranoyhumo_45730-1.jpg
END:VEVENT
BEGIN:VEVENT
DTSTART;TZID=America/Montevideo:20250313T174500
DTEND;TZID=America/Montevideo:20250313T174500
DTSTAMP:20260419T201042
CREATED:20250303T193729Z
LAST-MODIFIED:20250303T214004Z
UID:10002056-1741887900-1741887900@cineuniversitariodeluruguay.org.uy
SUMMARY:El seductor
DESCRIPTION:Año 1864. Durante la guerra civil norteamericana\, la tranquilidad de una escuela femenina de Virginia donde sólo viven mujeres se ve alterada con la llegada de un apuesto soldado confederado herido… Remake de «El seductor»\, dirigida por Don Siegel y protagonizada por Clint Eastwood.
URL:https://cineuniversitariodeluruguay.org.uy/actividad/el-seductor-2/
ATTACH;FMTTYPE=image/jpeg:https://cineuniversitariodeluruguay.org.uy/wp-content/uploads/Elseductor_45729-1.jpg
END:VEVENT
BEGIN:VEVENT
DTSTART;TZID=America/Montevideo:20250313T173000
DTEND;TZID=America/Montevideo:20250313T173000
DTSTAMP:20260419T201042
CREATED:20250303T193728Z
LAST-MODIFIED:20250313T165832Z
UID:10002055-1741887000-1741887000@cineuniversitariodeluruguay.org.uy
SUMMARY:El desafío
DESCRIPTION:El cosmonauta Oleg Ivanov a bordo de la Estación Espacial Internacional pierde el conocimiento. Los médicos deciden que será necesario realizar una cirugía cardíaca en gravedad cero. La cirujana Zhenya se prepara para viajar al espacio.
URL:https://cineuniversitariodeluruguay.org.uy/actividad/desafio/
ATTACH;FMTTYPE=image/png:https://cineuniversitariodeluruguay.org.uy/wp-content/uploads/Visov.png
END:VEVENT
BEGIN:VEVENT
DTSTART;TZID=America/Montevideo:20250312T174500
DTEND;TZID=America/Montevideo:20250312T174500
DTSTAMP:20260419T201042
CREATED:20250303T193531Z
LAST-MODIFIED:20250303T205846Z
UID:10002053-1741801500-1741801500@cineuniversitariodeluruguay.org.uy
SUMMARY:Citizen Four
DESCRIPTION:En 2013\, el analista informático Edward Snowden filtró documentos clasificados que había obtenido de la NSA\, la Agencia de Seguridad Nacional Norteamericana\, detallando la vigilancia que el gobierno estadounidense ejerce sobre sus ciudadanos. Después de pasar a la clandestinidad para evitar la extadición y el arresto\, Snowden pasó a convertirse en noticia. Tanto que su notoriedad amenazaba con eclipsar las implicaciones de la información que había revelado.
URL:https://cineuniversitariodeluruguay.org.uy/actividad/citizen-four/
ATTACH;FMTTYPE=image/jpeg:https://cineuniversitariodeluruguay.org.uy/wp-content/uploads/CitizenFour_45728-1.jpg
END:VEVENT
BEGIN:VEVENT
DTSTART;TZID=America/Montevideo:20250312T173000
DTEND;TZID=America/Montevideo:20250312T173000
DTSTAMP:20260419T201042
CREATED:20250303T193727Z
LAST-MODIFIED:20250303T205734Z
UID:10002054-1741800600-1741800600@cineuniversitariodeluruguay.org.uy
SUMMARY:El gran Dictador
DESCRIPTION:Un humilde barbero judío tiene un parecido asombroso con el dictador de la nación Tomania\, que promete sacar adelante y que culpa a los judíos de la situación del país. El dictador ataca al país fronterizo\, pero es confundido con el barbero por sus propios guardias\, siendo ingresado en un campo de concentración. Simultáneamente\, el pobre barbero es confundido con el dictador…
URL:https://cineuniversitariodeluruguay.org.uy/actividad/el-gran-dictador/
ATTACH;FMTTYPE=image/jpeg:https://cineuniversitariodeluruguay.org.uy/wp-content/uploads/ElgranDictador_45728-1.jpg
END:VEVENT
BEGIN:VEVENT
DTSTART;TZID=America/Montevideo:20250311T174500
DTEND;TZID=America/Montevideo:20250311T174500
DTSTAMP:20260419T201042
CREATED:20250303T193530Z
LAST-MODIFIED:20250303T205658Z
UID:10002052-1741715100-1741715100@cineuniversitariodeluruguay.org.uy
SUMMARY:Tiempos modernos
DESCRIPTION:Extenuado por el frenético ritmo de la cadena de montaje\, un obrero metalúrgico acaba perdiendo la razón. Después de recuperarse en un hospital\, sale y es encarcelado por participar en una manifestación en la que se encontraba por casualidad. En la cárcel\, también sin pretenderlo\, ayuda a controlar un motín\, gracias a lo cual queda en libertad. Una vez fuera\, reemprende la lucha por la supervivencia en compañía de una joven huérfana a la que conoce en la calle.
URL:https://cineuniversitariodeluruguay.org.uy/actividad/tiempos-modernos-2/
ATTACH;FMTTYPE=image/jpeg:https://cineuniversitariodeluruguay.org.uy/wp-content/uploads/Tiemposmodernos_45727-1-scaled.jpg
END:VEVENT
BEGIN:VEVENT
DTSTART;TZID=America/Montevideo:20250311T173000
DTEND;TZID=America/Montevideo:20250311T173000
DTSTAMP:20260419T201042
CREATED:20250303T193529Z
LAST-MODIFIED:20250303T205614Z
UID:10002051-1741714200-1741714200@cineuniversitariodeluruguay.org.uy
SUMMARY:Tigre Blanco
DESCRIPTION:La Gran Guerra Patriota durante la década de 1940. Después de sobrevivir milagrosamente a una batalla contra un tanque fantasma\, el Sargento del Ejército Rojo\, Ivan Naydenov\, se obsesiona con su destrucción.
URL:https://cineuniversitariodeluruguay.org.uy/actividad/tigre-blanco/
ATTACH;FMTTYPE=image/jpeg:https://cineuniversitariodeluruguay.org.uy/wp-content/uploads/TigreBlanco_45727-1.jpg
END:VEVENT
BEGIN:VEVENT
DTSTART;TZID=America/Montevideo:20250309T200000
DTEND;TZID=America/Montevideo:20250309T200000
DTSTAMP:20260419T201042
CREATED:20250303T193528Z
LAST-MODIFIED:20250303T205232Z
UID:10002050-1741550400-1741550400@cineuniversitariodeluruguay.org.uy
SUMMARY:The Short Films Of David Lynch
DESCRIPTION:Recopilación que incluye seis de los trabajos más experimentales e insólitos del director norteamericano: ficción\, animación y drama en seis cortometrajes que ya anticipan el espíritu transgresor\, las atmósferas oníricas y extrañas del visionario creador David Lynch. Los cortos incluidos son: Six Figures Getting Sick\, The Alphabet\, The Grandmother\, The Amputee\, The Cowboy and The Frenchman\, Premonitions Following an Evil Deed.
URL:https://cineuniversitariodeluruguay.org.uy/actividad/the-short-films-of-david-lynch/
ATTACH;FMTTYPE=image/jpeg:https://cineuniversitariodeluruguay.org.uy/wp-content/uploads/TheShortFilmsOfDavidLynch_45725-1.jpg
END:VEVENT
BEGIN:VEVENT
DTSTART;TZID=America/Montevideo:20250309T200000
DTEND;TZID=America/Montevideo:20250309T200000
DTSTAMP:20260419T201042
CREATED:20250303T193443Z
LAST-MODIFIED:20250303T205139Z
UID:10002048-1741550400-1741550400@cineuniversitariodeluruguay.org.uy
SUMMARY:Village of the Damned
DESCRIPTION:Durante unas horas todos los habitantes de Midwich\, un tranquilo pueblo costero\, pierden el conocimiento. Poco tiempo después\, se produce otro inquietante y extraño fenómeno que parece estar relacionado con aquel desmayo: la mayor parte de las mujeres de Midwich se han quedado embarazadas. El médico de la localidad\, cuya mujer también está encinta\, y una cientifica\, enviada por el gobierno\, deciden estudiar el caso a partir del momento en que los niños empiezan a mostrar una conducta tan sobrenatural como inhumana.
URL:https://cineuniversitariodeluruguay.org.uy/actividad/village-of-the-damned/
ATTACH;FMTTYPE=image/jpeg:https://cineuniversitariodeluruguay.org.uy/wp-content/uploads/VillageoftheDamned_45725-1.jpg
END:VEVENT
BEGIN:VEVENT
DTSTART;TZID=America/Montevideo:20250309T174500
DTEND;TZID=America/Montevideo:20250309T174500
DTSTAMP:20260419T201042
CREATED:20250303T193527Z
LAST-MODIFIED:20250303T205059Z
UID:10002049-1741542300-1741542300@cineuniversitariodeluruguay.org.uy
SUMMARY:Anastasia\, la princesa vagabunda
DESCRIPTION:París\, 1928. Tras la Revolución Rusa de 1917 y\, después de varios años de exilio\, un grupo de súbditos leales al zarismo sigue buscando el rastro de la Gran Duquesa Anastasia\, la única superviviente de la matanza de Ekaterimburgo (1918)\, ciudad donde los bolcheviques de Lenin acabaron con la dinastía de los Romanov.
URL:https://cineuniversitariodeluruguay.org.uy/actividad/anastasia-la-princesa-vagabunda/
ATTACH;FMTTYPE=image/jpeg:https://cineuniversitariodeluruguay.org.uy/wp-content/uploads/Anastasialaprincesavagabunda_45725-1-scaled.jpg
END:VEVENT
BEGIN:VEVENT
DTSTART;TZID=America/Montevideo:20250309T173000
DTEND;TZID=America/Montevideo:20250309T173000
DTSTAMP:20260419T201042
CREATED:20250303T193442Z
LAST-MODIFIED:20250303T205008Z
UID:10002047-1741541400-1741541400@cineuniversitariodeluruguay.org.uy
SUMMARY:El dia de la marmota
DESCRIPTION:Phil\, hombre del tiempo de una cadena de televisión\, es enviado un año más a Punxstawnwey\, a cubrir la información del festival de El día de la marmota. En el viaje de regreso\, Phil y su equipo se ven sorprendidos por una tormenta que les obliga a regresar a la pequeña ciudad. A la mañana siguiente\, al levantarse\, Phil escucha en el radiodespertador el mismo programa que la mañana anterior.
URL:https://cineuniversitariodeluruguay.org.uy/actividad/el-dia-de-la-marmota-2/
ATTACH;FMTTYPE=image/jpeg:https://cineuniversitariodeluruguay.org.uy/wp-content/uploads/Eldiadelamarmota_45725-1.jpg
END:VEVENT
END:VCALENDAR