BEGIN:VCALENDAR
VERSION:2.0
PRODID:-//Cine Universitario del Uruguay - ECPv6.0.9//NONSGML v1.0//EN
CALSCALE:GREGORIAN
METHOD:PUBLISH
X-ORIGINAL-URL:https://cineuniversitariodeluruguay.org.uy
X-WR-CALDESC:Eventos para Cine Universitario del Uruguay
REFRESH-INTERVAL;VALUE=DURATION:PT1H
X-Robots-Tag:noindex
X-PUBLISHED-TTL:PT1H
BEGIN:VTIMEZONE
TZID:America/Montevideo
BEGIN:STANDARD
TZOFFSETFROM:-0300
TZOFFSETTO:-0300
TZNAME:-03
DTSTART:20250101T000000
END:STANDARD
END:VTIMEZONE
BEGIN:VEVENT
DTSTART;TZID=America/Montevideo:20250305T174500
DTEND;TZID=America/Montevideo:20250305T174500
DTSTAMP:20260419T130352
CREATED:20250303T193226Z
LAST-MODIFIED:20250303T203215Z
UID:10002038-1741196700-1741196700@cineuniversitariodeluruguay.org.uy
SUMMARY:Luces de la ciudad
DESCRIPTION:Un pobre vagabundo (Charles Chaplin) pasa mil y un avatares para conseguir dinero y ayudar a una pobre chica ciega (Virginia Cherill) de la que se ha enamorado.
URL:https://cineuniversitariodeluruguay.org.uy/actividad/luces-de-la-ciudad/
ATTACH;FMTTYPE=image/jpeg:https://cineuniversitariodeluruguay.org.uy/wp-content/uploads/Lucesdelaciudad_45721-1.jpg
END:VEVENT
BEGIN:VEVENT
DTSTART;TZID=America/Montevideo:20250305T174500
DTEND;TZID=America/Montevideo:20250305T174500
DTSTAMP:20260419T130352
CREATED:20250303T193225Z
LAST-MODIFIED:20250303T203126Z
UID:10002037-1741196700-1741196700@cineuniversitariodeluruguay.org.uy
SUMMARY:Daisies
DESCRIPTION:Dos chicas jóvenes concluyen\, mientras toman el sol en bikini\, que «si en este mundo todo está corrompido\, estaremos corrompidas nosotras también». Así se activa el mecanismo que pone en marcha la película: una tras otra\, se irán produciendo escenas inconexas en las cuáles las dos protagonistas juegan a ser malas con su entorno. Engañan a hombres maduros para comer gratuitamente\, escriben y dibujan en las paredes de su casa\, improvisan un baile en un cabaret para boicotear el número que está en escena\, engullen y despedazan los manjares de un banquete preparado para otros. Rompiendo toda linealidad narrativa y empleando la técnica collage tanto a nivel visual como auditivo.
URL:https://cineuniversitariodeluruguay.org.uy/actividad/daisies/
ATTACH;FMTTYPE=image/jpeg:https://cineuniversitariodeluruguay.org.uy/wp-content/uploads/Daisies_45721-1.jpg
END:VEVENT
BEGIN:VEVENT
DTSTART;TZID=America/Montevideo:20250304T174500
DTEND;TZID=America/Montevideo:20250304T174500
DTSTAMP:20260419T130352
CREATED:20250303T193222Z
LAST-MODIFIED:20250303T200401Z
UID:10002035-1741110300-1741110300@cineuniversitariodeluruguay.org.uy
SUMMARY:La Balada del Soldado
DESCRIPTION:Durante la Segunda Guerra Mundial (1939-1945)\, el joven Alyosha\, un soldado de apenas 19 años\, gana una medalla como recompensa por su heroísmo en el frente de batalla. En lugar de la condecoración\, Alyosha pide unos días de permiso para poder visitar a su madre. De camino a casa\, en el tren conoce a una chica de la que se enamora.
URL:https://cineuniversitariodeluruguay.org.uy/actividad/la-balada-del-soldado/
ATTACH;FMTTYPE=image/jpeg:https://cineuniversitariodeluruguay.org.uy/wp-content/uploads/LaBaladadelSoldado_45720-1.jpg
END:VEVENT
BEGIN:VEVENT
DTSTART;TZID=America/Montevideo:20250304T173000
DTEND;TZID=America/Montevideo:20250304T173000
DTSTAMP:20260419T130352
CREATED:20250303T193223Z
LAST-MODIFIED:20250303T200311Z
UID:10002036-1741109400-1741109400@cineuniversitariodeluruguay.org.uy
SUMMARY:De repente\, en el verano
DESCRIPTION:En la Nueva Orleans de 1937\, una rica viuda\, la señora Venable\, ofrece al doctor Cukrowicz los fondos para crear un hospital a condición de que practique una lobotomía a su sobrina Catherine. La señora Venable se encuentra perturbada por la reciente muerte en Europa de su hijo Sebastian\, con quien solía viajar todos los veranos\, salvo el último\, en el que Sebastian prefirió llevar como acompañante a su prima Catherine.
URL:https://cineuniversitariodeluruguay.org.uy/actividad/de-repente-en-el-verano/
ATTACH;FMTTYPE=image/jpeg:https://cineuniversitariodeluruguay.org.uy/wp-content/uploads/Derepenteenelverano_45720-1.jpg
END:VEVENT
BEGIN:VEVENT
DTSTART;TZID=America/Montevideo:20250302T200000
DTEND;TZID=America/Montevideo:20250302T200000
DTSTAMP:20260419T130352
CREATED:20250303T193221Z
LAST-MODIFIED:20250303T193221Z
UID:10002034-1740945600-1740945600@cineuniversitariodeluruguay.org.uy
SUMMARY:Twin Peaks The Missing Pieces
DESCRIPTION:Remontaje de secuencias eliminadas de la serie «Twin Peaks» y la película «Twin Peaks: El fuego camina conmigo»\, que dan lugar a una película que complementa a ambas obras y ofrece su propia narrativa. En 2014 se estrenó en varios cines de Estados Unidos\, y se lanzó en BluRay junto a la versión definitiva de la serie en 2015.
URL:https://cineuniversitariodeluruguay.org.uy/actividad/twin-peaks-the-missing-pieces/
END:VEVENT
BEGIN:VEVENT
DTSTART;TZID=America/Montevideo:20250302T200000
DTEND;TZID=America/Montevideo:20250302T200000
DTSTAMP:20260419T130352
CREATED:20250303T193217Z
LAST-MODIFIED:20250303T193217Z
UID:10002032-1740945600-1740945600@cineuniversitariodeluruguay.org.uy
SUMMARY:Requiem por un sueño
DESCRIPTION:Harry (Jared Leto) vive con su atormentada madre Sara (Ellen Burstyn)\, y mientras él sueña con una vida mejor\, ella está permanentemente a dieta para el día que pueda cumplir su mayor ilusión; aparecer en su concurso televisivo preferido. La ambición de Harry y su novia Marion (Jennifer Connelly) es hacerse ricos vendiendo droga con su amigo Tyrone (Marlon Wayans)\, y utilizar las ganancias para abrir un negocio propio\, pero nunca llega el dinero suficiente para iniciar su plan. A pesas de todo\, Harry y Marion no se resignan a vivir una existencia que consideran despreciable\, por lo que harán lo impensable para conseguir la vida que anhelan.
URL:https://cineuniversitariodeluruguay.org.uy/actividad/requiem-por-un-sueno/
END:VEVENT
BEGIN:VEVENT
DTSTART;TZID=America/Montevideo:20250302T174500
DTEND;TZID=America/Montevideo:20250302T174500
DTSTAMP:20260419T130352
CREATED:20250303T193215Z
LAST-MODIFIED:20250303T193215Z
UID:10002031-1740937500-1740937500@cineuniversitariodeluruguay.org.uy
SUMMARY:Roma\, ciudad abierta
DESCRIPTION:Segunda Guerra Mundial (1939-1945). Estando Roma ocupada por los nazis\, la temible Gestapo trata de arrestar a Manfredi\, el líder del Comité Nacional de Liberación. Annie Marie ofrece refugio en su casa a Manfredi y a algunos de sus camaradas\, pero los alemanes descubren su escondrijo y rodean la vivienda; algunos partisanos consiguen escapar por los tejados\, pero Manfredi es apresado.
URL:https://cineuniversitariodeluruguay.org.uy/actividad/roma-ciudad-abierta-2/
END:VEVENT
BEGIN:VEVENT
DTSTART;TZID=America/Montevideo:20250302T173000
DTEND;TZID=America/Montevideo:20250302T173000
DTSTAMP:20260419T130352
CREATED:20250303T193218Z
LAST-MODIFIED:20250303T193218Z
UID:10002033-1740936600-1740936600@cineuniversitariodeluruguay.org.uy
SUMMARY:El gato sobre el tejado de zinc caliente
DESCRIPTION:La inminente muerte del anciano patriarca de una acomodada familia del Sur desencadena terribles tensiones entre sus herederos. Uno de sus hijos\, Brick\, indeciso y apático\, se refugia en el alcohol y se muestra completamente indiferente ante la situación\, pero Maggie\, su mujer\, no está dispuesta a contemplar impasible su destrucción. El otro\, Gooper\, al igual que su esposa\, es ambicioso y oportunista.
URL:https://cineuniversitariodeluruguay.org.uy/actividad/el-gato-sobre-el-tejado-de-zinc-caliente/
END:VEVENT
BEGIN:VEVENT
DTSTART;TZID=America/Montevideo:20250301T000000
DTEND;TZID=America/Montevideo:20250301T000000
DTSTAMP:20260419T130352
CREATED:20250303T193213Z
LAST-MODIFIED:20250303T193214Z
UID:10002030-1740787200-1740787200@cineuniversitariodeluruguay.org.uy
SUMMARY:Feriado por asunción de mando
DESCRIPTION:
URL:https://cineuniversitariodeluruguay.org.uy/actividad/feriado-por-asuncion-de-mando/
END:VEVENT
BEGIN:VEVENT
DTSTART;TZID=America/Montevideo:20250228T200000
DTEND;TZID=America/Montevideo:20250228T200000
DTSTAMP:20260419T130352
CREATED:20250201T145456Z
LAST-MODIFIED:20250202T231321Z
UID:10002021-1740772800-1740772800@cineuniversitariodeluruguay.org.uy
SUMMARY:My Name is Bruce
DESCRIPTION:Un pequeño pueblo es asediado por un grupo de demonios después de que unos adolescenetes desaten una antigua maldición. Los habitantes recurrirán al actor Bruce Campbell y se verá inmerso en una película de Serie-B. Pese a sus protestas y su intento de convencer a los habitantes de que tan sólo es un actor\, se verá obligado a convertirse en el heroico personaje que suele interpretar y salvar al pueblo.
URL:https://cineuniversitariodeluruguay.org.uy/actividad/my-name-is-bruce-2/
ATTACH;FMTTYPE=image/jpeg:https://cineuniversitariodeluruguay.org.uy/wp-content/uploads/MyNameisBruce_45716-1.jpg
END:VEVENT
BEGIN:VEVENT
DTSTART;TZID=America/Montevideo:20250228T174500
DTEND;TZID=America/Montevideo:20250228T174500
DTSTAMP:20260419T130352
CREATED:20250201T145454Z
LAST-MODIFIED:20250228T203306Z
UID:10002019-1740764700-1740764700@cineuniversitariodeluruguay.org.uy
SUMMARY:Almohadon de plumas
DESCRIPTION:Una joven mujer compra una almohada a unos gitanos. Luego de despertarse\, ella misteriosamente siente como si su vida estuviera siendo consumida\, nadie la puede curar de una desconocida enfermedad.
URL:https://cineuniversitariodeluruguay.org.uy/actividad/almohadon-de-plumas/
END:VEVENT
BEGIN:VEVENT
DTSTART;TZID=America/Montevideo:20250228T173000
DTEND;TZID=America/Montevideo:20250228T173000
DTSTAMP:20260419T130352
CREATED:20250201T145455Z
LAST-MODIFIED:20250202T231020Z
UID:10002020-1740763800-1740763800@cineuniversitariodeluruguay.org.uy
SUMMARY:A Mighty Wind
DESCRIPTION:Un trío de cantantes de folk de los años sesenta preparan un show en el Carnegie Hall en memoria de un promotor de conciertos recientemente fallecido.
URL:https://cineuniversitariodeluruguay.org.uy/actividad/a-mighty-wind/
ATTACH;FMTTYPE=image/jpeg:https://cineuniversitariodeluruguay.org.uy/wp-content/uploads/AMightyWind_45716-1.jpg
END:VEVENT
BEGIN:VEVENT
DTSTART;TZID=America/Montevideo:20250227T190000
DTEND;TZID=America/Montevideo:20250227T190000
DTSTAMP:20260419T130352
CREATED:20250201T145452Z
LAST-MODIFIED:20250227T161420Z
UID:10002018-1740682800-1740682800@cineuniversitariodeluruguay.org.uy
SUMMARY:Inland Empire
DESCRIPTION:La percepción de la realidad de una actriz (Laura Dern) se va distorsionando cada vez más. Al mismo tiempo descubre que\, quizá\, se está enamorando de su partenaire (Justin Theroux) en un remake polaco inconcluso y supuestamente maldito.
URL:https://cineuniversitariodeluruguay.org.uy/actividad/inland-empire/
ATTACH;FMTTYPE=image/jpeg:https://cineuniversitariodeluruguay.org.uy/wp-content/uploads/InlandEmpire_45715-1-scaled.jpg
END:VEVENT
BEGIN:VEVENT
DTSTART;TZID=America/Montevideo:20250227T183000
DTEND;TZID=America/Montevideo:20250227T183000
DTSTAMP:20260419T130352
CREATED:20250201T145451Z
LAST-MODIFIED:20250227T161344Z
UID:10002017-1740681000-1740681000@cineuniversitariodeluruguay.org.uy
SUMMARY:El Destino de un Hombre
DESCRIPTION:Crónica de la vida de un soldado soviético durante la Segunda Guerra Mundial (1939-1945)\, de los sufrimientos y sacrificios que tuvo que afrontar en medio de un mundo de destrucción y muerte. \nEntrada libre
URL:https://cineuniversitariodeluruguay.org.uy/actividad/el-destino-de-un-hombre/
ATTACH;FMTTYPE=image/jpeg:https://cineuniversitariodeluruguay.org.uy/wp-content/uploads/ElDestinodeunHombre_45715-1.jpg
END:VEVENT
BEGIN:VEVENT
DTSTART;TZID=America/Montevideo:20250226T174500
DTEND;TZID=America/Montevideo:20250226T174500
DTSTAMP:20260419T130352
CREATED:20250202T205041Z
LAST-MODIFIED:20250202T230652Z
UID:10002027-1740591900-1740591900@cineuniversitariodeluruguay.org.uy
SUMMARY:Cita con la muerte
DESCRIPTION:Cuando una multimillonaria\, cuya fortuna es ambicionada por varias personas\, muere asesinada\, las sospechas recaen sobre sus posibles herederos. El detective Hércules Poirot es el encargado de investigar el crimen.
URL:https://cineuniversitariodeluruguay.org.uy/actividad/cita-con-la-muerte-2/
ATTACH;FMTTYPE=image/jpeg:https://cineuniversitariodeluruguay.org.uy/wp-content/uploads/Citaconlamuerte_45714-2.jpg
END:VEVENT
BEGIN:VEVENT
DTSTART;TZID=America/Montevideo:20250226T173000
DTEND;TZID=America/Montevideo:20250226T173000
DTSTAMP:20260419T130352
CREATED:20250201T145254Z
LAST-MODIFIED:20250202T230424Z
UID:10002016-1740591000-1740591000@cineuniversitariodeluruguay.org.uy
SUMMARY:3:10 Misión peligrosa
DESCRIPTION:Remake del film de 1957 «El Tren de las 3:10»\, de Delmer Daves. Dan Evans es un típico ranchero de un pueblo de Arizona y veterano de la Guerra de Secesión que\, para aliviar sus penurias económicas\, decide escoltar al peligroso forajido Ben Wade mientras llega el tren que tiene que llevarlo ante la justicia. Pero no todo saldrá bien y la violencia no tardará en aparecer: durante ese tiempo se inicia una dramática lucha psicológica entre ambos hombres mientras las compañeros del forajido intentan liberarle.
URL:https://cineuniversitariodeluruguay.org.uy/actividad/310-mision-peligrosa/
ATTACH;FMTTYPE=image/jpeg:https://cineuniversitariodeluruguay.org.uy/wp-content/uploads/310Misinpeligrosa_45714-1.jpg
END:VEVENT
BEGIN:VEVENT
DTSTART;TZID=America/Montevideo:20250226T173000
DTEND;TZID=America/Montevideo:20250226T173000
DTSTAMP:20260419T130352
CREATED:20250201T145252Z
LAST-MODIFIED:20250202T230344Z
UID:10002014-1740591000-1740591000@cineuniversitariodeluruguay.org.uy
SUMMARY:Memorias de Matsuko
DESCRIPTION:Matsuko fue asesinada a los 53 años cerca de un río próximo a su apartamento. Un sobrino suyo investiga el caso y va reconstruyendo los episodios de la desgraciada vida de su tía. Estuvo nominada a nueve premios de la Academia de Cine Japonesa (director\, actriz\, sonido\, banda sonora\, iluminación\, dirección artística\, guión\, montaje y fotografía) y obtuvo tres: mejor actriz (Miki Nakatani)\, mejor montaje (Yoshiyuki Koike) y mejor BSO (Gabriele Roberto & Takeshi Shibuya).
URL:https://cineuniversitariodeluruguay.org.uy/actividad/memorias-de-matsuko/
ATTACH;FMTTYPE=image/jpeg:https://cineuniversitariodeluruguay.org.uy/wp-content/uploads/MemoriasdeMatsuko_45714-1.jpg
END:VEVENT
BEGIN:VEVENT
DTSTART;TZID=America/Montevideo:20250225T200000
DTEND;TZID=America/Montevideo:20250225T200000
DTSTAMP:20260419T130352
CREATED:20250201T145251Z
LAST-MODIFIED:20250202T230302Z
UID:10002013-1740513600-1740513600@cineuniversitariodeluruguay.org.uy
SUMMARY:Drop Dead Gorgeous
DESCRIPTION:En un pequeño pueblo de Norte América se ha convocado una nueva edición del concurso anual de belleza “Joven Princesa Americana”. Dos son las concursantes con mayores posibilidades: la malcriada y rica heredera de un gran imperio de muebles y la modesta maquilladora de la funeraria local…
URL:https://cineuniversitariodeluruguay.org.uy/actividad/drop-dead-gorgeous-2/
ATTACH;FMTTYPE=image/jpeg:https://cineuniversitariodeluruguay.org.uy/wp-content/uploads/DropDeadGorgeous_45713-1.jpg
END:VEVENT
BEGIN:VEVENT
DTSTART;TZID=America/Montevideo:20250225T174500
DTEND;TZID=America/Montevideo:20250225T174500
DTSTAMP:20260419T130352
CREATED:20250201T145250Z
LAST-MODIFIED:20250202T230209Z
UID:10002012-1740505500-1740505500@cineuniversitariodeluruguay.org.uy
SUMMARY:El circo
DESCRIPTION:Último film mudo de Chaplin. El vagabundo Charlot viaja con un circo ambulante y se enamora de una mujer jinete que está enamorada de un musculoso trapecista. Mientras tanto\, le suceden mil y una peripecias.
URL:https://cineuniversitariodeluruguay.org.uy/actividad/el-circo/
ATTACH;FMTTYPE=image/jpeg:https://cineuniversitariodeluruguay.org.uy/wp-content/uploads/Elcirco_45713-1.jpg
END:VEVENT
BEGIN:VEVENT
DTSTART;TZID=America/Montevideo:20250225T173000
DTEND;TZID=America/Montevideo:20250225T173000
DTSTAMP:20260419T130352
CREATED:20250201T145053Z
LAST-MODIFIED:20250224T181635Z
UID:10002011-1740504600-1740504600@cineuniversitariodeluruguay.org.uy
SUMMARY:Q&A
DESCRIPTION:¡Te invitamos a una instancia de preguntas y respuestas sobre realización cinematográfica!  \n\nSi te interesa hacer cine y querés conocer más sobre el proceso creativo y técnico detrás de los cortometrajes\, no te pierdas esta oportunidad.\n Q&A – Preguntas y respuestas con realizadores cuyas obras fueron exhibidas en la Segunda Muestra de Cortos del Cine. \n\nPrimera actividad paralela de la misma\, un espacio para intercambiar ideas\, compartir experiencias y despejar inquietudes sobre la realización cinematográfica. \nParticipan: \nNicolás Machi Muslera: La escollera \nWendy G. Castellanos: También Lucía \nGerónimo Ávila: Cuando me deje de ver \nFacundo Agüero: De Amor y Cine \nClara Rodriguez: Amanecer \nClaudia Preziozo: ¿Quiénes somos nosotras? \n\nActividad gratuita.\n 25/02 Canelones 1280  17:30\n¡Te esperamos! \n 
URL:https://cineuniversitariodeluruguay.org.uy/actividad/workshop-de-direccion-de-fotografia/
END:VEVENT
BEGIN:VEVENT
DTSTART;TZID=America/Montevideo:20250223T200000
DTEND;TZID=America/Montevideo:20250223T200000
DTSTAMP:20260419T130352
CREATED:20250202T202905Z
LAST-MODIFIED:20250202T230130Z
UID:10002026-1740340800-1740340800@cineuniversitariodeluruguay.org.uy
SUMMARY:La vida es bella
DESCRIPTION:En 1939\, a punto de estallar la Segunda Guerra Mundial (1939-1945)\, el extravagante Guido llega a Arezzo\, en la Toscana\, con la intención de abrir una librería. Allí conoce a la encantadora Dora y\, a pesar de que es la prometida del fascista Rodolfo\, se casa con ella y tiene un hijo. Al estallar la guerra\, los tres son internados en un campo de exterminio\, donde Guido hará lo imposible para hacer creer a su hijo que la terrible situación que están padeciendo es tan sólo un juego.
URL:https://cineuniversitariodeluruguay.org.uy/actividad/la-vida-es-bella-3/
ATTACH;FMTTYPE=image/jpeg:https://cineuniversitariodeluruguay.org.uy/wp-content/uploads/Lavidaesbella_45711-1-scaled.jpg
END:VEVENT
BEGIN:VEVENT
DTSTART;TZID=America/Montevideo:20250223T200000
DTEND;TZID=America/Montevideo:20250223T200000
DTSTAMP:20260419T130352
CREATED:20250201T145052Z
LAST-MODIFIED:20250202T230046Z
UID:10002010-1740340800-1740340800@cineuniversitariodeluruguay.org.uy
SUMMARY:Elvis on Tour
DESCRIPTION:Este documental captura a Elvis Presley en su gira estadounidense de 1972 e incluye ensayos\, entrevistas\, apariciones en televisión de archivo y momentos entre bastidores. Con Elvis en su momento más extravagante\, la película presenta éxitos conocidos y versiones de canciones que muestran sus influencias de country\, gospel y rhythm and blues.
URL:https://cineuniversitariodeluruguay.org.uy/actividad/elvis-on-tour/
ATTACH;FMTTYPE=image/jpeg:https://cineuniversitariodeluruguay.org.uy/wp-content/uploads/ElvisonTour_45711-1-scaled.jpg
END:VEVENT
BEGIN:VEVENT
DTSTART;TZID=America/Montevideo:20250223T174500
DTEND;TZID=America/Montevideo:20250223T174500
DTSTAMP:20260419T130352
CREATED:20250201T145049Z
LAST-MODIFIED:20250202T225951Z
UID:10002007-1740332700-1740332700@cineuniversitariodeluruguay.org.uy
SUMMARY:Best in Show
DESCRIPTION:Los participantes en un concurso de perros ven en su mascota la oportunidad de alcanzar la gloria y el reconocimiento que creen merecer\, hasta tal punto que son capaces de cualquier cosa con tal de ahuyentar a sus adversarios. Con sus perros caprichosos y de nombres estrafalarios\, los concursantes se desenvuelven en un medio donde la pureza de la raza es el máximo valor que puede tener un animal. Sus perros convenientemente adiestrados se han convertido en máquinas mimadas que saben controlarse para satisfacción de sus dueños.
URL:https://cineuniversitariodeluruguay.org.uy/actividad/best-in-show/
ATTACH;FMTTYPE=image/jpeg:https://cineuniversitariodeluruguay.org.uy/wp-content/uploads/BestinShow_45711-1.jpg
END:VEVENT
BEGIN:VEVENT
DTSTART;TZID=America/Montevideo:20250223T173000
DTEND;TZID=America/Montevideo:20250223T173000
DTSTAMP:20260419T130352
CREATED:20250201T145051Z
LAST-MODIFIED:20250202T225909Z
UID:10002009-1740331800-1740331800@cineuniversitariodeluruguay.org.uy
SUMMARY:Encrucijada
DESCRIPTION:Eugene tiene un gran talento para la guitarra clásica\, aunque su verdadero sueño es llegar a ser una estrella del Blues. Para conseguirlo\, se pone en contacto con el legendario músico Willie Brown\, que\, después de una vida marcada por el éxito\, vive en un asilo de ancianos.
URL:https://cineuniversitariodeluruguay.org.uy/actividad/encrucijada/
ATTACH;FMTTYPE=image/jpeg:https://cineuniversitariodeluruguay.org.uy/wp-content/uploads/Encrucijada_45711-1.jpg
END:VEVENT
BEGIN:VEVENT
DTSTART;TZID=America/Montevideo:20250222T200000
DTEND;TZID=America/Montevideo:20250222T200000
DTSTAMP:20260419T130352
CREATED:20250201T144153Z
LAST-MODIFIED:20250202T225807Z
UID:10002006-1740254400-1740254400@cineuniversitariodeluruguay.org.uy
SUMMARY:What We Do in the Shadows
DESCRIPTION:Viago\, Deacon y Vladislav son tres vampiros que comparten piso en Nueva Zelanda. Hacen lo posible por adaptarse a la sociedad moderna: pagan el alquiler\, se reparten las tareas domésticas e intentan que les inviten a entrar en los clubs. Una vida normal\, salvo por una pequeña diferencia: son inmortales y tienen que alimentarse de sangre humana. Cuando su compañero del sótano\, Petyr\, convierte en vampiro a Nick\, nuestros protagonistas deberán enseñarle como funciona todo en su recién estrenada vida eterna.
URL:https://cineuniversitariodeluruguay.org.uy/actividad/what-we-do-in-the-shadows/
ATTACH;FMTTYPE=image/jpeg:https://cineuniversitariodeluruguay.org.uy/wp-content/uploads/WhatWeDointheShadows_45710-1.jpg
END:VEVENT
BEGIN:VEVENT
DTSTART;TZID=America/Montevideo:20250222T194500
DTEND;TZID=America/Montevideo:20250222T194500
DTSTAMP:20260419T130352
CREATED:20250201T144151Z
LAST-MODIFIED:20250202T225729Z
UID:10002004-1740253500-1740253500@cineuniversitariodeluruguay.org.uy
SUMMARY:Mulholland Drive
DESCRIPTION:Betty\, una joven aspirante a actriz\, llega a Los Ángeles para convertirse en estrella de cine y se aloja en el apartamento de su tía. Allí conoce a Rita\, una mujer que padece amnesia a causa de un accidente en Mulholland Drive. Las dos juntas deciden investigar quién es Rita y cómo llegó hasta allí.
URL:https://cineuniversitariodeluruguay.org.uy/actividad/mulholland-drive-3/
ATTACH;FMTTYPE=image/jpeg:https://cineuniversitariodeluruguay.org.uy/wp-content/uploads/MulhollandDrive_45710-1.jpg
END:VEVENT
BEGIN:VEVENT
DTSTART;TZID=America/Montevideo:20250222T174500
DTEND;TZID=America/Montevideo:20250222T174500
DTSTAMP:20260419T130352
CREATED:20250201T144152Z
LAST-MODIFIED:20250202T225648Z
UID:10002005-1740246300-1740246300@cineuniversitariodeluruguay.org.uy
SUMMARY:Muerte bajo el sol
DESCRIPTION:La investigación sobre un diamante falso lleva al detective Hércules Poirot a alojarse en un hotel donde coincide con Arlena\, una actriz con un pasado tumultuoso a la que los demás huéspedes parecen odiar.
URL:https://cineuniversitariodeluruguay.org.uy/actividad/muerte-bajo-el-sol-2/
ATTACH;FMTTYPE=image/jpeg:https://cineuniversitariodeluruguay.org.uy/wp-content/uploads/Muertebajoelsol_45710-1.jpg
END:VEVENT
BEGIN:VEVENT
DTSTART;TZID=America/Montevideo:20250222T173000
DTEND;TZID=America/Montevideo:20250222T173000
DTSTAMP:20260419T130352
CREATED:20250201T144150Z
LAST-MODIFIED:20250202T225556Z
UID:10002003-1740245400-1740245400@cineuniversitariodeluruguay.org.uy
SUMMARY:La celada
DESCRIPTION:Narra la arriesgada lucha de un detective por cazar a su eterno y malvado enemigo\, un conductor que se ha escapado de las manos de la justicia y que es enormemente peligroso.
URL:https://cineuniversitariodeluruguay.org.uy/actividad/la-celada/
ATTACH;FMTTYPE=image/jpeg:https://cineuniversitariodeluruguay.org.uy/wp-content/uploads/Lacelada_45710-1.jpg
END:VEVENT
BEGIN:VEVENT
DTSTART;TZID=America/Montevideo:20250221T200000
DTEND;TZID=America/Montevideo:20250221T200000
DTSTAMP:20260419T130352
CREATED:20250201T144149Z
LAST-MODIFIED:20250202T225452Z
UID:10002002-1740168000-1740168000@cineuniversitariodeluruguay.org.uy
SUMMARY:Requiem
DESCRIPTION:En los años 70\, en una ciudad del sur de Alemania\, vive Micaela\, una muchacha que se ha criado en una familia profundamente religiosa\, con un padre cariñoso pero débil y una madre fría y distante. A pesar de llevar años librando una dura batalla contra la epilepsia\, Micaela desea fervientemente salir de casa para ir a la universidad. Una vez allí\, saborea la libertad por primera vez. Su incipiente amor por Stefan y su amistad con Hanna hacen que se rompa el escudo de la fe y de la familia\, bajo el cual siempre se había sentido segura y protegida. Basada en el mismo personaje que inspiró la historia de «El exorcismo de Emily Rose».
URL:https://cineuniversitariodeluruguay.org.uy/actividad/requiem/
END:VEVENT
BEGIN:VEVENT
DTSTART;TZID=America/Montevideo:20250221T174500
DTEND;TZID=America/Montevideo:20250221T174500
DTSTAMP:20260419T130352
CREATED:20250201T143953Z
LAST-MODIFIED:20250202T225351Z
UID:10002000-1740159900-1740159900@cineuniversitariodeluruguay.org.uy
SUMMARY:Plenilunio
DESCRIPTION:Plenilunio pertenece al pequeño grupo de películas producidas en el Río de la Plata sobre tema licantrópico. Plantea la historia de un grupo de adolescentes que se ven enfrentados a un hombre lobo albino que ya ha asesinado a varias personas.
URL:https://cineuniversitariodeluruguay.org.uy/actividad/plenilunio/
ATTACH;FMTTYPE=image/jpeg:https://cineuniversitariodeluruguay.org.uy/wp-content/uploads/Plenilunio_45709.jpg
END:VEVENT
END:VCALENDAR